BEGIN:VCALENDAR
VERSION:2.0
PRODID:https://www.kufer.de/kuferweb / DE
METHOD:PUBLISH
CALSCALE:GREGORIAN
X-WR-TIMEZONE:Europe/Berlin
BEGIN:VTIMEZONE
TZID:Europe/Berlin
X-LIC-LOCATION:Europe/Berlin
BEGIN:DAYLIGHT
TZOFFSETFROM:+0100
TZOFFSETTO:+0200
TZNAME:CEST
DTSTART:19700329T020000
RRULE:FREQ=YEARLY;INTERVAL=1;BYDAY=-1SU;BYMONTH=3
END:DAYLIGHT
BEGIN:STANDARD
TZOFFSETFROM:+0200
TZOFFSETTO:+0100
TZNAME:CET
DTSTART:19701025T030000
RRULE:FREQ=YEARLY;INTERVAL=1;BYDAY=-1SU;BYMONTH=10
END:STANDARD
END:VTIMEZONE
BEGIN:VEVENT
DTSTAMP:20260424T045834
DTSTART;TZID=Europe/Berlin:20260702T190000
DTEND;TZID=Europe/Berlin:20260702T200000
UID:26F03082-20260702T190000@VHSGÖTTINGEN OSTERODE GGMBH
SUMMARY:Zumba® Fitness - Sommerkurs (26F03082) 
LOCATION:Hann. Münden; Raum 2.5, Studio, Wilhelmshäuser Str. 90, 34346 Hann. Münden
END:VEVENT
BEGIN:VEVENT
DTSTAMP:20260424T045834
DTSTART;TZID=Europe/Berlin:20260709T190000
DTEND;TZID=Europe/Berlin:20260709T200000
UID:26F03082-20260709T190000@VHSGÖTTINGEN OSTERODE GGMBH
SUMMARY:Zumba® Fitness - Sommerkurs (26F03082) 
LOCATION:Hann. Münden; Raum 2.5, Studio, Wilhelmshäuser Str. 90, 34346 Hann. Münden
END:VEVENT
BEGIN:VEVENT
DTSTAMP:20260424T045834
DTSTART;TZID=Europe/Berlin:20260716T190000
DTEND;TZID=Europe/Berlin:20260716T200000
UID:26F03082-20260716T190000@VHSGÖTTINGEN OSTERODE GGMBH
SUMMARY:Zumba® Fitness - Sommerkurs (26F03082) 
LOCATION:Hann. Münden; Raum 2.5, Studio, Wilhelmshäuser Str. 90, 34346 Hann. Münden
END:VEVENT
BEGIN:VEVENT
DTSTAMP:20260424T045834
DTSTART;TZID=Europe/Berlin:20260723T190000
DTEND;TZID=Europe/Berlin:20260723T200000
UID:26F03082-20260723T190000@VHSGÖTTINGEN OSTERODE GGMBH
SUMMARY:Zumba® Fitness - Sommerkurs (26F03082) 
LOCATION:Hann. Münden; Raum 2.5, Studio, Wilhelmshäuser Str. 90, 34346 Hann. Münden
END:VEVENT
BEGIN:VEVENT
DTSTAMP:20260424T045834
DTSTART;TZID=Europe/Berlin:20260730T190000
DTEND;TZID=Europe/Berlin:20260730T200000
UID:26F03082-20260730T190000@VHSGÖTTINGEN OSTERODE GGMBH
SUMMARY:Zumba® Fitness - Sommerkurs (26F03082) 
LOCATION:Hann. Münden; Raum 2.5, Studio, Wilhelmshäuser Str. 90, 34346 Hann. Münden
END:VEVENT
END:VCALENDAR