BEGIN:VCALENDAR
VERSION:2.0
PRODID:https://www.kufer.de/kuferweb / DE
METHOD:PUBLISH
CALSCALE:GREGORIAN
X-WR-TIMEZONE:Europe/Berlin
BEGIN:VTIMEZONE
TZID:Europe/Berlin
X-LIC-LOCATION:Europe/Berlin
BEGIN:DAYLIGHT
TZOFFSETFROM:+0100
TZOFFSETTO:+0200
TZNAME:CEST
DTSTART:19700329T020000
RRULE:FREQ=YEARLY;INTERVAL=1;BYDAY=-1SU;BYMONTH=3
END:DAYLIGHT
BEGIN:STANDARD
TZOFFSETFROM:+0200
TZOFFSETTO:+0100
TZNAME:CET
DTSTART:19701025T030000
RRULE:FREQ=YEARLY;INTERVAL=1;BYDAY=-1SU;BYMONTH=10
END:STANDARD
END:VTIMEZONE
BEGIN:VEVENT
DTSTAMP:20260424T122517
DTSTART;TZID=Europe/Berlin:20260409T150000
DTEND;TZID=Europe/Berlin:20260409T160000
UID:26F04156-20260409T150000@VHSGÖTTINGEN OSTERODE GGMBH
SUMMARY:Yoga für den Rücken (26F04156) 
LOCATION:Kurzentrum Bad Grund, Elisabethstraße 1, 37539 Bad Grund
END:VEVENT
BEGIN:VEVENT
DTSTAMP:20260424T122517
DTSTART;TZID=Europe/Berlin:20260416T150000
DTEND;TZID=Europe/Berlin:20260416T160000
UID:26F04156-20260416T150000@VHSGÖTTINGEN OSTERODE GGMBH
SUMMARY:Yoga für den Rücken (26F04156) 
LOCATION:Kurzentrum Bad Grund, Elisabethstraße 1, 37539 Bad Grund
END:VEVENT
BEGIN:VEVENT
DTSTAMP:20260424T122517
DTSTART;TZID=Europe/Berlin:20260507T150000
DTEND;TZID=Europe/Berlin:20260507T160000
UID:26F04156-20260507T150000@VHSGÖTTINGEN OSTERODE GGMBH
SUMMARY:Yoga für den Rücken (26F04156) 
LOCATION:Kurzentrum Bad Grund, Elisabethstraße 1, 37539 Bad Grund
END:VEVENT
BEGIN:VEVENT
DTSTAMP:20260424T122517
DTSTART;TZID=Europe/Berlin:20260521T150000
DTEND;TZID=Europe/Berlin:20260521T160000
UID:26F04156-20260521T150000@VHSGÖTTINGEN OSTERODE GGMBH
SUMMARY:Yoga für den Rücken (26F04156) 
LOCATION:Kurzentrum Bad Grund, Elisabethstraße 1, 37539 Bad Grund
END:VEVENT
BEGIN:VEVENT
DTSTAMP:20260424T122517
DTSTART;TZID=Europe/Berlin:20260611T150000
DTEND;TZID=Europe/Berlin:20260611T160000
UID:26F04156-20260611T150000@VHSGÖTTINGEN OSTERODE GGMBH
SUMMARY:Yoga für den Rücken (26F04156) 
LOCATION:Kurzentrum Bad Grund, Elisabethstraße 1, 37539 Bad Grund
END:VEVENT
BEGIN:VEVENT
DTSTAMP:20260424T122517
DTSTART;TZID=Europe/Berlin:20260618T150000
DTEND;TZID=Europe/Berlin:20260618T160000
UID:26F04156-20260618T150000@VHSGÖTTINGEN OSTERODE GGMBH
SUMMARY:Yoga für den Rücken (26F04156) 
LOCATION:Kurzentrum Bad Grund, Elisabethstraße 1, 37539 Bad Grund
END:VEVENT
END:VCALENDAR