BEGIN:VCALENDAR
VERSION:2.0
PRODID:https://www.kufer.de/kuferweb / DE
METHOD:PUBLISH
CALSCALE:GREGORIAN
X-WR-TIMEZONE:Europe/Berlin
BEGIN:VTIMEZONE
TZID:Europe/Berlin
X-LIC-LOCATION:Europe/Berlin
BEGIN:DAYLIGHT
TZOFFSETFROM:+0100
TZOFFSETTO:+0200
TZNAME:CEST
DTSTART:19700329T020000
RRULE:FREQ=YEARLY;INTERVAL=1;BYDAY=-1SU;BYMONTH=3
END:DAYLIGHT
BEGIN:STANDARD
TZOFFSETFROM:+0200
TZOFFSETTO:+0100
TZNAME:CET
DTSTART:19701025T030000
RRULE:FREQ=YEARLY;INTERVAL=1;BYDAY=-1SU;BYMONTH=10
END:STANDARD
END:VTIMEZONE
BEGIN:VEVENT
DTSTAMP:20260420T063424
DTSTART;TZID=Europe/Berlin:20260414T100000
DTEND;TZID=Europe/Berlin:20260414T111500
UID:26F04167-20260414T100000@VHSGÖTTINGEN OSTERODE GGMBH
SUMMARY:BenefitYoga® auf dem Stuhl (26F04167) 
LOCATION:Duderstadt; Raum D 02, Marktsraße 75, 37115 Duderstadt
END:VEVENT
BEGIN:VEVENT
DTSTAMP:20260420T063424
DTSTART;TZID=Europe/Berlin:20260421T100000
DTEND;TZID=Europe/Berlin:20260421T111500
UID:26F04167-20260421T100000@VHSGÖTTINGEN OSTERODE GGMBH
SUMMARY:BenefitYoga® auf dem Stuhl (26F04167) 
LOCATION:Duderstadt; Raum D 02, Marktsraße 75, 37115 Duderstadt
END:VEVENT
BEGIN:VEVENT
DTSTAMP:20260420T063424
DTSTART;TZID=Europe/Berlin:20260428T100000
DTEND;TZID=Europe/Berlin:20260428T111500
UID:26F04167-20260428T100000@VHSGÖTTINGEN OSTERODE GGMBH
SUMMARY:BenefitYoga® auf dem Stuhl (26F04167) 
LOCATION:Duderstadt; Raum D 02, Marktsraße 75, 37115 Duderstadt
END:VEVENT
BEGIN:VEVENT
DTSTAMP:20260420T063424
DTSTART;TZID=Europe/Berlin:20260505T100000
DTEND;TZID=Europe/Berlin:20260505T111500
UID:26F04167-20260505T100000@VHSGÖTTINGEN OSTERODE GGMBH
SUMMARY:BenefitYoga® auf dem Stuhl (26F04167) 
LOCATION:Duderstadt; Raum D 02, Marktsraße 75, 37115 Duderstadt
END:VEVENT
BEGIN:VEVENT
DTSTAMP:20260420T063424
DTSTART;TZID=Europe/Berlin:20260512T100000
DTEND;TZID=Europe/Berlin:20260512T111500
UID:26F04167-20260512T100000@VHSGÖTTINGEN OSTERODE GGMBH
SUMMARY:BenefitYoga® auf dem Stuhl (26F04167) 
LOCATION:Duderstadt; Raum D 02, Marktsraße 75, 37115 Duderstadt
END:VEVENT
BEGIN:VEVENT
DTSTAMP:20260420T063424
DTSTART;TZID=Europe/Berlin:20260519T100000
DTEND;TZID=Europe/Berlin:20260519T111500
UID:26F04167-20260519T100000@VHSGÖTTINGEN OSTERODE GGMBH
SUMMARY:BenefitYoga® auf dem Stuhl (26F04167) 
LOCATION:Duderstadt; Raum D 02, Marktsraße 75, 37115 Duderstadt
END:VEVENT
BEGIN:VEVENT
DTSTAMP:20260420T063424
DTSTART;TZID=Europe/Berlin:20260526T100000
DTEND;TZID=Europe/Berlin:20260526T111500
UID:26F04167-20260526T100000@VHSGÖTTINGEN OSTERODE GGMBH
SUMMARY:BenefitYoga® auf dem Stuhl (26F04167) 
LOCATION:Duderstadt; Raum D 02, Marktsraße 75, 37115 Duderstadt
END:VEVENT
BEGIN:VEVENT
DTSTAMP:20260420T063424
DTSTART;TZID=Europe/Berlin:20260602T100000
DTEND;TZID=Europe/Berlin:20260602T111500
UID:26F04167-20260602T100000@VHSGÖTTINGEN OSTERODE GGMBH
SUMMARY:BenefitYoga® auf dem Stuhl (26F04167) 
LOCATION:Duderstadt; Raum D 02, Marktsraße 75, 37115 Duderstadt
END:VEVENT
END:VCALENDAR