BEGIN:VCALENDAR
VERSION:2.0
PRODID:https://www.kufer.de/kuferweb / DE
METHOD:PUBLISH
CALSCALE:GREGORIAN
X-WR-TIMEZONE:Europe/Berlin
BEGIN:VTIMEZONE
TZID:Europe/Berlin
X-LIC-LOCATION:Europe/Berlin
BEGIN:DAYLIGHT
TZOFFSETFROM:+0100
TZOFFSETTO:+0200
TZNAME:CEST
DTSTART:19700329T020000
RRULE:FREQ=YEARLY;INTERVAL=1;BYDAY=-1SU;BYMONTH=3
END:DAYLIGHT
BEGIN:STANDARD
TZOFFSETFROM:+0200
TZOFFSETTO:+0100
TZNAME:CET
DTSTART:19701025T030000
RRULE:FREQ=YEARLY;INTERVAL=1;BYDAY=-1SU;BYMONTH=10
END:STANDARD
END:VTIMEZONE
BEGIN:VEVENT
DTSTAMP:20260420T063423
DTSTART;TZID=Europe/Berlin:20260511T173000
DTEND;TZID=Europe/Berlin:20260511T190000
UID:26F04168-20260511T173000@VHSGÖTTINGEN OSTERODE GGMBH
SUMMARY:Nordic Walking trifft Yoga (26F04168) 
LOCATION:Duderstadt, Kutschenberg - Ecke Lindenberg, Kutschenberg, 37115 Duderstadt
END:VEVENT
BEGIN:VEVENT
DTSTAMP:20260420T063423
DTSTART;TZID=Europe/Berlin:20260518T173000
DTEND;TZID=Europe/Berlin:20260518T190000
UID:26F04168-20260518T173000@VHSGÖTTINGEN OSTERODE GGMBH
SUMMARY:Nordic Walking trifft Yoga (26F04168) 
LOCATION:Duderstadt, Kutschenberg - Ecke Lindenberg, Kutschenberg, 37115 Duderstadt
END:VEVENT
BEGIN:VEVENT
DTSTAMP:20260420T063423
DTSTART;TZID=Europe/Berlin:20260601T173000
DTEND;TZID=Europe/Berlin:20260601T190000
UID:26F04168-20260601T173000@VHSGÖTTINGEN OSTERODE GGMBH
SUMMARY:Nordic Walking trifft Yoga (26F04168) 
LOCATION:Duderstadt, Kutschenberg - Ecke Lindenberg, Kutschenberg, 37115 Duderstadt
END:VEVENT
BEGIN:VEVENT
DTSTAMP:20260420T063423
DTSTART;TZID=Europe/Berlin:20260608T173000
DTEND;TZID=Europe/Berlin:20260608T190000
UID:26F04168-20260608T173000@VHSGÖTTINGEN OSTERODE GGMBH
SUMMARY:Nordic Walking trifft Yoga (26F04168) 
LOCATION:Duderstadt, Kutschenberg - Ecke Lindenberg, Kutschenberg, 37115 Duderstadt
END:VEVENT
BEGIN:VEVENT
DTSTAMP:20260420T063423
DTSTART;TZID=Europe/Berlin:20260622T173000
DTEND;TZID=Europe/Berlin:20260622T190000
UID:26F04168-20260622T173000@VHSGÖTTINGEN OSTERODE GGMBH
SUMMARY:Nordic Walking trifft Yoga (26F04168) 
LOCATION:Duderstadt, Kutschenberg - Ecke Lindenberg, Kutschenberg, 37115 Duderstadt
END:VEVENT
BEGIN:VEVENT
DTSTAMP:20260420T063423
DTSTART;TZID=Europe/Berlin:20260629T173000
DTEND;TZID=Europe/Berlin:20260629T190000
UID:26F04168-20260629T173000@VHSGÖTTINGEN OSTERODE GGMBH
SUMMARY:Nordic Walking trifft Yoga (26F04168) 
LOCATION:Duderstadt, Kutschenberg - Ecke Lindenberg, Kutschenberg, 37115 Duderstadt
END:VEVENT
BEGIN:VEVENT
DTSTAMP:20260420T063423
DTSTART;TZID=Europe/Berlin:20260706T173000
DTEND;TZID=Europe/Berlin:20260706T190000
UID:26F04168-20260706T173000@VHSGÖTTINGEN OSTERODE GGMBH
SUMMARY:Nordic Walking trifft Yoga (26F04168) 
LOCATION:Duderstadt, Kutschenberg - Ecke Lindenberg, Kutschenberg, 37115 Duderstadt
END:VEVENT
BEGIN:VEVENT
DTSTAMP:20260420T063423
DTSTART;TZID=Europe/Berlin:20260713T173000
DTEND;TZID=Europe/Berlin:20260713T190000
UID:26F04168-20260713T173000@VHSGÖTTINGEN OSTERODE GGMBH
SUMMARY:Nordic Walking trifft Yoga (26F04168) 
LOCATION:Duderstadt, Kutschenberg - Ecke Lindenberg, Kutschenberg, 37115 Duderstadt
END:VEVENT
BEGIN:VEVENT
DTSTAMP:20260420T063423
DTSTART;TZID=Europe/Berlin:20260720T173000
DTEND;TZID=Europe/Berlin:20260720T190000
UID:26F04168-20260720T173000@VHSGÖTTINGEN OSTERODE GGMBH
SUMMARY:Nordic Walking trifft Yoga (26F04168) 
LOCATION:Duderstadt, Kutschenberg - Ecke Lindenberg, Kutschenberg, 37115 Duderstadt
END:VEVENT
BEGIN:VEVENT
DTSTAMP:20260420T063423
DTSTART;TZID=Europe/Berlin:20260727T173000
DTEND;TZID=Europe/Berlin:20260727T190000
UID:26F04168-20260727T173000@VHSGÖTTINGEN OSTERODE GGMBH
SUMMARY:Nordic Walking trifft Yoga (26F04168) 
LOCATION:Duderstadt, Kutschenberg - Ecke Lindenberg, Kutschenberg, 37115 Duderstadt
END:VEVENT
END:VCALENDAR