BEGIN:VCALENDAR
VERSION:2.0
PRODID:https://www.kufer.de/kuferweb / DE
METHOD:PUBLISH
CALSCALE:GREGORIAN
X-WR-TIMEZONE:Europe/Berlin
BEGIN:VTIMEZONE
TZID:Europe/Berlin
X-LIC-LOCATION:Europe/Berlin
BEGIN:DAYLIGHT
TZOFFSETFROM:+0100
TZOFFSETTO:+0200
TZNAME:CEST
DTSTART:19700329T020000
RRULE:FREQ=YEARLY;INTERVAL=1;BYDAY=-1SU;BYMONTH=3
END:DAYLIGHT
BEGIN:STANDARD
TZOFFSETFROM:+0200
TZOFFSETTO:+0100
TZNAME:CET
DTSTART:19701025T030000
RRULE:FREQ=YEARLY;INTERVAL=1;BYDAY=-1SU;BYMONTH=10
END:STANDARD
END:VTIMEZONE
BEGIN:VEVENT
DTSTAMP:20260420T103129
DTSTART;TZID=Europe/Berlin:20260608T083000
DTEND;TZID=Europe/Berlin:20260608T160000
UID:26F04560-20260608T083000@VHSGÖTTINGEN OSTERODE GGMBH
SUMMARY:Stressbewältigung im Beruf und Alltag (Bildungsurlaub) (26F04560) 
LOCATION:Duderstadt; Raum 0.04 Cafeteria, Marktsraße 75, 37115 Duderstadt
END:VEVENT
BEGIN:VEVENT
DTSTAMP:20260420T103129
DTSTART;TZID=Europe/Berlin:20260609T083000
DTEND;TZID=Europe/Berlin:20260609T160000
UID:26F04560-20260609T083000@VHSGÖTTINGEN OSTERODE GGMBH
SUMMARY:Stressbewältigung im Beruf und Alltag (Bildungsurlaub) (26F04560) 
LOCATION:Duderstadt; Raum 0.04 Cafeteria, Marktsraße 75, 37115 Duderstadt
END:VEVENT
BEGIN:VEVENT
DTSTAMP:20260420T103129
DTSTART;TZID=Europe/Berlin:20260610T083000
DTEND;TZID=Europe/Berlin:20260610T160000
UID:26F04560-20260610T083000@VHSGÖTTINGEN OSTERODE GGMBH
SUMMARY:Stressbewältigung im Beruf und Alltag (Bildungsurlaub) (26F04560) 
LOCATION:Duderstadt; Raum 0.04 Cafeteria, Marktsraße 75, 37115 Duderstadt
END:VEVENT
BEGIN:VEVENT
DTSTAMP:20260420T103129
DTSTART;TZID=Europe/Berlin:20260611T083000
DTEND;TZID=Europe/Berlin:20260611T160000
UID:26F04560-20260611T083000@VHSGÖTTINGEN OSTERODE GGMBH
SUMMARY:Stressbewältigung im Beruf und Alltag (Bildungsurlaub) (26F04560) 
LOCATION:Duderstadt; Raum 0.04 Cafeteria, Marktsraße 75, 37115 Duderstadt
END:VEVENT
BEGIN:VEVENT
DTSTAMP:20260420T103129
DTSTART;TZID=Europe/Berlin:20260612T083000
DTEND;TZID=Europe/Berlin:20260612T160000
UID:26F04560-20260612T083000@VHSGÖTTINGEN OSTERODE GGMBH
SUMMARY:Stressbewältigung im Beruf und Alltag (Bildungsurlaub) (26F04560) 
LOCATION:Duderstadt; Raum 0.04 Cafeteria, Marktsraße 75, 37115 Duderstadt
END:VEVENT
END:VCALENDAR