BEGIN:VCALENDAR
VERSION:2.0
PRODID:https://www.kufer.de/kuferweb / DE
METHOD:PUBLISH
CALSCALE:GREGORIAN
X-WR-TIMEZONE:Europe/Berlin
BEGIN:VTIMEZONE
TZID:Europe/Berlin
X-LIC-LOCATION:Europe/Berlin
BEGIN:DAYLIGHT
TZOFFSETFROM:+0100
TZOFFSETTO:+0200
TZNAME:CEST
DTSTART:19700329T020000
RRULE:FREQ=YEARLY;INTERVAL=1;BYDAY=-1SU;BYMONTH=3
END:DAYLIGHT
BEGIN:STANDARD
TZOFFSETFROM:+0200
TZOFFSETTO:+0100
TZNAME:CET
DTSTART:19701025T030000
RRULE:FREQ=YEARLY;INTERVAL=1;BYDAY=-1SU;BYMONTH=10
END:STANDARD
END:VTIMEZONE
BEGIN:VEVENT
DTSTAMP:20260420T063424
DTSTART;TZID=Europe/Berlin:20260817T083000
DTEND;TZID=Europe/Berlin:20260817T160000
UID:26F04561-20260817T083000@VHSGÖTTINGEN OSTERODE GGMBH
SUMMARY:Stressprävention für Beruf und Alltag (Bildungsurlaub) (26F04561) 
LOCATION:Duderstadt; Raum D 02, Marktsraße 75, 37115 Duderstadt
END:VEVENT
BEGIN:VEVENT
DTSTAMP:20260420T063424
DTSTART;TZID=Europe/Berlin:20260818T083000
DTEND;TZID=Europe/Berlin:20260818T160000
UID:26F04561-20260818T083000@VHSGÖTTINGEN OSTERODE GGMBH
SUMMARY:Stressprävention für Beruf und Alltag (Bildungsurlaub) (26F04561) 
LOCATION:Duderstadt; Raum D 02, Marktsraße 75, 37115 Duderstadt
END:VEVENT
BEGIN:VEVENT
DTSTAMP:20260420T063424
DTSTART;TZID=Europe/Berlin:20260819T083000
DTEND;TZID=Europe/Berlin:20260819T160000
UID:26F04561-20260819T083000@VHSGÖTTINGEN OSTERODE GGMBH
SUMMARY:Stressprävention für Beruf und Alltag (Bildungsurlaub) (26F04561) 
LOCATION:Duderstadt; Raum D 02, Marktsraße 75, 37115 Duderstadt
END:VEVENT
BEGIN:VEVENT
DTSTAMP:20260420T063424
DTSTART;TZID=Europe/Berlin:20260820T083000
DTEND;TZID=Europe/Berlin:20260820T160000
UID:26F04561-20260820T083000@VHSGÖTTINGEN OSTERODE GGMBH
SUMMARY:Stressprävention für Beruf und Alltag (Bildungsurlaub) (26F04561) 
LOCATION:Duderstadt; Raum D 02, Marktsraße 75, 37115 Duderstadt
END:VEVENT
BEGIN:VEVENT
DTSTAMP:20260420T063424
DTSTART;TZID=Europe/Berlin:20260821T083000
DTEND;TZID=Europe/Berlin:20260821T160000
UID:26F04561-20260821T083000@VHSGÖTTINGEN OSTERODE GGMBH
SUMMARY:Stressprävention für Beruf und Alltag (Bildungsurlaub) (26F04561) 
LOCATION:Duderstadt; Raum D 02, Marktsraße 75, 37115 Duderstadt
END:VEVENT
END:VCALENDAR