BEGIN:VCALENDAR
VERSION:2.0
PRODID:https://www.kufer.de/kuferweb / DE
METHOD:PUBLISH
CALSCALE:GREGORIAN
X-WR-TIMEZONE:Europe/Berlin
BEGIN:VTIMEZONE
TZID:Europe/Berlin
X-LIC-LOCATION:Europe/Berlin
BEGIN:DAYLIGHT
TZOFFSETFROM:+0100
TZOFFSETTO:+0200
TZNAME:CEST
DTSTART:19700329T020000
RRULE:FREQ=YEARLY;INTERVAL=1;BYDAY=-1SU;BYMONTH=3
END:DAYLIGHT
BEGIN:STANDARD
TZOFFSETFROM:+0200
TZOFFSETTO:+0100
TZNAME:CET
DTSTART:19701025T030000
RRULE:FREQ=YEARLY;INTERVAL=1;BYDAY=-1SU;BYMONTH=10
END:STANDARD
END:VTIMEZONE
BEGIN:VEVENT
DTSTAMP:20260420T104847
DTSTART;TZID=Europe/Berlin:20260415T190000
DTEND;TZID=Europe/Berlin:20260415T203000
UID:26F04702-20260415T190000@VHSGÖTTINGEN OSTERODE GGMBH
SUMMARY:Meditation im Alltag: Die Achtsamkeit - Innehalten und Pausieren (26F04702) 
LOCATION:Lebendiges Zen e. V., Gotmarstraße 3, 37073 Göttingen
END:VEVENT
BEGIN:VEVENT
DTSTAMP:20260420T104847
DTSTART;TZID=Europe/Berlin:20260422T190000
DTEND;TZID=Europe/Berlin:20260422T203000
UID:26F04702-20260422T190000@VHSGÖTTINGEN OSTERODE GGMBH
SUMMARY:Meditation im Alltag: Die Achtsamkeit - Innehalten und Pausieren (26F04702) 
LOCATION:Lebendiges Zen e. V., Gotmarstraße 3, 37073 Göttingen
END:VEVENT
BEGIN:VEVENT
DTSTAMP:20260420T104847
DTSTART;TZID=Europe/Berlin:20260429T190000
DTEND;TZID=Europe/Berlin:20260429T203000
UID:26F04702-20260429T190000@VHSGÖTTINGEN OSTERODE GGMBH
SUMMARY:Meditation im Alltag: Die Achtsamkeit - Innehalten und Pausieren (26F04702) 
LOCATION:Lebendiges Zen e. V., Gotmarstraße 3, 37073 Göttingen
END:VEVENT
BEGIN:VEVENT
DTSTAMP:20260420T104847
DTSTART;TZID=Europe/Berlin:20260506T190000
DTEND;TZID=Europe/Berlin:20260506T203000
UID:26F04702-20260506T190000@VHSGÖTTINGEN OSTERODE GGMBH
SUMMARY:Meditation im Alltag: Die Achtsamkeit - Innehalten und Pausieren (26F04702) 
LOCATION:Lebendiges Zen e. V., Gotmarstraße 3, 37073 Göttingen
END:VEVENT
BEGIN:VEVENT
DTSTAMP:20260420T104847
DTSTART;TZID=Europe/Berlin:20260513T190000
DTEND;TZID=Europe/Berlin:20260513T203000
UID:26F04702-20260513T190000@VHSGÖTTINGEN OSTERODE GGMBH
SUMMARY:Meditation im Alltag: Die Achtsamkeit - Innehalten und Pausieren (26F04702) 
LOCATION:Lebendiges Zen e. V., Gotmarstraße 3, 37073 Göttingen
END:VEVENT
BEGIN:VEVENT
DTSTAMP:20260420T104847
DTSTART;TZID=Europe/Berlin:20260520T190000
DTEND;TZID=Europe/Berlin:20260520T203000
UID:26F04702-20260520T190000@VHSGÖTTINGEN OSTERODE GGMBH
SUMMARY:Meditation im Alltag: Die Achtsamkeit - Innehalten und Pausieren (26F04702) 
LOCATION:Lebendiges Zen e. V., Gotmarstraße 3, 37073 Göttingen
END:VEVENT
BEGIN:VEVENT
DTSTAMP:20260420T104847
DTSTART;TZID=Europe/Berlin:20260527T190000
DTEND;TZID=Europe/Berlin:20260527T203000
UID:26F04702-20260527T190000@VHSGÖTTINGEN OSTERODE GGMBH
SUMMARY:Meditation im Alltag: Die Achtsamkeit - Innehalten und Pausieren (26F04702) 
LOCATION:Lebendiges Zen e. V., Gotmarstraße 3, 37073 Göttingen
END:VEVENT
BEGIN:VEVENT
DTSTAMP:20260420T104847
DTSTART;TZID=Europe/Berlin:20260603T190000
DTEND;TZID=Europe/Berlin:20260603T203000
UID:26F04702-20260603T190000@VHSGÖTTINGEN OSTERODE GGMBH
SUMMARY:Meditation im Alltag: Die Achtsamkeit - Innehalten und Pausieren (26F04702) 
LOCATION:Lebendiges Zen e. V., Gotmarstraße 3, 37073 Göttingen
END:VEVENT
BEGIN:VEVENT
DTSTAMP:20260420T104847
DTSTART;TZID=Europe/Berlin:20260610T190000
DTEND;TZID=Europe/Berlin:20260610T203000
UID:26F04702-20260610T190000@VHSGÖTTINGEN OSTERODE GGMBH
SUMMARY:Meditation im Alltag: Die Achtsamkeit - Innehalten und Pausieren (26F04702) 
LOCATION:Lebendiges Zen e. V., Gotmarstraße 3, 37073 Göttingen
END:VEVENT
BEGIN:VEVENT
DTSTAMP:20260420T104847
DTSTART;TZID=Europe/Berlin:20260617T190000
DTEND;TZID=Europe/Berlin:20260617T203000
UID:26F04702-20260617T190000@VHSGÖTTINGEN OSTERODE GGMBH
SUMMARY:Meditation im Alltag: Die Achtsamkeit - Innehalten und Pausieren (26F04702) 
LOCATION:Lebendiges Zen e. V., Gotmarstraße 3, 37073 Göttingen
END:VEVENT
END:VCALENDAR