BEGIN:VCALENDAR
VERSION:2.0
PRODID:https://www.kufer.de/kuferweb / DE
METHOD:PUBLISH
CALSCALE:GREGORIAN
X-WR-TIMEZONE:Europe/Berlin
BEGIN:VTIMEZONE
TZID:Europe/Berlin
X-LIC-LOCATION:Europe/Berlin
BEGIN:DAYLIGHT
TZOFFSETFROM:+0100
TZOFFSETTO:+0200
TZNAME:CEST
DTSTART:19700329T020000
RRULE:FREQ=YEARLY;INTERVAL=1;BYDAY=-1SU;BYMONTH=3
END:DAYLIGHT
BEGIN:STANDARD
TZOFFSETFROM:+0200
TZOFFSETTO:+0100
TZNAME:CET
DTSTART:19701025T030000
RRULE:FREQ=YEARLY;INTERVAL=1;BYDAY=-1SU;BYMONTH=10
END:STANDARD
END:VTIMEZONE
BEGIN:VEVENT
DTSTAMP:20260424T081049
DTSTART;TZID=Europe/Berlin:20260706T100000
DTEND;TZID=Europe/Berlin:20260706T170000
UID:26F21384-20260706T100000@VHSGÖTTINGEN OSTERODE GGMBH
SUMMARY:Deine Stadt als Spiel – Gestalte Hann. Münden digital! - Ferienworkshop (26F21384) 
LOCATION:Mehrgenerationenhaus, Friedrich-Ludwig-Jahn Straße 4, 34346 Hann. Münden
END:VEVENT
BEGIN:VEVENT
DTSTAMP:20260424T081049
DTSTART;TZID=Europe/Berlin:20260707T100000
DTEND;TZID=Europe/Berlin:20260707T170000
UID:26F21384-20260707T100000@VHSGÖTTINGEN OSTERODE GGMBH
SUMMARY:Deine Stadt als Spiel – Gestalte Hann. Münden digital! - Ferienworkshop (26F21384) 
LOCATION:Mehrgenerationenhaus, Friedrich-Ludwig-Jahn Straße 4, 34346 Hann. Münden
END:VEVENT
BEGIN:VEVENT
DTSTAMP:20260424T081049
DTSTART;TZID=Europe/Berlin:20260708T100000
DTEND;TZID=Europe/Berlin:20260708T170000
UID:26F21384-20260708T100000@VHSGÖTTINGEN OSTERODE GGMBH
SUMMARY:Deine Stadt als Spiel – Gestalte Hann. Münden digital! - Ferienworkshop (26F21384) 
LOCATION:Mehrgenerationenhaus, Friedrich-Ludwig-Jahn Straße 4, 34346 Hann. Münden
END:VEVENT
END:VCALENDAR