BEGIN:VCALENDAR
VERSION:2.0
PRODID:https://www.kufer.de/kuferweb / DE
METHOD:PUBLISH
CALSCALE:GREGORIAN
X-WR-TIMEZONE:Europe/Berlin
BEGIN:VTIMEZONE
TZID:Europe/Berlin
X-LIC-LOCATION:Europe/Berlin
BEGIN:DAYLIGHT
TZOFFSETFROM:+0100
TZOFFSETTO:+0200
TZNAME:CEST
DTSTART:19700329T020000
RRULE:FREQ=YEARLY;INTERVAL=1;BYDAY=-1SU;BYMONTH=3
END:DAYLIGHT
BEGIN:STANDARD
TZOFFSETFROM:+0200
TZOFFSETTO:+0100
TZNAME:CET
DTSTART:19701025T030000
RRULE:FREQ=YEARLY;INTERVAL=1;BYDAY=-1SU;BYMONTH=10
END:STANDARD
END:VTIMEZONE
BEGIN:VEVENT
DTSTAMP:20260424T081102
DTSTART;TZID=Europe/Berlin:20260719T100000
DTEND;TZID=Europe/Berlin:20260719T170000
UID:26F21386-20260719T100000@VHSGÖTTINGEN OSTERODE GGMBH
SUMMARY:Zukunft im Bild – Deine Vision als Film - Ferienworkshop (26F21386) 
LOCATION:Mehrgenerationenhaus, Friedrich-Ludwig-Jahn Straße 4, 34346 Hann. Münden
END:VEVENT
BEGIN:VEVENT
DTSTAMP:20260424T081102
DTSTART;TZID=Europe/Berlin:20260720T100000
DTEND;TZID=Europe/Berlin:20260720T170000
UID:26F21386-20260720T100000@VHSGÖTTINGEN OSTERODE GGMBH
SUMMARY:Zukunft im Bild – Deine Vision als Film - Ferienworkshop (26F21386) 
LOCATION:Mehrgenerationenhaus, Friedrich-Ludwig-Jahn Straße 4, 34346 Hann. Münden
END:VEVENT
BEGIN:VEVENT
DTSTAMP:20260424T081102
DTSTART;TZID=Europe/Berlin:20260721T100000
DTEND;TZID=Europe/Berlin:20260721T170000
UID:26F21386-20260721T100000@VHSGÖTTINGEN OSTERODE GGMBH
SUMMARY:Zukunft im Bild – Deine Vision als Film - Ferienworkshop (26F21386) 
LOCATION:Mehrgenerationenhaus, Friedrich-Ludwig-Jahn Straße 4, 34346 Hann. Münden
END:VEVENT
BEGIN:VEVENT
DTSTAMP:20260424T081102
DTSTART;TZID=Europe/Berlin:20260722T100000
DTEND;TZID=Europe/Berlin:20260722T170000
UID:26F21386-20260722T100000@VHSGÖTTINGEN OSTERODE GGMBH
SUMMARY:Zukunft im Bild – Deine Vision als Film - Ferienworkshop (26F21386) 
LOCATION:Mehrgenerationenhaus, Friedrich-Ludwig-Jahn Straße 4, 34346 Hann. Münden
END:VEVENT
END:VCALENDAR