BEGIN:VCALENDAR
VERSION:2.0
PRODID:https://www.kufer.de/kuferweb / DE
METHOD:PUBLISH
CALSCALE:GREGORIAN
X-WR-TIMEZONE:Europe/Berlin
BEGIN:VTIMEZONE
TZID:Europe/Berlin
X-LIC-LOCATION:Europe/Berlin
BEGIN:DAYLIGHT
TZOFFSETFROM:+0100
TZOFFSETTO:+0200
TZNAME:CEST
DTSTART:19700329T020000
RRULE:FREQ=YEARLY;INTERVAL=1;BYDAY=-1SU;BYMONTH=3
END:DAYLIGHT
BEGIN:STANDARD
TZOFFSETFROM:+0200
TZOFFSETTO:+0100
TZNAME:CET
DTSTART:19701025T030000
RRULE:FREQ=YEARLY;INTERVAL=1;BYDAY=-1SU;BYMONTH=10
END:STANDARD
END:VTIMEZONE
BEGIN:VEVENT
DTSTAMP:20260420T104847
DTSTART;TZID=Europe/Berlin:20260410T140000
DTEND;TZID=Europe/Berlin:20260410T174500
UID:26F32440-20260410T140000@VHSGÖTTINGEN OSTERODE GGMBH
SUMMARY:Ton in meinen Händen - am Wochenende (26F32440) 
LOCATION:Osterode C1.6 (Kreativraum), Neustädter Tor 1-3, 37520 Osterode am Harz
END:VEVENT
BEGIN:VEVENT
DTSTAMP:20260420T104847
DTSTART;TZID=Europe/Berlin:20260411T100000
DTEND;TZID=Europe/Berlin:20260411T160000
UID:26F32440-20260411T100000@VHSGÖTTINGEN OSTERODE GGMBH
SUMMARY:Ton in meinen Händen - am Wochenende (26F32440) 
LOCATION:Osterode C1.6 (Kreativraum), Neustädter Tor 1-3, 37520 Osterode am Harz
END:VEVENT
BEGIN:VEVENT
DTSTAMP:20260420T104847
DTSTART;TZID=Europe/Berlin:20260509T100000
DTEND;TZID=Europe/Berlin:20260509T160000
UID:26F32440-20260509T100000@VHSGÖTTINGEN OSTERODE GGMBH
DESCRIPTION:Glasurtermin
SUMMARY:Ton in meinen Händen - am Wochenende (26F32440) 
LOCATION:Osterode C1.6 (Kreativraum), Neustädter Tor 1-3, 37520 Osterode am Harz
END:VEVENT
END:VCALENDAR