BEGIN:VCALENDAR
VERSION:2.0
PRODID:https://www.kufer.de/kuferweb / DE
METHOD:PUBLISH
CALSCALE:GREGORIAN
X-WR-TIMEZONE:Europe/Berlin
BEGIN:VTIMEZONE
TZID:Europe/Berlin
X-LIC-LOCATION:Europe/Berlin
BEGIN:DAYLIGHT
TZOFFSETFROM:+0100
TZOFFSETTO:+0200
TZNAME:CEST
DTSTART:19700329T020000
RRULE:FREQ=YEARLY;INTERVAL=1;BYDAY=-1SU;BYMONTH=3
END:DAYLIGHT
BEGIN:STANDARD
TZOFFSETFROM:+0200
TZOFFSETTO:+0100
TZNAME:CET
DTSTART:19701025T030000
RRULE:FREQ=YEARLY;INTERVAL=1;BYDAY=-1SU;BYMONTH=10
END:STANDARD
END:VTIMEZONE
BEGIN:VEVENT
DTSTAMP:20260420T063422
DTSTART;TZID=Europe/Berlin:20260602T140000
DTEND;TZID=Europe/Berlin:20260602T144500
UID:26F35114-20260602T140000@VHSGÖTTINGEN OSTERODE GGMBH
SUMMARY:Gitarre Kinder IV (26F35114) 
LOCATION:Grundschule am Sonnenberg; Eingang E, Rathausparkplatz, Gitarrenra, Südring 25, 37120 Bovenden
END:VEVENT
BEGIN:VEVENT
DTSTAMP:20260420T063422
DTSTART;TZID=Europe/Berlin:20260609T140000
DTEND;TZID=Europe/Berlin:20260609T144500
UID:26F35114-20260609T140000@VHSGÖTTINGEN OSTERODE GGMBH
SUMMARY:Gitarre Kinder IV (26F35114) 
LOCATION:Grundschule am Sonnenberg; Eingang E, Rathausparkplatz, Gitarrenra, Südring 25, 37120 Bovenden
END:VEVENT
BEGIN:VEVENT
DTSTAMP:20260420T063422
DTSTART;TZID=Europe/Berlin:20260616T140000
DTEND;TZID=Europe/Berlin:20260616T144500
UID:26F35114-20260616T140000@VHSGÖTTINGEN OSTERODE GGMBH
SUMMARY:Gitarre Kinder IV (26F35114) 
LOCATION:Grundschule am Sonnenberg; Eingang E, Rathausparkplatz, Gitarrenra, Südring 25, 37120 Bovenden
END:VEVENT
BEGIN:VEVENT
DTSTAMP:20260420T063422
DTSTART;TZID=Europe/Berlin:20260623T140000
DTEND;TZID=Europe/Berlin:20260623T144500
UID:26F35114-20260623T140000@VHSGÖTTINGEN OSTERODE GGMBH
SUMMARY:Gitarre Kinder IV (26F35114) 
LOCATION:Grundschule am Sonnenberg; Eingang E, Rathausparkplatz, Gitarrenra, Südring 25, 37120 Bovenden
END:VEVENT
BEGIN:VEVENT
DTSTAMP:20260420T063422
DTSTART;TZID=Europe/Berlin:20260630T140000
DTEND;TZID=Europe/Berlin:20260630T144500
UID:26F35114-20260630T140000@VHSGÖTTINGEN OSTERODE GGMBH
SUMMARY:Gitarre Kinder IV (26F35114) 
LOCATION:Grundschule am Sonnenberg; Eingang E, Rathausparkplatz, Gitarrenra, Südring 25, 37120 Bovenden
END:VEVENT
BEGIN:VEVENT
DTSTAMP:20260420T063422
DTSTART;TZID=Europe/Berlin:20260818T140000
DTEND;TZID=Europe/Berlin:20260818T144500
UID:26F35114-20260818T140000@VHSGÖTTINGEN OSTERODE GGMBH
SUMMARY:Gitarre Kinder IV (26F35114) 
LOCATION:Grundschule am Sonnenberg; Eingang E, Rathausparkplatz, Gitarrenra, Südring 25, 37120 Bovenden
END:VEVENT
BEGIN:VEVENT
DTSTAMP:20260420T063422
DTSTART;TZID=Europe/Berlin:20260825T140000
DTEND;TZID=Europe/Berlin:20260825T144500
UID:26F35114-20260825T140000@VHSGÖTTINGEN OSTERODE GGMBH
SUMMARY:Gitarre Kinder IV (26F35114) 
LOCATION:Grundschule am Sonnenberg; Eingang E, Rathausparkplatz, Gitarrenra, Südring 25, 37120 Bovenden
END:VEVENT
BEGIN:VEVENT
DTSTAMP:20260420T063422
DTSTART;TZID=Europe/Berlin:20260901T140000
DTEND;TZID=Europe/Berlin:20260901T144500
UID:26F35114-20260901T140000@VHSGÖTTINGEN OSTERODE GGMBH
SUMMARY:Gitarre Kinder IV (26F35114) 
LOCATION:Grundschule am Sonnenberg; Eingang E, Rathausparkplatz, Gitarrenra, Südring 25, 37120 Bovenden
END:VEVENT
BEGIN:VEVENT
DTSTAMP:20260420T063422
DTSTART;TZID=Europe/Berlin:20260908T140000
DTEND;TZID=Europe/Berlin:20260908T144500
UID:26F35114-20260908T140000@VHSGÖTTINGEN OSTERODE GGMBH
SUMMARY:Gitarre Kinder IV (26F35114) 
LOCATION:Grundschule am Sonnenberg; Eingang E, Rathausparkplatz, Gitarrenra, Südring 25, 37120 Bovenden
END:VEVENT
BEGIN:VEVENT
DTSTAMP:20260420T063422
DTSTART;TZID=Europe/Berlin:20260915T140000
DTEND;TZID=Europe/Berlin:20260915T144500
UID:26F35114-20260915T140000@VHSGÖTTINGEN OSTERODE GGMBH
SUMMARY:Gitarre Kinder IV (26F35114) 
LOCATION:Grundschule am Sonnenberg; Eingang E, Rathausparkplatz, Gitarrenra, Südring 25, 37120 Bovenden
END:VEVENT
END:VCALENDAR