BEGIN:VCALENDAR
VERSION:2.0
PRODID:https://www.kufer.de/kuferweb / DE
METHOD:PUBLISH
CALSCALE:GREGORIAN
X-WR-TIMEZONE:Europe/Berlin
BEGIN:VTIMEZONE
TZID:Europe/Berlin
X-LIC-LOCATION:Europe/Berlin
BEGIN:DAYLIGHT
TZOFFSETFROM:+0100
TZOFFSETTO:+0200
TZNAME:CEST
DTSTART:19700329T020000
RRULE:FREQ=YEARLY;INTERVAL=1;BYDAY=-1SU;BYMONTH=3
END:DAYLIGHT
BEGIN:STANDARD
TZOFFSETFROM:+0200
TZOFFSETTO:+0100
TZNAME:CET
DTSTART:19701025T030000
RRULE:FREQ=YEARLY;INTERVAL=1;BYDAY=-1SU;BYMONTH=10
END:STANDARD
END:VTIMEZONE
BEGIN:VEVENT
DTSTAMP:20260420T063423
DTSTART;TZID=Europe/Berlin:20260520T090000
DTEND;TZID=Europe/Berlin:20260520T163000
UID:26F54901-20260520T090000@VHSGÖTTINGEN OSTERODE GGMBH
DESCRIPTION:Doz. 3 Wochen vorher Rückmeldung geben ob der Kurs stattfindet. IT 2 Wochen vor Bescheid geben: um die Computer Software entsprechend anzupassen und  "Single Sign on" einzurichten sowie die automatische "Reset-Funktion der Rechner in 101" auszuschalten.  Wichtig: Keine Raumbelegung an den Tage nach der Einrichtung und während eines laufenden Kurses, damit Computer nicht in ihrem Zustand verändert werden
SUMMARY:vhs-Akademie: "Microsoft 365 - Apps und ihre Funktionen" (26F54901) 
LOCATION:VHS-Computerraum 101, Bahnhofsallee 7, 37081 Göttingen
END:VEVENT
END:VCALENDAR