BEGIN:VCALENDAR
VERSION:2.0
PRODID:https://www.kufer.de/kuferweb / DE
METHOD:PUBLISH
CALSCALE:GREGORIAN
X-WR-TIMEZONE:Europe/Berlin
BEGIN:VTIMEZONE
TZID:Europe/Berlin
X-LIC-LOCATION:Europe/Berlin
BEGIN:DAYLIGHT
TZOFFSETFROM:+0100
TZOFFSETTO:+0200
TZNAME:CEST
DTSTART:19700329T020000
RRULE:FREQ=YEARLY;INTERVAL=1;BYDAY=-1SU;BYMONTH=3
END:DAYLIGHT
BEGIN:STANDARD
TZOFFSETFROM:+0200
TZOFFSETTO:+0100
TZNAME:CET
DTSTART:19701025T030000
RRULE:FREQ=YEARLY;INTERVAL=1;BYDAY=-1SU;BYMONTH=10
END:STANDARD
END:VTIMEZONE
BEGIN:VEVENT
DTSTAMP:20260420T063422
DTSTART;TZID=Europe/Berlin:20260812T084500
DTEND;TZID=Europe/Berlin:20260812T130000
UID:26F71215-20260812T084500@VHSGÖTTINGEN OSTERODE GGMBH
SUMMARY:Deutsch B1.1, Integrationskurs, Modul 5 (26F71215) 
LOCATION:VHS-Raum 204, Bahnhofsallee 7, 37081 Göttingen
END:VEVENT
BEGIN:VEVENT
DTSTAMP:20260420T063422
DTSTART;TZID=Europe/Berlin:20260813T084500
DTEND;TZID=Europe/Berlin:20260813T130000
UID:26F71215-20260813T084500@VHSGÖTTINGEN OSTERODE GGMBH
SUMMARY:Deutsch B1.1, Integrationskurs, Modul 5 (26F71215) 
LOCATION:VHS-Raum 204, Bahnhofsallee 7, 37081 Göttingen
END:VEVENT
BEGIN:VEVENT
DTSTAMP:20260420T063422
DTSTART;TZID=Europe/Berlin:20260814T084500
DTEND;TZID=Europe/Berlin:20260814T130000
UID:26F71215-20260814T084500@VHSGÖTTINGEN OSTERODE GGMBH
SUMMARY:Deutsch B1.1, Integrationskurs, Modul 5 (26F71215) 
LOCATION:VHS-Raum 204, Bahnhofsallee 7, 37081 Göttingen
END:VEVENT
BEGIN:VEVENT
DTSTAMP:20260420T063422
DTSTART;TZID=Europe/Berlin:20260817T084500
DTEND;TZID=Europe/Berlin:20260817T130000
UID:26F71215-20260817T084500@VHSGÖTTINGEN OSTERODE GGMBH
SUMMARY:Deutsch B1.1, Integrationskurs, Modul 5 (26F71215) 
LOCATION:VHS-Raum 204, Bahnhofsallee 7, 37081 Göttingen
END:VEVENT
BEGIN:VEVENT
DTSTAMP:20260420T063422
DTSTART;TZID=Europe/Berlin:20260818T084500
DTEND;TZID=Europe/Berlin:20260818T130000
UID:26F71215-20260818T084500@VHSGÖTTINGEN OSTERODE GGMBH
SUMMARY:Deutsch B1.1, Integrationskurs, Modul 5 (26F71215) 
LOCATION:VHS-Raum 204, Bahnhofsallee 7, 37081 Göttingen
END:VEVENT
BEGIN:VEVENT
DTSTAMP:20260420T063422
DTSTART;TZID=Europe/Berlin:20260819T084500
DTEND;TZID=Europe/Berlin:20260819T130000
UID:26F71215-20260819T084500@VHSGÖTTINGEN OSTERODE GGMBH
SUMMARY:Deutsch B1.1, Integrationskurs, Modul 5 (26F71215) 
LOCATION:VHS-Raum 204, Bahnhofsallee 7, 37081 Göttingen
END:VEVENT
BEGIN:VEVENT
DTSTAMP:20260420T063422
DTSTART;TZID=Europe/Berlin:20260820T084500
DTEND;TZID=Europe/Berlin:20260820T130000
UID:26F71215-20260820T084500@VHSGÖTTINGEN OSTERODE GGMBH
SUMMARY:Deutsch B1.1, Integrationskurs, Modul 5 (26F71215) 
LOCATION:VHS-Raum 204, Bahnhofsallee 7, 37081 Göttingen
END:VEVENT
BEGIN:VEVENT
DTSTAMP:20260420T063422
DTSTART;TZID=Europe/Berlin:20260821T084500
DTEND;TZID=Europe/Berlin:20260821T130000
UID:26F71215-20260821T084500@VHSGÖTTINGEN OSTERODE GGMBH
SUMMARY:Deutsch B1.1, Integrationskurs, Modul 5 (26F71215) 
LOCATION:VHS-Raum 204, Bahnhofsallee 7, 37081 Göttingen
END:VEVENT
BEGIN:VEVENT
DTSTAMP:20260420T063422
DTSTART;TZID=Europe/Berlin:20260824T084500
DTEND;TZID=Europe/Berlin:20260824T130000
UID:26F71215-20260824T084500@VHSGÖTTINGEN OSTERODE GGMBH
SUMMARY:Deutsch B1.1, Integrationskurs, Modul 5 (26F71215) 
LOCATION:VHS-Raum 204, Bahnhofsallee 7, 37081 Göttingen
END:VEVENT
BEGIN:VEVENT
DTSTAMP:20260420T063422
DTSTART;TZID=Europe/Berlin:20260825T084500
DTEND;TZID=Europe/Berlin:20260825T130000
UID:26F71215-20260825T084500@VHSGÖTTINGEN OSTERODE GGMBH
SUMMARY:Deutsch B1.1, Integrationskurs, Modul 5 (26F71215) 
LOCATION:VHS-Raum 204, Bahnhofsallee 7, 37081 Göttingen
END:VEVENT
BEGIN:VEVENT
DTSTAMP:20260420T063422
DTSTART;TZID=Europe/Berlin:20260826T084500
DTEND;TZID=Europe/Berlin:20260826T130000
UID:26F71215-20260826T084500@VHSGÖTTINGEN OSTERODE GGMBH
SUMMARY:Deutsch B1.1, Integrationskurs, Modul 5 (26F71215) 
LOCATION:VHS-Raum 204, Bahnhofsallee 7, 37081 Göttingen
END:VEVENT
BEGIN:VEVENT
DTSTAMP:20260420T063422
DTSTART;TZID=Europe/Berlin:20260827T084500
DTEND;TZID=Europe/Berlin:20260827T130000
UID:26F71215-20260827T084500@VHSGÖTTINGEN OSTERODE GGMBH
SUMMARY:Deutsch B1.1, Integrationskurs, Modul 5 (26F71215) 
LOCATION:VHS-Raum 204, Bahnhofsallee 7, 37081 Göttingen
END:VEVENT
BEGIN:VEVENT
DTSTAMP:20260420T063422
DTSTART;TZID=Europe/Berlin:20260828T084500
DTEND;TZID=Europe/Berlin:20260828T130000
UID:26F71215-20260828T084500@VHSGÖTTINGEN OSTERODE GGMBH
SUMMARY:Deutsch B1.1, Integrationskurs, Modul 5 (26F71215) 
LOCATION:VHS-Raum 204, Bahnhofsallee 7, 37081 Göttingen
END:VEVENT
BEGIN:VEVENT
DTSTAMP:20260420T063422
DTSTART;TZID=Europe/Berlin:20260831T084500
DTEND;TZID=Europe/Berlin:20260831T130000
UID:26F71215-20260831T084500@VHSGÖTTINGEN OSTERODE GGMBH
SUMMARY:Deutsch B1.1, Integrationskurs, Modul 5 (26F71215) 
LOCATION:VHS-Raum 204, Bahnhofsallee 7, 37081 Göttingen
END:VEVENT
BEGIN:VEVENT
DTSTAMP:20260420T063422
DTSTART;TZID=Europe/Berlin:20260901T084500
DTEND;TZID=Europe/Berlin:20260901T130000
UID:26F71215-20260901T084500@VHSGÖTTINGEN OSTERODE GGMBH
SUMMARY:Deutsch B1.1, Integrationskurs, Modul 5 (26F71215) 
LOCATION:VHS-Raum 204, Bahnhofsallee 7, 37081 Göttingen
END:VEVENT
BEGIN:VEVENT
DTSTAMP:20260420T063422
DTSTART;TZID=Europe/Berlin:20260902T084500
DTEND;TZID=Europe/Berlin:20260902T130000
UID:26F71215-20260902T084500@VHSGÖTTINGEN OSTERODE GGMBH
SUMMARY:Deutsch B1.1, Integrationskurs, Modul 5 (26F71215) 
LOCATION:VHS-Raum 204, Bahnhofsallee 7, 37081 Göttingen
END:VEVENT
BEGIN:VEVENT
DTSTAMP:20260420T063422
DTSTART;TZID=Europe/Berlin:20260903T084500
DTEND;TZID=Europe/Berlin:20260903T130000
UID:26F71215-20260903T084500@VHSGÖTTINGEN OSTERODE GGMBH
SUMMARY:Deutsch B1.1, Integrationskurs, Modul 5 (26F71215) 
LOCATION:VHS-Raum 204, Bahnhofsallee 7, 37081 Göttingen
END:VEVENT
BEGIN:VEVENT
DTSTAMP:20260420T063422
DTSTART;TZID=Europe/Berlin:20260904T084500
DTEND;TZID=Europe/Berlin:20260904T130000
UID:26F71215-20260904T084500@VHSGÖTTINGEN OSTERODE GGMBH
SUMMARY:Deutsch B1.1, Integrationskurs, Modul 5 (26F71215) 
LOCATION:VHS-Raum 204, Bahnhofsallee 7, 37081 Göttingen
END:VEVENT
BEGIN:VEVENT
DTSTAMP:20260420T063422
DTSTART;TZID=Europe/Berlin:20260907T084500
DTEND;TZID=Europe/Berlin:20260907T130000
UID:26F71215-20260907T084500@VHSGÖTTINGEN OSTERODE GGMBH
SUMMARY:Deutsch B1.1, Integrationskurs, Modul 5 (26F71215) 
LOCATION:VHS-Raum 204, Bahnhofsallee 7, 37081 Göttingen
END:VEVENT
BEGIN:VEVENT
DTSTAMP:20260420T063422
DTSTART;TZID=Europe/Berlin:20260908T084500
DTEND;TZID=Europe/Berlin:20260908T130000
UID:26F71215-20260908T084500@VHSGÖTTINGEN OSTERODE GGMBH
SUMMARY:Deutsch B1.1, Integrationskurs, Modul 5 (26F71215) 
LOCATION:VHS-Raum 204, Bahnhofsallee 7, 37081 Göttingen
END:VEVENT
END:VCALENDAR