BEGIN:VCALENDAR
VERSION:2.0
PRODID:https://www.kufer.de/kuferweb / DE
METHOD:PUBLISH
CALSCALE:GREGORIAN
X-WR-TIMEZONE:Europe/Berlin
BEGIN:VTIMEZONE
TZID:Europe/Berlin
X-LIC-LOCATION:Europe/Berlin
BEGIN:DAYLIGHT
TZOFFSETFROM:+0100
TZOFFSETTO:+0200
TZNAME:CEST
DTSTART:19700329T020000
RRULE:FREQ=YEARLY;INTERVAL=1;BYDAY=-1SU;BYMONTH=3
END:DAYLIGHT
BEGIN:STANDARD
TZOFFSETFROM:+0200
TZOFFSETTO:+0100
TZNAME:CET
DTSTART:19701025T030000
RRULE:FREQ=YEARLY;INTERVAL=1;BYDAY=-1SU;BYMONTH=10
END:STANDARD
END:VTIMEZONE
BEGIN:VEVENT
DTSTAMP:20260420T063422
DTSTART;TZID=Europe/Berlin:20260909T084500
DTEND;TZID=Europe/Berlin:20260909T130000
UID:26F71216-20260909T084500@VHSGÖTTINGEN OSTERODE GGMBH
SUMMARY:Deutsch B1.2, Integrationskurs, Modul 6 (26F71216) 
LOCATION:VHS-Raum 204, Bahnhofsallee 7, 37081 Göttingen
END:VEVENT
BEGIN:VEVENT
DTSTAMP:20260420T063422
DTSTART;TZID=Europe/Berlin:20260910T084500
DTEND;TZID=Europe/Berlin:20260910T130000
UID:26F71216-20260910T084500@VHSGÖTTINGEN OSTERODE GGMBH
SUMMARY:Deutsch B1.2, Integrationskurs, Modul 6 (26F71216) 
LOCATION:VHS-Raum 204, Bahnhofsallee 7, 37081 Göttingen
END:VEVENT
BEGIN:VEVENT
DTSTAMP:20260420T063422
DTSTART;TZID=Europe/Berlin:20260911T084500
DTEND;TZID=Europe/Berlin:20260911T130000
UID:26F71216-20260911T084500@VHSGÖTTINGEN OSTERODE GGMBH
SUMMARY:Deutsch B1.2, Integrationskurs, Modul 6 (26F71216) 
LOCATION:VHS-Raum 204, Bahnhofsallee 7, 37081 Göttingen
END:VEVENT
BEGIN:VEVENT
DTSTAMP:20260420T063422
DTSTART;TZID=Europe/Berlin:20260914T084500
DTEND;TZID=Europe/Berlin:20260914T130000
UID:26F71216-20260914T084500@VHSGÖTTINGEN OSTERODE GGMBH
SUMMARY:Deutsch B1.2, Integrationskurs, Modul 6 (26F71216) 
LOCATION:VHS-Raum 204, Bahnhofsallee 7, 37081 Göttingen
END:VEVENT
BEGIN:VEVENT
DTSTAMP:20260420T063422
DTSTART;TZID=Europe/Berlin:20260915T084500
DTEND;TZID=Europe/Berlin:20260915T130000
UID:26F71216-20260915T084500@VHSGÖTTINGEN OSTERODE GGMBH
SUMMARY:Deutsch B1.2, Integrationskurs, Modul 6 (26F71216) 
LOCATION:VHS-Raum 204, Bahnhofsallee 7, 37081 Göttingen
END:VEVENT
BEGIN:VEVENT
DTSTAMP:20260420T063422
DTSTART;TZID=Europe/Berlin:20260916T084500
DTEND;TZID=Europe/Berlin:20260916T130000
UID:26F71216-20260916T084500@VHSGÖTTINGEN OSTERODE GGMBH
SUMMARY:Deutsch B1.2, Integrationskurs, Modul 6 (26F71216) 
LOCATION:VHS-Raum 204, Bahnhofsallee 7, 37081 Göttingen
END:VEVENT
BEGIN:VEVENT
DTSTAMP:20260420T063422
DTSTART;TZID=Europe/Berlin:20260917T084500
DTEND;TZID=Europe/Berlin:20260917T130000
UID:26F71216-20260917T084500@VHSGÖTTINGEN OSTERODE GGMBH
SUMMARY:Deutsch B1.2, Integrationskurs, Modul 6 (26F71216) 
LOCATION:VHS-Raum 204, Bahnhofsallee 7, 37081 Göttingen
END:VEVENT
BEGIN:VEVENT
DTSTAMP:20260420T063422
DTSTART;TZID=Europe/Berlin:20260918T084500
DTEND;TZID=Europe/Berlin:20260918T130000
UID:26F71216-20260918T084500@VHSGÖTTINGEN OSTERODE GGMBH
SUMMARY:Deutsch B1.2, Integrationskurs, Modul 6 (26F71216) 
LOCATION:VHS-Raum 204, Bahnhofsallee 7, 37081 Göttingen
END:VEVENT
BEGIN:VEVENT
DTSTAMP:20260420T063422
DTSTART;TZID=Europe/Berlin:20260921T084500
DTEND;TZID=Europe/Berlin:20260921T130000
UID:26F71216-20260921T084500@VHSGÖTTINGEN OSTERODE GGMBH
SUMMARY:Deutsch B1.2, Integrationskurs, Modul 6 (26F71216) 
LOCATION:VHS-Raum 204, Bahnhofsallee 7, 37081 Göttingen
END:VEVENT
BEGIN:VEVENT
DTSTAMP:20260420T063422
DTSTART;TZID=Europe/Berlin:20260922T084500
DTEND;TZID=Europe/Berlin:20260922T130000
UID:26F71216-20260922T084500@VHSGÖTTINGEN OSTERODE GGMBH
SUMMARY:Deutsch B1.2, Integrationskurs, Modul 6 (26F71216) 
LOCATION:VHS-Raum 204, Bahnhofsallee 7, 37081 Göttingen
END:VEVENT
BEGIN:VEVENT
DTSTAMP:20260420T063422
DTSTART;TZID=Europe/Berlin:20260923T084500
DTEND;TZID=Europe/Berlin:20260923T130000
UID:26F71216-20260923T084500@VHSGÖTTINGEN OSTERODE GGMBH
SUMMARY:Deutsch B1.2, Integrationskurs, Modul 6 (26F71216) 
LOCATION:VHS-Raum 204, Bahnhofsallee 7, 37081 Göttingen
END:VEVENT
BEGIN:VEVENT
DTSTAMP:20260420T063422
DTSTART;TZID=Europe/Berlin:20260924T084500
DTEND;TZID=Europe/Berlin:20260924T130000
UID:26F71216-20260924T084500@VHSGÖTTINGEN OSTERODE GGMBH
SUMMARY:Deutsch B1.2, Integrationskurs, Modul 6 (26F71216) 
LOCATION:VHS-Raum 204, Bahnhofsallee 7, 37081 Göttingen
END:VEVENT
BEGIN:VEVENT
DTSTAMP:20260420T063422
DTSTART;TZID=Europe/Berlin:20260925T084500
DTEND;TZID=Europe/Berlin:20260925T130000
UID:26F71216-20260925T084500@VHSGÖTTINGEN OSTERODE GGMBH
SUMMARY:Deutsch B1.2, Integrationskurs, Modul 6 (26F71216) 
LOCATION:VHS-Raum 204, Bahnhofsallee 7, 37081 Göttingen
END:VEVENT
BEGIN:VEVENT
DTSTAMP:20260420T063422
DTSTART;TZID=Europe/Berlin:20260928T084500
DTEND;TZID=Europe/Berlin:20260928T130000
UID:26F71216-20260928T084500@VHSGÖTTINGEN OSTERODE GGMBH
SUMMARY:Deutsch B1.2, Integrationskurs, Modul 6 (26F71216) 
LOCATION:VHS-Raum 204, Bahnhofsallee 7, 37081 Göttingen
END:VEVENT
BEGIN:VEVENT
DTSTAMP:20260420T063422
DTSTART;TZID=Europe/Berlin:20260929T084500
DTEND;TZID=Europe/Berlin:20260929T130000
UID:26F71216-20260929T084500@VHSGÖTTINGEN OSTERODE GGMBH
SUMMARY:Deutsch B1.2, Integrationskurs, Modul 6 (26F71216) 
LOCATION:VHS-Raum 204, Bahnhofsallee 7, 37081 Göttingen
END:VEVENT
BEGIN:VEVENT
DTSTAMP:20260420T063422
DTSTART;TZID=Europe/Berlin:20260930T084500
DTEND;TZID=Europe/Berlin:20260930T130000
UID:26F71216-20260930T084500@VHSGÖTTINGEN OSTERODE GGMBH
SUMMARY:Deutsch B1.2, Integrationskurs, Modul 6 (26F71216) 
LOCATION:VHS-Raum 204, Bahnhofsallee 7, 37081 Göttingen
END:VEVENT
BEGIN:VEVENT
DTSTAMP:20260420T063422
DTSTART;TZID=Europe/Berlin:20261001T084500
DTEND;TZID=Europe/Berlin:20261001T130000
UID:26F71216-20261001T084500@VHSGÖTTINGEN OSTERODE GGMBH
SUMMARY:Deutsch B1.2, Integrationskurs, Modul 6 (26F71216) 
LOCATION:VHS-Raum 204, Bahnhofsallee 7, 37081 Göttingen
END:VEVENT
BEGIN:VEVENT
DTSTAMP:20260420T063422
DTSTART;TZID=Europe/Berlin:20261002T084500
DTEND;TZID=Europe/Berlin:20261002T130000
UID:26F71216-20261002T084500@VHSGÖTTINGEN OSTERODE GGMBH
SUMMARY:Deutsch B1.2, Integrationskurs, Modul 6 (26F71216) 
LOCATION:VHS-Raum 204, Bahnhofsallee 7, 37081 Göttingen
END:VEVENT
BEGIN:VEVENT
DTSTAMP:20260420T063422
DTSTART;TZID=Europe/Berlin:20261005T084500
DTEND;TZID=Europe/Berlin:20261005T130000
UID:26F71216-20261005T084500@VHSGÖTTINGEN OSTERODE GGMBH
SUMMARY:Deutsch B1.2, Integrationskurs, Modul 6 (26F71216) 
LOCATION:VHS-Raum 204, Bahnhofsallee 7, 37081 Göttingen
END:VEVENT
BEGIN:VEVENT
DTSTAMP:20260420T063422
DTSTART;TZID=Europe/Berlin:20261006T084500
DTEND;TZID=Europe/Berlin:20261006T130000
UID:26F71216-20261006T084500@VHSGÖTTINGEN OSTERODE GGMBH
SUMMARY:Deutsch B1.2, Integrationskurs, Modul 6 (26F71216) 
LOCATION:VHS-Raum 204, Bahnhofsallee 7, 37081 Göttingen
END:VEVENT
END:VCALENDAR