BEGIN:VCALENDAR
VERSION:2.0
PRODID:https://www.kufer.de/kuferweb / DE
METHOD:PUBLISH
CALSCALE:GREGORIAN
X-WR-TIMEZONE:Europe/Berlin
BEGIN:VTIMEZONE
TZID:Europe/Berlin
X-LIC-LOCATION:Europe/Berlin
BEGIN:DAYLIGHT
TZOFFSETFROM:+0100
TZOFFSETTO:+0200
TZNAME:CEST
DTSTART:19700329T020000
RRULE:FREQ=YEARLY;INTERVAL=1;BYDAY=-1SU;BYMONTH=3
END:DAYLIGHT
BEGIN:STANDARD
TZOFFSETFROM:+0200
TZOFFSETTO:+0100
TZNAME:CET
DTSTART:19701025T030000
RRULE:FREQ=YEARLY;INTERVAL=1;BYDAY=-1SU;BYMONTH=10
END:STANDARD
END:VTIMEZONE
BEGIN:VEVENT
DTSTAMP:20260420T063424
DTSTART;TZID=Europe/Berlin:20260518T084500
DTEND;TZID=Europe/Berlin:20260518T130000
UID:26F71221-20260518T084500@VHSGÖTTINGEN OSTERODE GGMBH
SUMMARY:Deutsch A1.1, Integrationskurs, Modul 1 (26F71221) 
LOCATION:VHS-Raum 202, Bahnhofsallee 7, 37081 Göttingen
END:VEVENT
BEGIN:VEVENT
DTSTAMP:20260420T063424
DTSTART;TZID=Europe/Berlin:20260519T084500
DTEND;TZID=Europe/Berlin:20260519T130000
UID:26F71221-20260519T084500@VHSGÖTTINGEN OSTERODE GGMBH
SUMMARY:Deutsch A1.1, Integrationskurs, Modul 1 (26F71221) 
LOCATION:VHS-Raum 202, Bahnhofsallee 7, 37081 Göttingen
END:VEVENT
BEGIN:VEVENT
DTSTAMP:20260420T063424
DTSTART;TZID=Europe/Berlin:20260520T084500
DTEND;TZID=Europe/Berlin:20260520T130000
UID:26F71221-20260520T084500@VHSGÖTTINGEN OSTERODE GGMBH
SUMMARY:Deutsch A1.1, Integrationskurs, Modul 1 (26F71221) 
LOCATION:VHS-Raum 202, Bahnhofsallee 7, 37081 Göttingen
END:VEVENT
BEGIN:VEVENT
DTSTAMP:20260420T063424
DTSTART;TZID=Europe/Berlin:20260521T084500
DTEND;TZID=Europe/Berlin:20260521T130000
UID:26F71221-20260521T084500@VHSGÖTTINGEN OSTERODE GGMBH
SUMMARY:Deutsch A1.1, Integrationskurs, Modul 1 (26F71221) 
LOCATION:VHS-Raum 202, Bahnhofsallee 7, 37081 Göttingen
END:VEVENT
BEGIN:VEVENT
DTSTAMP:20260420T063424
DTSTART;TZID=Europe/Berlin:20260522T084500
DTEND;TZID=Europe/Berlin:20260522T130000
UID:26F71221-20260522T084500@VHSGÖTTINGEN OSTERODE GGMBH
SUMMARY:Deutsch A1.1, Integrationskurs, Modul 1 (26F71221) 
LOCATION:VHS-Raum 202, Bahnhofsallee 7, 37081 Göttingen
END:VEVENT
BEGIN:VEVENT
DTSTAMP:20260420T063424
DTSTART;TZID=Europe/Berlin:20260526T084500
DTEND;TZID=Europe/Berlin:20260526T130000
UID:26F71221-20260526T084500@VHSGÖTTINGEN OSTERODE GGMBH
SUMMARY:Deutsch A1.1, Integrationskurs, Modul 1 (26F71221) 
LOCATION:VHS-Raum 202, Bahnhofsallee 7, 37081 Göttingen
END:VEVENT
BEGIN:VEVENT
DTSTAMP:20260420T063424
DTSTART;TZID=Europe/Berlin:20260527T084500
DTEND;TZID=Europe/Berlin:20260527T130000
UID:26F71221-20260527T084500@VHSGÖTTINGEN OSTERODE GGMBH
SUMMARY:Deutsch A1.1, Integrationskurs, Modul 1 (26F71221) 
LOCATION:VHS-Raum 202, Bahnhofsallee 7, 37081 Göttingen
END:VEVENT
BEGIN:VEVENT
DTSTAMP:20260420T063424
DTSTART;TZID=Europe/Berlin:20260528T084500
DTEND;TZID=Europe/Berlin:20260528T130000
UID:26F71221-20260528T084500@VHSGÖTTINGEN OSTERODE GGMBH
SUMMARY:Deutsch A1.1, Integrationskurs, Modul 1 (26F71221) 
LOCATION:VHS-Raum 202, Bahnhofsallee 7, 37081 Göttingen
END:VEVENT
BEGIN:VEVENT
DTSTAMP:20260420T063424
DTSTART;TZID=Europe/Berlin:20260529T084500
DTEND;TZID=Europe/Berlin:20260529T130000
UID:26F71221-20260529T084500@VHSGÖTTINGEN OSTERODE GGMBH
SUMMARY:Deutsch A1.1, Integrationskurs, Modul 1 (26F71221) 
LOCATION:VHS-Raum 202, Bahnhofsallee 7, 37081 Göttingen
END:VEVENT
BEGIN:VEVENT
DTSTAMP:20260420T063424
DTSTART;TZID=Europe/Berlin:20260601T084500
DTEND;TZID=Europe/Berlin:20260601T130000
UID:26F71221-20260601T084500@VHSGÖTTINGEN OSTERODE GGMBH
SUMMARY:Deutsch A1.1, Integrationskurs, Modul 1 (26F71221) 
LOCATION:VHS-Raum 202, Bahnhofsallee 7, 37081 Göttingen
END:VEVENT
BEGIN:VEVENT
DTSTAMP:20260420T063424
DTSTART;TZID=Europe/Berlin:20260602T084500
DTEND;TZID=Europe/Berlin:20260602T130000
UID:26F71221-20260602T084500@VHSGÖTTINGEN OSTERODE GGMBH
SUMMARY:Deutsch A1.1, Integrationskurs, Modul 1 (26F71221) 
LOCATION:VHS-Raum 202, Bahnhofsallee 7, 37081 Göttingen
END:VEVENT
BEGIN:VEVENT
DTSTAMP:20260420T063424
DTSTART;TZID=Europe/Berlin:20260603T084500
DTEND;TZID=Europe/Berlin:20260603T130000
UID:26F71221-20260603T084500@VHSGÖTTINGEN OSTERODE GGMBH
SUMMARY:Deutsch A1.1, Integrationskurs, Modul 1 (26F71221) 
LOCATION:VHS-Raum 202, Bahnhofsallee 7, 37081 Göttingen
END:VEVENT
BEGIN:VEVENT
DTSTAMP:20260420T063424
DTSTART;TZID=Europe/Berlin:20260604T084500
DTEND;TZID=Europe/Berlin:20260604T130000
UID:26F71221-20260604T084500@VHSGÖTTINGEN OSTERODE GGMBH
SUMMARY:Deutsch A1.1, Integrationskurs, Modul 1 (26F71221) 
LOCATION:VHS-Raum 202, Bahnhofsallee 7, 37081 Göttingen
END:VEVENT
BEGIN:VEVENT
DTSTAMP:20260420T063424
DTSTART;TZID=Europe/Berlin:20260605T084500
DTEND;TZID=Europe/Berlin:20260605T130000
UID:26F71221-20260605T084500@VHSGÖTTINGEN OSTERODE GGMBH
SUMMARY:Deutsch A1.1, Integrationskurs, Modul 1 (26F71221) 
LOCATION:VHS-Raum 202, Bahnhofsallee 7, 37081 Göttingen
END:VEVENT
BEGIN:VEVENT
DTSTAMP:20260420T063424
DTSTART;TZID=Europe/Berlin:20260608T084500
DTEND;TZID=Europe/Berlin:20260608T130000
UID:26F71221-20260608T084500@VHSGÖTTINGEN OSTERODE GGMBH
SUMMARY:Deutsch A1.1, Integrationskurs, Modul 1 (26F71221) 
LOCATION:VHS-Raum 202, Bahnhofsallee 7, 37081 Göttingen
END:VEVENT
BEGIN:VEVENT
DTSTAMP:20260420T063424
DTSTART;TZID=Europe/Berlin:20260609T084500
DTEND;TZID=Europe/Berlin:20260609T130000
UID:26F71221-20260609T084500@VHSGÖTTINGEN OSTERODE GGMBH
SUMMARY:Deutsch A1.1, Integrationskurs, Modul 1 (26F71221) 
LOCATION:VHS-Raum 202, Bahnhofsallee 7, 37081 Göttingen
END:VEVENT
BEGIN:VEVENT
DTSTAMP:20260420T063424
DTSTART;TZID=Europe/Berlin:20260610T084500
DTEND;TZID=Europe/Berlin:20260610T130000
UID:26F71221-20260610T084500@VHSGÖTTINGEN OSTERODE GGMBH
SUMMARY:Deutsch A1.1, Integrationskurs, Modul 1 (26F71221) 
LOCATION:VHS-Raum 202, Bahnhofsallee 7, 37081 Göttingen
END:VEVENT
BEGIN:VEVENT
DTSTAMP:20260420T063424
DTSTART;TZID=Europe/Berlin:20260611T084500
DTEND;TZID=Europe/Berlin:20260611T130000
UID:26F71221-20260611T084500@VHSGÖTTINGEN OSTERODE GGMBH
SUMMARY:Deutsch A1.1, Integrationskurs, Modul 1 (26F71221) 
LOCATION:VHS-Raum 202, Bahnhofsallee 7, 37081 Göttingen
END:VEVENT
BEGIN:VEVENT
DTSTAMP:20260420T063424
DTSTART;TZID=Europe/Berlin:20260612T084500
DTEND;TZID=Europe/Berlin:20260612T130000
UID:26F71221-20260612T084500@VHSGÖTTINGEN OSTERODE GGMBH
SUMMARY:Deutsch A1.1, Integrationskurs, Modul 1 (26F71221) 
LOCATION:VHS-Raum 202, Bahnhofsallee 7, 37081 Göttingen
END:VEVENT
BEGIN:VEVENT
DTSTAMP:20260420T063424
DTSTART;TZID=Europe/Berlin:20260615T084500
DTEND;TZID=Europe/Berlin:20260615T130000
UID:26F71221-20260615T084500@VHSGÖTTINGEN OSTERODE GGMBH
SUMMARY:Deutsch A1.1, Integrationskurs, Modul 1 (26F71221) 
LOCATION:VHS-Raum 202, Bahnhofsallee 7, 37081 Göttingen
END:VEVENT
END:VCALENDAR