BEGIN:VCALENDAR
VERSION:2.0
PRODID:https://www.kufer.de/kuferweb / DE
METHOD:PUBLISH
CALSCALE:GREGORIAN
X-WR-TIMEZONE:Europe/Berlin
BEGIN:VTIMEZONE
TZID:Europe/Berlin
X-LIC-LOCATION:Europe/Berlin
BEGIN:DAYLIGHT
TZOFFSETFROM:+0100
TZOFFSETTO:+0200
TZNAME:CEST
DTSTART:19700329T020000
RRULE:FREQ=YEARLY;INTERVAL=1;BYDAY=-1SU;BYMONTH=3
END:DAYLIGHT
BEGIN:STANDARD
TZOFFSETFROM:+0200
TZOFFSETTO:+0100
TZNAME:CET
DTSTART:19701025T030000
RRULE:FREQ=YEARLY;INTERVAL=1;BYDAY=-1SU;BYMONTH=10
END:STANDARD
END:VTIMEZONE
BEGIN:VEVENT
DTSTAMP:20260420T063422
DTSTART;TZID=Europe/Berlin:20260616T084500
DTEND;TZID=Europe/Berlin:20260616T130000
UID:26F71222-20260616T084500@VHSGÖTTINGEN OSTERODE GGMBH
SUMMARY:Deutsch A1.2, Integrationskurs, Modul 2 (26F71222) 
LOCATION:VHS-Raum 202, Bahnhofsallee 7, 37081 Göttingen
END:VEVENT
BEGIN:VEVENT
DTSTAMP:20260420T063422
DTSTART;TZID=Europe/Berlin:20260617T084500
DTEND;TZID=Europe/Berlin:20260617T130000
UID:26F71222-20260617T084500@VHSGÖTTINGEN OSTERODE GGMBH
SUMMARY:Deutsch A1.2, Integrationskurs, Modul 2 (26F71222) 
LOCATION:VHS-Raum 202, Bahnhofsallee 7, 37081 Göttingen
END:VEVENT
BEGIN:VEVENT
DTSTAMP:20260420T063422
DTSTART;TZID=Europe/Berlin:20260618T084500
DTEND;TZID=Europe/Berlin:20260618T130000
UID:26F71222-20260618T084500@VHSGÖTTINGEN OSTERODE GGMBH
SUMMARY:Deutsch A1.2, Integrationskurs, Modul 2 (26F71222) 
LOCATION:VHS-Raum 202, Bahnhofsallee 7, 37081 Göttingen
END:VEVENT
BEGIN:VEVENT
DTSTAMP:20260420T063422
DTSTART;TZID=Europe/Berlin:20260619T084500
DTEND;TZID=Europe/Berlin:20260619T130000
UID:26F71222-20260619T084500@VHSGÖTTINGEN OSTERODE GGMBH
SUMMARY:Deutsch A1.2, Integrationskurs, Modul 2 (26F71222) 
LOCATION:VHS-Raum 202, Bahnhofsallee 7, 37081 Göttingen
END:VEVENT
BEGIN:VEVENT
DTSTAMP:20260420T063422
DTSTART;TZID=Europe/Berlin:20260622T084500
DTEND;TZID=Europe/Berlin:20260622T130000
UID:26F71222-20260622T084500@VHSGÖTTINGEN OSTERODE GGMBH
SUMMARY:Deutsch A1.2, Integrationskurs, Modul 2 (26F71222) 
LOCATION:VHS-Raum 202, Bahnhofsallee 7, 37081 Göttingen
END:VEVENT
BEGIN:VEVENT
DTSTAMP:20260420T063422
DTSTART;TZID=Europe/Berlin:20260623T084500
DTEND;TZID=Europe/Berlin:20260623T130000
UID:26F71222-20260623T084500@VHSGÖTTINGEN OSTERODE GGMBH
SUMMARY:Deutsch A1.2, Integrationskurs, Modul 2 (26F71222) 
LOCATION:VHS-Raum 202, Bahnhofsallee 7, 37081 Göttingen
END:VEVENT
BEGIN:VEVENT
DTSTAMP:20260420T063422
DTSTART;TZID=Europe/Berlin:20260624T084500
DTEND;TZID=Europe/Berlin:20260624T130000
UID:26F71222-20260624T084500@VHSGÖTTINGEN OSTERODE GGMBH
SUMMARY:Deutsch A1.2, Integrationskurs, Modul 2 (26F71222) 
LOCATION:VHS-Raum 202, Bahnhofsallee 7, 37081 Göttingen
END:VEVENT
BEGIN:VEVENT
DTSTAMP:20260420T063422
DTSTART;TZID=Europe/Berlin:20260625T084500
DTEND;TZID=Europe/Berlin:20260625T130000
UID:26F71222-20260625T084500@VHSGÖTTINGEN OSTERODE GGMBH
SUMMARY:Deutsch A1.2, Integrationskurs, Modul 2 (26F71222) 
LOCATION:VHS-Raum 202, Bahnhofsallee 7, 37081 Göttingen
END:VEVENT
BEGIN:VEVENT
DTSTAMP:20260420T063422
DTSTART;TZID=Europe/Berlin:20260626T084500
DTEND;TZID=Europe/Berlin:20260626T130000
UID:26F71222-20260626T084500@VHSGÖTTINGEN OSTERODE GGMBH
SUMMARY:Deutsch A1.2, Integrationskurs, Modul 2 (26F71222) 
LOCATION:VHS-Raum 202, Bahnhofsallee 7, 37081 Göttingen
END:VEVENT
BEGIN:VEVENT
DTSTAMP:20260420T063422
DTSTART;TZID=Europe/Berlin:20260629T084500
DTEND;TZID=Europe/Berlin:20260629T130000
UID:26F71222-20260629T084500@VHSGÖTTINGEN OSTERODE GGMBH
SUMMARY:Deutsch A1.2, Integrationskurs, Modul 2 (26F71222) 
LOCATION:VHS-Raum 202, Bahnhofsallee 7, 37081 Göttingen
END:VEVENT
BEGIN:VEVENT
DTSTAMP:20260420T063422
DTSTART;TZID=Europe/Berlin:20260630T084500
DTEND;TZID=Europe/Berlin:20260630T130000
UID:26F71222-20260630T084500@VHSGÖTTINGEN OSTERODE GGMBH
SUMMARY:Deutsch A1.2, Integrationskurs, Modul 2 (26F71222) 
LOCATION:VHS-Raum 202, Bahnhofsallee 7, 37081 Göttingen
END:VEVENT
BEGIN:VEVENT
DTSTAMP:20260420T063422
DTSTART;TZID=Europe/Berlin:20260701T084500
DTEND;TZID=Europe/Berlin:20260701T130000
UID:26F71222-20260701T084500@VHSGÖTTINGEN OSTERODE GGMBH
SUMMARY:Deutsch A1.2, Integrationskurs, Modul 2 (26F71222) 
LOCATION:VHS-Raum 202, Bahnhofsallee 7, 37081 Göttingen
END:VEVENT
BEGIN:VEVENT
DTSTAMP:20260420T063422
DTSTART;TZID=Europe/Berlin:20260702T084500
DTEND;TZID=Europe/Berlin:20260702T130000
UID:26F71222-20260702T084500@VHSGÖTTINGEN OSTERODE GGMBH
SUMMARY:Deutsch A1.2, Integrationskurs, Modul 2 (26F71222) 
LOCATION:VHS-Raum 202, Bahnhofsallee 7, 37081 Göttingen
END:VEVENT
BEGIN:VEVENT
DTSTAMP:20260420T063422
DTSTART;TZID=Europe/Berlin:20260703T084500
DTEND;TZID=Europe/Berlin:20260703T130000
UID:26F71222-20260703T084500@VHSGÖTTINGEN OSTERODE GGMBH
SUMMARY:Deutsch A1.2, Integrationskurs, Modul 2 (26F71222) 
LOCATION:VHS-Raum 202, Bahnhofsallee 7, 37081 Göttingen
END:VEVENT
BEGIN:VEVENT
DTSTAMP:20260420T063422
DTSTART;TZID=Europe/Berlin:20260706T084500
DTEND;TZID=Europe/Berlin:20260706T130000
UID:26F71222-20260706T084500@VHSGÖTTINGEN OSTERODE GGMBH
SUMMARY:Deutsch A1.2, Integrationskurs, Modul 2 (26F71222) 
LOCATION:VHS-Raum 202, Bahnhofsallee 7, 37081 Göttingen
END:VEVENT
BEGIN:VEVENT
DTSTAMP:20260420T063422
DTSTART;TZID=Europe/Berlin:20260707T084500
DTEND;TZID=Europe/Berlin:20260707T130000
UID:26F71222-20260707T084500@VHSGÖTTINGEN OSTERODE GGMBH
SUMMARY:Deutsch A1.2, Integrationskurs, Modul 2 (26F71222) 
LOCATION:VHS-Raum 202, Bahnhofsallee 7, 37081 Göttingen
END:VEVENT
BEGIN:VEVENT
DTSTAMP:20260420T063422
DTSTART;TZID=Europe/Berlin:20260708T084500
DTEND;TZID=Europe/Berlin:20260708T130000
UID:26F71222-20260708T084500@VHSGÖTTINGEN OSTERODE GGMBH
SUMMARY:Deutsch A1.2, Integrationskurs, Modul 2 (26F71222) 
LOCATION:VHS-Raum 202, Bahnhofsallee 7, 37081 Göttingen
END:VEVENT
BEGIN:VEVENT
DTSTAMP:20260420T063422
DTSTART;TZID=Europe/Berlin:20260709T084500
DTEND;TZID=Europe/Berlin:20260709T130000
UID:26F71222-20260709T084500@VHSGÖTTINGEN OSTERODE GGMBH
SUMMARY:Deutsch A1.2, Integrationskurs, Modul 2 (26F71222) 
LOCATION:VHS-Raum 202, Bahnhofsallee 7, 37081 Göttingen
END:VEVENT
BEGIN:VEVENT
DTSTAMP:20260420T063422
DTSTART;TZID=Europe/Berlin:20260710T084500
DTEND;TZID=Europe/Berlin:20260710T130000
UID:26F71222-20260710T084500@VHSGÖTTINGEN OSTERODE GGMBH
SUMMARY:Deutsch A1.2, Integrationskurs, Modul 2 (26F71222) 
LOCATION:VHS-Raum 202, Bahnhofsallee 7, 37081 Göttingen
END:VEVENT
BEGIN:VEVENT
DTSTAMP:20260420T063422
DTSTART;TZID=Europe/Berlin:20260713T084500
DTEND;TZID=Europe/Berlin:20260713T130000
UID:26F71222-20260713T084500@VHSGÖTTINGEN OSTERODE GGMBH
SUMMARY:Deutsch A1.2, Integrationskurs, Modul 2 (26F71222) 
LOCATION:VHS-Raum 202, Bahnhofsallee 7, 37081 Göttingen
END:VEVENT
END:VCALENDAR