BEGIN:VCALENDAR
VERSION:2.0
PRODID:https://www.kufer.de/kuferweb / DE
METHOD:PUBLISH
CALSCALE:GREGORIAN
X-WR-TIMEZONE:Europe/Berlin
BEGIN:VTIMEZONE
TZID:Europe/Berlin
X-LIC-LOCATION:Europe/Berlin
BEGIN:DAYLIGHT
TZOFFSETFROM:+0100
TZOFFSETTO:+0200
TZNAME:CEST
DTSTART:19700329T020000
RRULE:FREQ=YEARLY;INTERVAL=1;BYDAY=-1SU;BYMONTH=3
END:DAYLIGHT
BEGIN:STANDARD
TZOFFSETFROM:+0200
TZOFFSETTO:+0100
TZNAME:CET
DTSTART:19701025T030000
RRULE:FREQ=YEARLY;INTERVAL=1;BYDAY=-1SU;BYMONTH=10
END:STANDARD
END:VTIMEZONE
BEGIN:VEVENT
DTSTAMP:20260425T030722
DTSTART;TZID=Europe/Berlin:20261022T084500
DTEND;TZID=Europe/Berlin:20261022T130000
UID:26F71225-20261022T084500@VHSGÖTTINGEN OSTERODE GGMBH
SUMMARY:Deutsch B1.1, Integrationskurs, Modul 5 (26F71225) 
LOCATION:VHS-Raum 204, Bahnhofsallee 7, 37081 Göttingen
END:VEVENT
BEGIN:VEVENT
DTSTAMP:20260425T030722
DTSTART;TZID=Europe/Berlin:20261023T084500
DTEND;TZID=Europe/Berlin:20261023T130000
UID:26F71225-20261023T084500@VHSGÖTTINGEN OSTERODE GGMBH
SUMMARY:Deutsch B1.1, Integrationskurs, Modul 5 (26F71225) 
LOCATION:VHS-Raum 204, Bahnhofsallee 7, 37081 Göttingen
END:VEVENT
BEGIN:VEVENT
DTSTAMP:20260425T030722
DTSTART;TZID=Europe/Berlin:20261026T084500
DTEND;TZID=Europe/Berlin:20261026T130000
UID:26F71225-20261026T084500@VHSGÖTTINGEN OSTERODE GGMBH
SUMMARY:Deutsch B1.1, Integrationskurs, Modul 5 (26F71225) 
LOCATION:VHS-Raum 204, Bahnhofsallee 7, 37081 Göttingen
END:VEVENT
BEGIN:VEVENT
DTSTAMP:20260425T030722
DTSTART;TZID=Europe/Berlin:20261027T084500
DTEND;TZID=Europe/Berlin:20261027T130000
UID:26F71225-20261027T084500@VHSGÖTTINGEN OSTERODE GGMBH
SUMMARY:Deutsch B1.1, Integrationskurs, Modul 5 (26F71225) 
LOCATION:VHS-Raum 204, Bahnhofsallee 7, 37081 Göttingen
END:VEVENT
BEGIN:VEVENT
DTSTAMP:20260425T030722
DTSTART;TZID=Europe/Berlin:20261028T084500
DTEND;TZID=Europe/Berlin:20261028T130000
UID:26F71225-20261028T084500@VHSGÖTTINGEN OSTERODE GGMBH
SUMMARY:Deutsch B1.1, Integrationskurs, Modul 5 (26F71225) 
LOCATION:VHS-Raum 204, Bahnhofsallee 7, 37081 Göttingen
END:VEVENT
BEGIN:VEVENT
DTSTAMP:20260425T030722
DTSTART;TZID=Europe/Berlin:20261029T084500
DTEND;TZID=Europe/Berlin:20261029T130000
UID:26F71225-20261029T084500@VHSGÖTTINGEN OSTERODE GGMBH
SUMMARY:Deutsch B1.1, Integrationskurs, Modul 5 (26F71225) 
LOCATION:VHS-Raum 204, Bahnhofsallee 7, 37081 Göttingen
END:VEVENT
BEGIN:VEVENT
DTSTAMP:20260425T030722
DTSTART;TZID=Europe/Berlin:20261030T084500
DTEND;TZID=Europe/Berlin:20261030T130000
UID:26F71225-20261030T084500@VHSGÖTTINGEN OSTERODE GGMBH
SUMMARY:Deutsch B1.1, Integrationskurs, Modul 5 (26F71225) 
LOCATION:VHS-Raum 204, Bahnhofsallee 7, 37081 Göttingen
END:VEVENT
BEGIN:VEVENT
DTSTAMP:20260425T030722
DTSTART;TZID=Europe/Berlin:20261102T084500
DTEND;TZID=Europe/Berlin:20261102T130000
UID:26F71225-20261102T084500@VHSGÖTTINGEN OSTERODE GGMBH
SUMMARY:Deutsch B1.1, Integrationskurs, Modul 5 (26F71225) 
LOCATION:VHS-Raum 204, Bahnhofsallee 7, 37081 Göttingen
END:VEVENT
BEGIN:VEVENT
DTSTAMP:20260425T030722
DTSTART;TZID=Europe/Berlin:20261103T084500
DTEND;TZID=Europe/Berlin:20261103T130000
UID:26F71225-20261103T084500@VHSGÖTTINGEN OSTERODE GGMBH
SUMMARY:Deutsch B1.1, Integrationskurs, Modul 5 (26F71225) 
LOCATION:VHS-Raum 204, Bahnhofsallee 7, 37081 Göttingen
END:VEVENT
BEGIN:VEVENT
DTSTAMP:20260425T030722
DTSTART;TZID=Europe/Berlin:20261104T084500
DTEND;TZID=Europe/Berlin:20261104T130000
UID:26F71225-20261104T084500@VHSGÖTTINGEN OSTERODE GGMBH
SUMMARY:Deutsch B1.1, Integrationskurs, Modul 5 (26F71225) 
LOCATION:VHS-Raum 204, Bahnhofsallee 7, 37081 Göttingen
END:VEVENT
BEGIN:VEVENT
DTSTAMP:20260425T030722
DTSTART;TZID=Europe/Berlin:20261105T084500
DTEND;TZID=Europe/Berlin:20261105T130000
UID:26F71225-20261105T084500@VHSGÖTTINGEN OSTERODE GGMBH
SUMMARY:Deutsch B1.1, Integrationskurs, Modul 5 (26F71225) 
LOCATION:VHS-Raum 204, Bahnhofsallee 7, 37081 Göttingen
END:VEVENT
BEGIN:VEVENT
DTSTAMP:20260425T030722
DTSTART;TZID=Europe/Berlin:20261106T084500
DTEND;TZID=Europe/Berlin:20261106T130000
UID:26F71225-20261106T084500@VHSGÖTTINGEN OSTERODE GGMBH
SUMMARY:Deutsch B1.1, Integrationskurs, Modul 5 (26F71225) 
LOCATION:VHS-Raum 204, Bahnhofsallee 7, 37081 Göttingen
END:VEVENT
BEGIN:VEVENT
DTSTAMP:20260425T030722
DTSTART;TZID=Europe/Berlin:20261109T084500
DTEND;TZID=Europe/Berlin:20261109T130000
UID:26F71225-20261109T084500@VHSGÖTTINGEN OSTERODE GGMBH
SUMMARY:Deutsch B1.1, Integrationskurs, Modul 5 (26F71225) 
LOCATION:VHS-Raum 204, Bahnhofsallee 7, 37081 Göttingen
END:VEVENT
BEGIN:VEVENT
DTSTAMP:20260425T030722
DTSTART;TZID=Europe/Berlin:20261110T084500
DTEND;TZID=Europe/Berlin:20261110T130000
UID:26F71225-20261110T084500@VHSGÖTTINGEN OSTERODE GGMBH
SUMMARY:Deutsch B1.1, Integrationskurs, Modul 5 (26F71225) 
LOCATION:VHS-Raum 204, Bahnhofsallee 7, 37081 Göttingen
END:VEVENT
BEGIN:VEVENT
DTSTAMP:20260425T030722
DTSTART;TZID=Europe/Berlin:20261111T084500
DTEND;TZID=Europe/Berlin:20261111T130000
UID:26F71225-20261111T084500@VHSGÖTTINGEN OSTERODE GGMBH
SUMMARY:Deutsch B1.1, Integrationskurs, Modul 5 (26F71225) 
LOCATION:VHS-Raum 204, Bahnhofsallee 7, 37081 Göttingen
END:VEVENT
BEGIN:VEVENT
DTSTAMP:20260425T030722
DTSTART;TZID=Europe/Berlin:20261112T084500
DTEND;TZID=Europe/Berlin:20261112T130000
UID:26F71225-20261112T084500@VHSGÖTTINGEN OSTERODE GGMBH
SUMMARY:Deutsch B1.1, Integrationskurs, Modul 5 (26F71225) 
LOCATION:VHS-Raum 204, Bahnhofsallee 7, 37081 Göttingen
END:VEVENT
BEGIN:VEVENT
DTSTAMP:20260425T030722
DTSTART;TZID=Europe/Berlin:20261113T084500
DTEND;TZID=Europe/Berlin:20261113T130000
UID:26F71225-20261113T084500@VHSGÖTTINGEN OSTERODE GGMBH
SUMMARY:Deutsch B1.1, Integrationskurs, Modul 5 (26F71225) 
LOCATION:VHS-Raum 204, Bahnhofsallee 7, 37081 Göttingen
END:VEVENT
BEGIN:VEVENT
DTSTAMP:20260425T030722
DTSTART;TZID=Europe/Berlin:20261116T084500
DTEND;TZID=Europe/Berlin:20261116T130000
UID:26F71225-20261116T084500@VHSGÖTTINGEN OSTERODE GGMBH
SUMMARY:Deutsch B1.1, Integrationskurs, Modul 5 (26F71225) 
LOCATION:VHS-Raum 204, Bahnhofsallee 7, 37081 Göttingen
END:VEVENT
BEGIN:VEVENT
DTSTAMP:20260425T030722
DTSTART;TZID=Europe/Berlin:20261117T084500
DTEND;TZID=Europe/Berlin:20261117T130000
UID:26F71225-20261117T084500@VHSGÖTTINGEN OSTERODE GGMBH
SUMMARY:Deutsch B1.1, Integrationskurs, Modul 5 (26F71225) 
LOCATION:VHS-Raum 204, Bahnhofsallee 7, 37081 Göttingen
END:VEVENT
BEGIN:VEVENT
DTSTAMP:20260425T030722
DTSTART;TZID=Europe/Berlin:20261118T084500
DTEND;TZID=Europe/Berlin:20261118T130000
UID:26F71225-20261118T084500@VHSGÖTTINGEN OSTERODE GGMBH
SUMMARY:Deutsch B1.1, Integrationskurs, Modul 5 (26F71225) 
LOCATION:VHS-Raum 204, Bahnhofsallee 7, 37081 Göttingen
END:VEVENT
END:VCALENDAR