BEGIN:VCALENDAR
VERSION:2.0
PRODID:https://www.kufer.de/kuferweb / DE
METHOD:PUBLISH
CALSCALE:GREGORIAN
X-WR-TIMEZONE:Europe/Berlin
BEGIN:VTIMEZONE
TZID:Europe/Berlin
X-LIC-LOCATION:Europe/Berlin
BEGIN:DAYLIGHT
TZOFFSETFROM:+0100
TZOFFSETTO:+0200
TZNAME:CEST
DTSTART:19700329T020000
RRULE:FREQ=YEARLY;INTERVAL=1;BYDAY=-1SU;BYMONTH=3
END:DAYLIGHT
BEGIN:STANDARD
TZOFFSETFROM:+0200
TZOFFSETTO:+0100
TZNAME:CET
DTSTART:19701025T030000
RRULE:FREQ=YEARLY;INTERVAL=1;BYDAY=-1SU;BYMONTH=10
END:STANDARD
END:VTIMEZONE
BEGIN:VEVENT
DTSTAMP:20260424T190935
DTSTART;TZID=Europe/Berlin:20270107T084500
DTEND;TZID=Europe/Berlin:20270107T130000
UID:26F71227-20270107T084500@VHSGÖTTINGEN OSTERODE GGMBH
SUMMARY:Deutsch B1, Integrationskurs, Orientierungskurs  (26F71227) 
LOCATION:VHS-Raum 001, Bahnhofsallee 7, 37081 Göttingen
END:VEVENT
BEGIN:VEVENT
DTSTAMP:20260424T190935
DTSTART;TZID=Europe/Berlin:20270108T084500
DTEND;TZID=Europe/Berlin:20270108T130000
UID:26F71227-20270108T084500@VHSGÖTTINGEN OSTERODE GGMBH
SUMMARY:Deutsch B1, Integrationskurs, Orientierungskurs  (26F71227) 
LOCATION:VHS-Raum 001, Bahnhofsallee 7, 37081 Göttingen
END:VEVENT
BEGIN:VEVENT
DTSTAMP:20260424T190935
DTSTART;TZID=Europe/Berlin:20270111T084500
DTEND;TZID=Europe/Berlin:20270111T130000
UID:26F71227-20270111T084500@VHSGÖTTINGEN OSTERODE GGMBH
SUMMARY:Deutsch B1, Integrationskurs, Orientierungskurs  (26F71227) 
LOCATION:VHS-Raum 001, Bahnhofsallee 7, 37081 Göttingen
END:VEVENT
BEGIN:VEVENT
DTSTAMP:20260424T190935
DTSTART;TZID=Europe/Berlin:20270112T084500
DTEND;TZID=Europe/Berlin:20270112T130000
UID:26F71227-20270112T084500@VHSGÖTTINGEN OSTERODE GGMBH
SUMMARY:Deutsch B1, Integrationskurs, Orientierungskurs  (26F71227) 
LOCATION:VHS-Raum 001, Bahnhofsallee 7, 37081 Göttingen
END:VEVENT
BEGIN:VEVENT
DTSTAMP:20260424T190935
DTSTART;TZID=Europe/Berlin:20270113T084500
DTEND;TZID=Europe/Berlin:20270113T130000
UID:26F71227-20270113T084500@VHSGÖTTINGEN OSTERODE GGMBH
SUMMARY:Deutsch B1, Integrationskurs, Orientierungskurs  (26F71227) 
LOCATION:VHS-Raum 001, Bahnhofsallee 7, 37081 Göttingen
END:VEVENT
BEGIN:VEVENT
DTSTAMP:20260424T190935
DTSTART;TZID=Europe/Berlin:20270114T084500
DTEND;TZID=Europe/Berlin:20270114T130000
UID:26F71227-20270114T084500@VHSGÖTTINGEN OSTERODE GGMBH
SUMMARY:Deutsch B1, Integrationskurs, Orientierungskurs  (26F71227) 
LOCATION:VHS-Raum 001, Bahnhofsallee 7, 37081 Göttingen
END:VEVENT
BEGIN:VEVENT
DTSTAMP:20260424T190935
DTSTART;TZID=Europe/Berlin:20270115T084500
DTEND;TZID=Europe/Berlin:20270115T130000
UID:26F71227-20270115T084500@VHSGÖTTINGEN OSTERODE GGMBH
SUMMARY:Deutsch B1, Integrationskurs, Orientierungskurs  (26F71227) 
LOCATION:VHS-Raum 001, Bahnhofsallee 7, 37081 Göttingen
END:VEVENT
BEGIN:VEVENT
DTSTAMP:20260424T190935
DTSTART;TZID=Europe/Berlin:20270118T084500
DTEND;TZID=Europe/Berlin:20270118T130000
UID:26F71227-20270118T084500@VHSGÖTTINGEN OSTERODE GGMBH
SUMMARY:Deutsch B1, Integrationskurs, Orientierungskurs  (26F71227) 
LOCATION:VHS-Raum 001, Bahnhofsallee 7, 37081 Göttingen
END:VEVENT
BEGIN:VEVENT
DTSTAMP:20260424T190935
DTSTART;TZID=Europe/Berlin:20270119T084500
DTEND;TZID=Europe/Berlin:20270119T130000
UID:26F71227-20270119T084500@VHSGÖTTINGEN OSTERODE GGMBH
SUMMARY:Deutsch B1, Integrationskurs, Orientierungskurs  (26F71227) 
LOCATION:VHS-Raum 001, Bahnhofsallee 7, 37081 Göttingen
END:VEVENT
BEGIN:VEVENT
DTSTAMP:20260424T190935
DTSTART;TZID=Europe/Berlin:20270120T084500
DTEND;TZID=Europe/Berlin:20270120T130000
UID:26F71227-20270120T084500@VHSGÖTTINGEN OSTERODE GGMBH
SUMMARY:Deutsch B1, Integrationskurs, Orientierungskurs  (26F71227) 
LOCATION:VHS-Raum 001, Bahnhofsallee 7, 37081 Göttingen
END:VEVENT
BEGIN:VEVENT
DTSTAMP:20260424T190935
DTSTART;TZID=Europe/Berlin:20270121T084500
DTEND;TZID=Europe/Berlin:20270121T130000
UID:26F71227-20270121T084500@VHSGÖTTINGEN OSTERODE GGMBH
SUMMARY:Deutsch B1, Integrationskurs, Orientierungskurs  (26F71227) 
LOCATION:VHS-Raum 001, Bahnhofsallee 7, 37081 Göttingen
END:VEVENT
BEGIN:VEVENT
DTSTAMP:20260424T190935
DTSTART;TZID=Europe/Berlin:20270122T084500
DTEND;TZID=Europe/Berlin:20270122T130000
UID:26F71227-20270122T084500@VHSGÖTTINGEN OSTERODE GGMBH
SUMMARY:Deutsch B1, Integrationskurs, Orientierungskurs  (26F71227) 
LOCATION:VHS-Raum 001, Bahnhofsallee 7, 37081 Göttingen
END:VEVENT
BEGIN:VEVENT
DTSTAMP:20260424T190935
DTSTART;TZID=Europe/Berlin:20270125T084500
DTEND;TZID=Europe/Berlin:20270125T130000
UID:26F71227-20270125T084500@VHSGÖTTINGEN OSTERODE GGMBH
SUMMARY:Deutsch B1, Integrationskurs, Orientierungskurs  (26F71227) 
LOCATION:VHS-Raum 001, Bahnhofsallee 7, 37081 Göttingen
END:VEVENT
BEGIN:VEVENT
DTSTAMP:20260424T190935
DTSTART;TZID=Europe/Berlin:20270126T084500
DTEND;TZID=Europe/Berlin:20270126T130000
UID:26F71227-20270126T084500@VHSGÖTTINGEN OSTERODE GGMBH
SUMMARY:Deutsch B1, Integrationskurs, Orientierungskurs  (26F71227) 
LOCATION:VHS-Raum 001, Bahnhofsallee 7, 37081 Göttingen
END:VEVENT
BEGIN:VEVENT
DTSTAMP:20260424T190935
DTSTART;TZID=Europe/Berlin:20270127T084500
DTEND;TZID=Europe/Berlin:20270127T130000
UID:26F71227-20270127T084500@VHSGÖTTINGEN OSTERODE GGMBH
SUMMARY:Deutsch B1, Integrationskurs, Orientierungskurs  (26F71227) 
LOCATION:VHS-Raum 001, Bahnhofsallee 7, 37081 Göttingen
END:VEVENT
BEGIN:VEVENT
DTSTAMP:20260424T190935
DTSTART;TZID=Europe/Berlin:20270128T084500
DTEND;TZID=Europe/Berlin:20270128T130000
UID:26F71227-20270128T084500@VHSGÖTTINGEN OSTERODE GGMBH
SUMMARY:Deutsch B1, Integrationskurs, Orientierungskurs  (26F71227) 
LOCATION:VHS-Raum 001, Bahnhofsallee 7, 37081 Göttingen
END:VEVENT
BEGIN:VEVENT
DTSTAMP:20260424T190935
DTSTART;TZID=Europe/Berlin:20270129T084500
DTEND;TZID=Europe/Berlin:20270129T130000
UID:26F71227-20270129T084500@VHSGÖTTINGEN OSTERODE GGMBH
SUMMARY:Deutsch B1, Integrationskurs, Orientierungskurs  (26F71227) 
LOCATION:VHS-Raum 001, Bahnhofsallee 7, 37081 Göttingen
END:VEVENT
BEGIN:VEVENT
DTSTAMP:20260424T190935
DTSTART;TZID=Europe/Berlin:20270201T084500
DTEND;TZID=Europe/Berlin:20270201T130000
UID:26F71227-20270201T084500@VHSGÖTTINGEN OSTERODE GGMBH
SUMMARY:Deutsch B1, Integrationskurs, Orientierungskurs  (26F71227) 
LOCATION:VHS-Raum 001, Bahnhofsallee 7, 37081 Göttingen
END:VEVENT
BEGIN:VEVENT
DTSTAMP:20260424T190935
DTSTART;TZID=Europe/Berlin:20270202T084500
DTEND;TZID=Europe/Berlin:20270202T130000
UID:26F71227-20270202T084500@VHSGÖTTINGEN OSTERODE GGMBH
SUMMARY:Deutsch B1, Integrationskurs, Orientierungskurs  (26F71227) 
LOCATION:VHS-Raum 001, Bahnhofsallee 7, 37081 Göttingen
END:VEVENT
BEGIN:VEVENT
DTSTAMP:20260424T190935
DTSTART;TZID=Europe/Berlin:20270203T084500
DTEND;TZID=Europe/Berlin:20270203T130000
UID:26F71227-20270203T084500@VHSGÖTTINGEN OSTERODE GGMBH
SUMMARY:Deutsch B1, Integrationskurs, Orientierungskurs  (26F71227) 
LOCATION:VHS-Raum 001, Bahnhofsallee 7, 37081 Göttingen
END:VEVENT
END:VCALENDAR