BEGIN:VCALENDAR
VERSION:2.0
PRODID:https://www.kufer.de/kuferweb / DE
METHOD:PUBLISH
CALSCALE:GREGORIAN
X-WR-TIMEZONE:Europe/Berlin
BEGIN:VTIMEZONE
TZID:Europe/Berlin
X-LIC-LOCATION:Europe/Berlin
BEGIN:DAYLIGHT
TZOFFSETFROM:+0100
TZOFFSETTO:+0200
TZNAME:CEST
DTSTART:19700329T020000
RRULE:FREQ=YEARLY;INTERVAL=1;BYDAY=-1SU;BYMONTH=3
END:DAYLIGHT
BEGIN:STANDARD
TZOFFSETFROM:+0200
TZOFFSETTO:+0100
TZNAME:CET
DTSTART:19701025T030000
RRULE:FREQ=YEARLY;INTERVAL=1;BYDAY=-1SU;BYMONTH=10
END:STANDARD
END:VTIMEZONE
BEGIN:VEVENT
DTSTAMP:20260424T102539
DTSTART;TZID=Europe/Berlin:20260216T191500
DTEND;TZID=Europe/Berlin:20260216T204500
UID:26F73307-20260216T191500@VHSGÖTTINGEN OSTERODE GGMBH
SUMMARY:Französisch B1/ B2: Exercises de conversation et de grammaire (26F73307) 
LOCATION:VHS-Raum 102, Bahnhofsallee 7, 37081 Göttingen
END:VEVENT
BEGIN:VEVENT
DTSTAMP:20260424T102539
DTSTART;TZID=Europe/Berlin:20260223T191500
DTEND;TZID=Europe/Berlin:20260223T204500
UID:26F73307-20260223T191500@VHSGÖTTINGEN OSTERODE GGMBH
SUMMARY:Französisch B1/ B2: Exercises de conversation et de grammaire (26F73307) 
LOCATION:VHS-Raum 102, Bahnhofsallee 7, 37081 Göttingen
END:VEVENT
BEGIN:VEVENT
DTSTAMP:20260424T102539
DTSTART;TZID=Europe/Berlin:20260302T191500
DTEND;TZID=Europe/Berlin:20260302T204500
UID:26F73307-20260302T191500@VHSGÖTTINGEN OSTERODE GGMBH
SUMMARY:Französisch B1/ B2: Exercises de conversation et de grammaire (26F73307) 
LOCATION:VHS-Raum 102, Bahnhofsallee 7, 37081 Göttingen
END:VEVENT
BEGIN:VEVENT
DTSTAMP:20260424T102539
DTSTART;TZID=Europe/Berlin:20260309T191500
DTEND;TZID=Europe/Berlin:20260309T204500
UID:26F73307-20260309T191500@VHSGÖTTINGEN OSTERODE GGMBH
SUMMARY:Französisch B1/ B2: Exercises de conversation et de grammaire (26F73307) 
LOCATION:VHS-Raum 102, Bahnhofsallee 7, 37081 Göttingen
END:VEVENT
BEGIN:VEVENT
DTSTAMP:20260424T102539
DTSTART;TZID=Europe/Berlin:20260323T191500
DTEND;TZID=Europe/Berlin:20260323T204500
UID:26F73307-20260323T191500@VHSGÖTTINGEN OSTERODE GGMBH
SUMMARY:Französisch B1/ B2: Exercises de conversation et de grammaire (26F73307) 
LOCATION:VHS-Raum 102, Bahnhofsallee 7, 37081 Göttingen
END:VEVENT
BEGIN:VEVENT
DTSTAMP:20260424T102539
DTSTART;TZID=Europe/Berlin:20260330T191500
DTEND;TZID=Europe/Berlin:20260330T204500
UID:26F73307-20260330T191500@VHSGÖTTINGEN OSTERODE GGMBH
SUMMARY:Französisch B1/ B2: Exercises de conversation et de grammaire (26F73307) 
LOCATION:VHS-Raum 102, Bahnhofsallee 7, 37081 Göttingen
END:VEVENT
BEGIN:VEVENT
DTSTAMP:20260424T102539
DTSTART;TZID=Europe/Berlin:20260427T191500
DTEND;TZID=Europe/Berlin:20260427T204500
UID:26F73307-20260427T191500@VHSGÖTTINGEN OSTERODE GGMBH
SUMMARY:Französisch B1/ B2: Exercises de conversation et de grammaire (26F73307) 
LOCATION:VHS-Raum 102, Bahnhofsallee 7, 37081 Göttingen
END:VEVENT
BEGIN:VEVENT
DTSTAMP:20260424T102539
DTSTART;TZID=Europe/Berlin:20260511T191500
DTEND;TZID=Europe/Berlin:20260511T204500
UID:26F73307-20260511T191500@VHSGÖTTINGEN OSTERODE GGMBH
SUMMARY:Französisch B1/ B2: Exercises de conversation et de grammaire (26F73307) 
LOCATION:VHS-Raum 102, Bahnhofsallee 7, 37081 Göttingen
END:VEVENT
BEGIN:VEVENT
DTSTAMP:20260424T102539
DTSTART;TZID=Europe/Berlin:20260518T191500
DTEND;TZID=Europe/Berlin:20260518T204500
UID:26F73307-20260518T191500@VHSGÖTTINGEN OSTERODE GGMBH
SUMMARY:Französisch B1/ B2: Exercises de conversation et de grammaire (26F73307) 
LOCATION:VHS-Raum 102, Bahnhofsallee 7, 37081 Göttingen
END:VEVENT
BEGIN:VEVENT
DTSTAMP:20260424T102539
DTSTART;TZID=Europe/Berlin:20260601T191500
DTEND;TZID=Europe/Berlin:20260601T204500
UID:26F73307-20260601T191500@VHSGÖTTINGEN OSTERODE GGMBH
SUMMARY:Französisch B1/ B2: Exercises de conversation et de grammaire (26F73307) 
LOCATION:VHS-Raum 102, Bahnhofsallee 7, 37081 Göttingen
END:VEVENT
BEGIN:VEVENT
DTSTAMP:20260424T102539
DTSTART;TZID=Europe/Berlin:20260608T191500
DTEND;TZID=Europe/Berlin:20260608T204500
UID:26F73307-20260608T191500@VHSGÖTTINGEN OSTERODE GGMBH
SUMMARY:Französisch B1/ B2: Exercises de conversation et de grammaire (26F73307) 
LOCATION:VHS-Raum 102, Bahnhofsallee 7, 37081 Göttingen
END:VEVENT
END:VCALENDAR