BEGIN:VCALENDAR
VERSION:2.0
PRODID:https://www.kufer.de/kuferweb / DE
METHOD:PUBLISH
CALSCALE:GREGORIAN
X-WR-TIMEZONE:Europe/Berlin
BEGIN:VTIMEZONE
TZID:Europe/Berlin
X-LIC-LOCATION:Europe/Berlin
BEGIN:DAYLIGHT
TZOFFSETFROM:+0100
TZOFFSETTO:+0200
TZNAME:CEST
DTSTART:19700329T020000
RRULE:FREQ=YEARLY;INTERVAL=1;BYDAY=-1SU;BYMONTH=3
END:DAYLIGHT
BEGIN:STANDARD
TZOFFSETFROM:+0200
TZOFFSETTO:+0100
TZNAME:CET
DTSTART:19701025T030000
RRULE:FREQ=YEARLY;INTERVAL=1;BYDAY=-1SU;BYMONTH=10
END:STANDARD
END:VTIMEZONE
BEGIN:VEVENT
DTSTAMP:20260421T230120
DTSTART;TZID=Europe/Berlin:20260629T083000
DTEND;TZID=Europe/Berlin:20260629T133000
UID:26F84160-20260629T083000@VHSGÖTTINGEN OSTERODE GGMBH
SUMMARY:Integrationscoaching plus - Besser Deutsch schreiben für den Beruf - Intensiv (26F84160) 
LOCATION:VHS-Raum 201, Bahnhofsallee 7, 37081 Göttingen
END:VEVENT
BEGIN:VEVENT
DTSTAMP:20260421T230120
DTSTART;TZID=Europe/Berlin:20260630T083000
DTEND;TZID=Europe/Berlin:20260630T133000
UID:26F84160-20260630T083000@VHSGÖTTINGEN OSTERODE GGMBH
SUMMARY:Integrationscoaching plus - Besser Deutsch schreiben für den Beruf - Intensiv (26F84160) 
LOCATION:VHS-Raum 201, Bahnhofsallee 7, 37081 Göttingen
END:VEVENT
BEGIN:VEVENT
DTSTAMP:20260421T230120
DTSTART;TZID=Europe/Berlin:20260701T083000
DTEND;TZID=Europe/Berlin:20260701T133000
UID:26F84160-20260701T083000@VHSGÖTTINGEN OSTERODE GGMBH
SUMMARY:Integrationscoaching plus - Besser Deutsch schreiben für den Beruf - Intensiv (26F84160) 
LOCATION:VHS-Raum 201, Bahnhofsallee 7, 37081 Göttingen
END:VEVENT
BEGIN:VEVENT
DTSTAMP:20260421T230120
DTSTART;TZID=Europe/Berlin:20260702T083000
DTEND;TZID=Europe/Berlin:20260702T133000
UID:26F84160-20260702T083000@VHSGÖTTINGEN OSTERODE GGMBH
SUMMARY:Integrationscoaching plus - Besser Deutsch schreiben für den Beruf - Intensiv (26F84160) 
LOCATION:VHS-Raum 201, Bahnhofsallee 7, 37081 Göttingen
END:VEVENT
BEGIN:VEVENT
DTSTAMP:20260421T230120
DTSTART;TZID=Europe/Berlin:20260703T083000
DTEND;TZID=Europe/Berlin:20260703T133000
UID:26F84160-20260703T083000@VHSGÖTTINGEN OSTERODE GGMBH
SUMMARY:Integrationscoaching plus - Besser Deutsch schreiben für den Beruf - Intensiv (26F84160) 
LOCATION:VHS-Raum 201, Bahnhofsallee 7, 37081 Göttingen
END:VEVENT
BEGIN:VEVENT
DTSTAMP:20260421T230120
DTSTART;TZID=Europe/Berlin:20260706T083000
DTEND;TZID=Europe/Berlin:20260706T133000
UID:26F84160-20260706T083000@VHSGÖTTINGEN OSTERODE GGMBH
SUMMARY:Integrationscoaching plus - Besser Deutsch schreiben für den Beruf - Intensiv (26F84160) 
LOCATION:VHS-Raum 201, Bahnhofsallee 7, 37081 Göttingen
END:VEVENT
BEGIN:VEVENT
DTSTAMP:20260421T230120
DTSTART;TZID=Europe/Berlin:20260707T083000
DTEND;TZID=Europe/Berlin:20260707T133000
UID:26F84160-20260707T083000@VHSGÖTTINGEN OSTERODE GGMBH
SUMMARY:Integrationscoaching plus - Besser Deutsch schreiben für den Beruf - Intensiv (26F84160) 
LOCATION:VHS-Raum 201, Bahnhofsallee 7, 37081 Göttingen
END:VEVENT
BEGIN:VEVENT
DTSTAMP:20260421T230120
DTSTART;TZID=Europe/Berlin:20260708T083000
DTEND;TZID=Europe/Berlin:20260708T133000
UID:26F84160-20260708T083000@VHSGÖTTINGEN OSTERODE GGMBH
SUMMARY:Integrationscoaching plus - Besser Deutsch schreiben für den Beruf - Intensiv (26F84160) 
LOCATION:VHS-Raum 201, Bahnhofsallee 7, 37081 Göttingen
END:VEVENT
BEGIN:VEVENT
DTSTAMP:20260421T230120
DTSTART;TZID=Europe/Berlin:20260709T083000
DTEND;TZID=Europe/Berlin:20260709T133000
UID:26F84160-20260709T083000@VHSGÖTTINGEN OSTERODE GGMBH
SUMMARY:Integrationscoaching plus - Besser Deutsch schreiben für den Beruf - Intensiv (26F84160) 
LOCATION:VHS-Raum 201, Bahnhofsallee 7, 37081 Göttingen
END:VEVENT
BEGIN:VEVENT
DTSTAMP:20260421T230120
DTSTART;TZID=Europe/Berlin:20260710T083000
DTEND;TZID=Europe/Berlin:20260710T133000
UID:26F84160-20260710T083000@VHSGÖTTINGEN OSTERODE GGMBH
SUMMARY:Integrationscoaching plus - Besser Deutsch schreiben für den Beruf - Intensiv (26F84160) 
LOCATION:VHS-Raum 201, Bahnhofsallee 7, 37081 Göttingen
END:VEVENT
BEGIN:VEVENT
DTSTAMP:20260421T230120
DTSTART;TZID=Europe/Berlin:20260713T083000
DTEND;TZID=Europe/Berlin:20260713T133000
UID:26F84160-20260713T083000@VHSGÖTTINGEN OSTERODE GGMBH
SUMMARY:Integrationscoaching plus - Besser Deutsch schreiben für den Beruf - Intensiv (26F84160) 
LOCATION:VHS-Raum 201, Bahnhofsallee 7, 37081 Göttingen
END:VEVENT
BEGIN:VEVENT
DTSTAMP:20260421T230120
DTSTART;TZID=Europe/Berlin:20260714T083000
DTEND;TZID=Europe/Berlin:20260714T133000
UID:26F84160-20260714T083000@VHSGÖTTINGEN OSTERODE GGMBH
SUMMARY:Integrationscoaching plus - Besser Deutsch schreiben für den Beruf - Intensiv (26F84160) 
LOCATION:VHS-Raum 201, Bahnhofsallee 7, 37081 Göttingen
END:VEVENT
BEGIN:VEVENT
DTSTAMP:20260421T230120
DTSTART;TZID=Europe/Berlin:20260715T083000
DTEND;TZID=Europe/Berlin:20260715T133000
UID:26F84160-20260715T083000@VHSGÖTTINGEN OSTERODE GGMBH
SUMMARY:Integrationscoaching plus - Besser Deutsch schreiben für den Beruf - Intensiv (26F84160) 
LOCATION:VHS-Raum 201, Bahnhofsallee 7, 37081 Göttingen
END:VEVENT
BEGIN:VEVENT
DTSTAMP:20260421T230120
DTSTART;TZID=Europe/Berlin:20260716T083000
DTEND;TZID=Europe/Berlin:20260716T133000
UID:26F84160-20260716T083000@VHSGÖTTINGEN OSTERODE GGMBH
SUMMARY:Integrationscoaching plus - Besser Deutsch schreiben für den Beruf - Intensiv (26F84160) 
LOCATION:VHS-Raum 201, Bahnhofsallee 7, 37081 Göttingen
END:VEVENT
BEGIN:VEVENT
DTSTAMP:20260421T230120
DTSTART;TZID=Europe/Berlin:20260717T083000
DTEND;TZID=Europe/Berlin:20260717T133000
UID:26F84160-20260717T083000@VHSGÖTTINGEN OSTERODE GGMBH
SUMMARY:Integrationscoaching plus - Besser Deutsch schreiben für den Beruf - Intensiv (26F84160) 
LOCATION:VHS-Raum 201, Bahnhofsallee 7, 37081 Göttingen
END:VEVENT
BEGIN:VEVENT
DTSTAMP:20260421T230120
DTSTART;TZID=Europe/Berlin:20260720T083000
DTEND;TZID=Europe/Berlin:20260720T133000
UID:26F84160-20260720T083000@VHSGÖTTINGEN OSTERODE GGMBH
SUMMARY:Integrationscoaching plus - Besser Deutsch schreiben für den Beruf - Intensiv (26F84160) 
LOCATION:VHS-Raum 201, Bahnhofsallee 7, 37081 Göttingen
END:VEVENT
BEGIN:VEVENT
DTSTAMP:20260421T230120
DTSTART;TZID=Europe/Berlin:20260721T083000
DTEND;TZID=Europe/Berlin:20260721T133000
UID:26F84160-20260721T083000@VHSGÖTTINGEN OSTERODE GGMBH
SUMMARY:Integrationscoaching plus - Besser Deutsch schreiben für den Beruf - Intensiv (26F84160) 
LOCATION:VHS-Raum 201, Bahnhofsallee 7, 37081 Göttingen
END:VEVENT
BEGIN:VEVENT
DTSTAMP:20260421T230120
DTSTART;TZID=Europe/Berlin:20260722T083000
DTEND;TZID=Europe/Berlin:20260722T133000
UID:26F84160-20260722T083000@VHSGÖTTINGEN OSTERODE GGMBH
SUMMARY:Integrationscoaching plus - Besser Deutsch schreiben für den Beruf - Intensiv (26F84160) 
LOCATION:VHS-Raum 201, Bahnhofsallee 7, 37081 Göttingen
END:VEVENT
BEGIN:VEVENT
DTSTAMP:20260421T230120
DTSTART;TZID=Europe/Berlin:20260723T083000
DTEND;TZID=Europe/Berlin:20260723T133000
UID:26F84160-20260723T083000@VHSGÖTTINGEN OSTERODE GGMBH
SUMMARY:Integrationscoaching plus - Besser Deutsch schreiben für den Beruf - Intensiv (26F84160) 
LOCATION:VHS-Raum 201, Bahnhofsallee 7, 37081 Göttingen
END:VEVENT
BEGIN:VEVENT
DTSTAMP:20260421T230120
DTSTART;TZID=Europe/Berlin:20260724T083000
DTEND;TZID=Europe/Berlin:20260724T133000
UID:26F84160-20260724T083000@VHSGÖTTINGEN OSTERODE GGMBH
SUMMARY:Integrationscoaching plus - Besser Deutsch schreiben für den Beruf - Intensiv (26F84160) 
LOCATION:VHS-Raum 201, Bahnhofsallee 7, 37081 Göttingen
END:VEVENT
BEGIN:VEVENT
DTSTAMP:20260421T230120
DTSTART;TZID=Europe/Berlin:20260727T083000
DTEND;TZID=Europe/Berlin:20260727T133000
UID:26F84160-20260727T083000@VHSGÖTTINGEN OSTERODE GGMBH
SUMMARY:Integrationscoaching plus - Besser Deutsch schreiben für den Beruf - Intensiv (26F84160) 
LOCATION:VHS-Raum 201, Bahnhofsallee 7, 37081 Göttingen
END:VEVENT
BEGIN:VEVENT
DTSTAMP:20260421T230120
DTSTART;TZID=Europe/Berlin:20260728T083000
DTEND;TZID=Europe/Berlin:20260728T133000
UID:26F84160-20260728T083000@VHSGÖTTINGEN OSTERODE GGMBH
SUMMARY:Integrationscoaching plus - Besser Deutsch schreiben für den Beruf - Intensiv (26F84160) 
LOCATION:VHS-Raum 201, Bahnhofsallee 7, 37081 Göttingen
END:VEVENT
BEGIN:VEVENT
DTSTAMP:20260421T230120
DTSTART;TZID=Europe/Berlin:20260729T083000
DTEND;TZID=Europe/Berlin:20260729T133000
UID:26F84160-20260729T083000@VHSGÖTTINGEN OSTERODE GGMBH
SUMMARY:Integrationscoaching plus - Besser Deutsch schreiben für den Beruf - Intensiv (26F84160) 
LOCATION:VHS-Raum 201, Bahnhofsallee 7, 37081 Göttingen
END:VEVENT
BEGIN:VEVENT
DTSTAMP:20260421T230120
DTSTART;TZID=Europe/Berlin:20260730T083000
DTEND;TZID=Europe/Berlin:20260730T133000
UID:26F84160-20260730T083000@VHSGÖTTINGEN OSTERODE GGMBH
SUMMARY:Integrationscoaching plus - Besser Deutsch schreiben für den Beruf - Intensiv (26F84160) 
LOCATION:VHS-Raum 201, Bahnhofsallee 7, 37081 Göttingen
END:VEVENT
BEGIN:VEVENT
DTSTAMP:20260421T230120
DTSTART;TZID=Europe/Berlin:20260731T083000
DTEND;TZID=Europe/Berlin:20260731T133000
UID:26F84160-20260731T083000@VHSGÖTTINGEN OSTERODE GGMBH
SUMMARY:Integrationscoaching plus - Besser Deutsch schreiben für den Beruf - Intensiv (26F84160) 
LOCATION:VHS-Raum 201, Bahnhofsallee 7, 37081 Göttingen
END:VEVENT
BEGIN:VEVENT
DTSTAMP:20260421T230120
DTSTART;TZID=Europe/Berlin:20260803T083000
DTEND;TZID=Europe/Berlin:20260803T133000
UID:26F84160-20260803T083000@VHSGÖTTINGEN OSTERODE GGMBH
SUMMARY:Integrationscoaching plus - Besser Deutsch schreiben für den Beruf - Intensiv (26F84160) 
LOCATION:VHS-Raum 201, Bahnhofsallee 7, 37081 Göttingen
END:VEVENT
BEGIN:VEVENT
DTSTAMP:20260421T230120
DTSTART;TZID=Europe/Berlin:20260804T083000
DTEND;TZID=Europe/Berlin:20260804T133000
UID:26F84160-20260804T083000@VHSGÖTTINGEN OSTERODE GGMBH
SUMMARY:Integrationscoaching plus - Besser Deutsch schreiben für den Beruf - Intensiv (26F84160) 
LOCATION:VHS-Raum 201, Bahnhofsallee 7, 37081 Göttingen
END:VEVENT
BEGIN:VEVENT
DTSTAMP:20260421T230120
DTSTART;TZID=Europe/Berlin:20260805T083000
DTEND;TZID=Europe/Berlin:20260805T133000
UID:26F84160-20260805T083000@VHSGÖTTINGEN OSTERODE GGMBH
SUMMARY:Integrationscoaching plus - Besser Deutsch schreiben für den Beruf - Intensiv (26F84160) 
LOCATION:VHS-Raum 201, Bahnhofsallee 7, 37081 Göttingen
END:VEVENT
BEGIN:VEVENT
DTSTAMP:20260421T230120
DTSTART;TZID=Europe/Berlin:20260806T083000
DTEND;TZID=Europe/Berlin:20260806T133000
UID:26F84160-20260806T083000@VHSGÖTTINGEN OSTERODE GGMBH
SUMMARY:Integrationscoaching plus - Besser Deutsch schreiben für den Beruf - Intensiv (26F84160) 
LOCATION:VHS-Raum 201, Bahnhofsallee 7, 37081 Göttingen
END:VEVENT
BEGIN:VEVENT
DTSTAMP:20260421T230120
DTSTART;TZID=Europe/Berlin:20260807T083000
DTEND;TZID=Europe/Berlin:20260807T133000
UID:26F84160-20260807T083000@VHSGÖTTINGEN OSTERODE GGMBH
SUMMARY:Integrationscoaching plus - Besser Deutsch schreiben für den Beruf - Intensiv (26F84160) 
LOCATION:VHS-Raum 201, Bahnhofsallee 7, 37081 Göttingen
END:VEVENT
END:VCALENDAR