BEGIN:VCALENDAR
VERSION:2.0
PRODID:https://www.kufer.de/kuferweb / DE
METHOD:PUBLISH
CALSCALE:GREGORIAN
X-WR-TIMEZONE:Europe/Berlin
BEGIN:VTIMEZONE
TZID:Europe/Berlin
X-LIC-LOCATION:Europe/Berlin
BEGIN:DAYLIGHT
TZOFFSETFROM:+0100
TZOFFSETTO:+0200
TZNAME:CEST
DTSTART:19700329T020000
RRULE:FREQ=YEARLY;INTERVAL=1;BYDAY=-1SU;BYMONTH=3
END:DAYLIGHT
BEGIN:STANDARD
TZOFFSETFROM:+0200
TZOFFSETTO:+0100
TZNAME:CET
DTSTART:19701025T030000
RRULE:FREQ=YEARLY;INTERVAL=1;BYDAY=-1SU;BYMONTH=10
END:STANDARD
END:VTIMEZONE
BEGIN:VEVENT
DTSTAMP:20260420T063423
DTSTART;TZID=Europe/Berlin:20260304T083000
DTEND;TZID=Europe/Berlin:20260304T133000
UID:26F84402-20260304T083000@VHSGÖTTINGEN OSTERODE GGMBH
SUMMARY:Perspektive Berufsrückkehr - Kompetenzen für den Beruf (für Frauen) (26F84402) 
LOCATION:VHS-Raum 303, Bahnhofsallee 7, 37081 Göttingen
END:VEVENT
BEGIN:VEVENT
DTSTAMP:20260420T063423
DTSTART;TZID=Europe/Berlin:20260305T083000
DTEND;TZID=Europe/Berlin:20260305T133000
UID:26F84402-20260305T083000@VHSGÖTTINGEN OSTERODE GGMBH
SUMMARY:Perspektive Berufsrückkehr - Kompetenzen für den Beruf (für Frauen) (26F84402) 
LOCATION:VHS-Raum 303, Bahnhofsallee 7, 37081 Göttingen
END:VEVENT
BEGIN:VEVENT
DTSTAMP:20260420T063423
DTSTART;TZID=Europe/Berlin:20260306T083000
DTEND;TZID=Europe/Berlin:20260306T133000
UID:26F84402-20260306T083000@VHSGÖTTINGEN OSTERODE GGMBH
SUMMARY:Perspektive Berufsrückkehr - Kompetenzen für den Beruf (für Frauen) (26F84402) 
LOCATION:VHS-Raum 303, Bahnhofsallee 7, 37081 Göttingen
END:VEVENT
BEGIN:VEVENT
DTSTAMP:20260420T063423
DTSTART;TZID=Europe/Berlin:20260309T083000
DTEND;TZID=Europe/Berlin:20260309T133000
UID:26F84402-20260309T083000@VHSGÖTTINGEN OSTERODE GGMBH
SUMMARY:Perspektive Berufsrückkehr - Kompetenzen für den Beruf (für Frauen) (26F84402) 
LOCATION:VHS-Raum 303, Bahnhofsallee 7, 37081 Göttingen
END:VEVENT
BEGIN:VEVENT
DTSTAMP:20260420T063423
DTSTART;TZID=Europe/Berlin:20260310T083000
DTEND;TZID=Europe/Berlin:20260310T133000
UID:26F84402-20260310T083000@VHSGÖTTINGEN OSTERODE GGMBH
SUMMARY:Perspektive Berufsrückkehr - Kompetenzen für den Beruf (für Frauen) (26F84402) 
LOCATION:VHS-Raum 303, Bahnhofsallee 7, 37081 Göttingen
END:VEVENT
BEGIN:VEVENT
DTSTAMP:20260420T063423
DTSTART;TZID=Europe/Berlin:20260311T083000
DTEND;TZID=Europe/Berlin:20260311T133000
UID:26F84402-20260311T083000@VHSGÖTTINGEN OSTERODE GGMBH
SUMMARY:Perspektive Berufsrückkehr - Kompetenzen für den Beruf (für Frauen) (26F84402) 
LOCATION:VHS-Raum 303, Bahnhofsallee 7, 37081 Göttingen
END:VEVENT
BEGIN:VEVENT
DTSTAMP:20260420T063423
DTSTART;TZID=Europe/Berlin:20260312T083000
DTEND;TZID=Europe/Berlin:20260312T133000
UID:26F84402-20260312T083000@VHSGÖTTINGEN OSTERODE GGMBH
SUMMARY:Perspektive Berufsrückkehr - Kompetenzen für den Beruf (für Frauen) (26F84402) 
LOCATION:VHS-Raum 303, Bahnhofsallee 7, 37081 Göttingen
END:VEVENT
BEGIN:VEVENT
DTSTAMP:20260420T063423
DTSTART;TZID=Europe/Berlin:20260313T083000
DTEND;TZID=Europe/Berlin:20260313T133000
UID:26F84402-20260313T083000@VHSGÖTTINGEN OSTERODE GGMBH
SUMMARY:Perspektive Berufsrückkehr - Kompetenzen für den Beruf (für Frauen) (26F84402) 
LOCATION:VHS-Raum 303, Bahnhofsallee 7, 37081 Göttingen
END:VEVENT
BEGIN:VEVENT
DTSTAMP:20260420T063423
DTSTART;TZID=Europe/Berlin:20260316T083000
DTEND;TZID=Europe/Berlin:20260316T133000
UID:26F84402-20260316T083000@VHSGÖTTINGEN OSTERODE GGMBH
SUMMARY:Perspektive Berufsrückkehr - Kompetenzen für den Beruf (für Frauen) (26F84402) 
LOCATION:VHS-Raum 303, Bahnhofsallee 7, 37081 Göttingen
END:VEVENT
BEGIN:VEVENT
DTSTAMP:20260420T063423
DTSTART;TZID=Europe/Berlin:20260317T083000
DTEND;TZID=Europe/Berlin:20260317T133000
UID:26F84402-20260317T083000@VHSGÖTTINGEN OSTERODE GGMBH
SUMMARY:Perspektive Berufsrückkehr - Kompetenzen für den Beruf (für Frauen) (26F84402) 
LOCATION:VHS-Raum 303, Bahnhofsallee 7, 37081 Göttingen
END:VEVENT
BEGIN:VEVENT
DTSTAMP:20260420T063423
DTSTART;TZID=Europe/Berlin:20260318T083000
DTEND;TZID=Europe/Berlin:20260318T133000
UID:26F84402-20260318T083000@VHSGÖTTINGEN OSTERODE GGMBH
SUMMARY:Perspektive Berufsrückkehr - Kompetenzen für den Beruf (für Frauen) (26F84402) 
LOCATION:VHS-Raum 303, Bahnhofsallee 7, 37081 Göttingen
END:VEVENT
BEGIN:VEVENT
DTSTAMP:20260420T063423
DTSTART;TZID=Europe/Berlin:20260319T083000
DTEND;TZID=Europe/Berlin:20260319T133000
UID:26F84402-20260319T083000@VHSGÖTTINGEN OSTERODE GGMBH
SUMMARY:Perspektive Berufsrückkehr - Kompetenzen für den Beruf (für Frauen) (26F84402) 
LOCATION:VHS-Raum 303, Bahnhofsallee 7, 37081 Göttingen
END:VEVENT
BEGIN:VEVENT
DTSTAMP:20260420T063423
DTSTART;TZID=Europe/Berlin:20260320T083000
DTEND;TZID=Europe/Berlin:20260320T133000
UID:26F84402-20260320T083000@VHSGÖTTINGEN OSTERODE GGMBH
SUMMARY:Perspektive Berufsrückkehr - Kompetenzen für den Beruf (für Frauen) (26F84402) 
LOCATION:VHS-Raum 303, Bahnhofsallee 7, 37081 Göttingen
END:VEVENT
BEGIN:VEVENT
DTSTAMP:20260420T063423
DTSTART;TZID=Europe/Berlin:20260323T083000
DTEND;TZID=Europe/Berlin:20260323T133000
UID:26F84402-20260323T083000@VHSGÖTTINGEN OSTERODE GGMBH
SUMMARY:Perspektive Berufsrückkehr - Kompetenzen für den Beruf (für Frauen) (26F84402) 
LOCATION:VHS-Raum 303, Bahnhofsallee 7, 37081 Göttingen
END:VEVENT
BEGIN:VEVENT
DTSTAMP:20260420T063423
DTSTART;TZID=Europe/Berlin:20260407T083000
DTEND;TZID=Europe/Berlin:20260407T133000
UID:26F84402-20260407T083000@VHSGÖTTINGEN OSTERODE GGMBH
SUMMARY:Perspektive Berufsrückkehr - Kompetenzen für den Beruf (für Frauen) (26F84402) 
LOCATION:VHS-Raum 303, Bahnhofsallee 7, 37081 Göttingen
END:VEVENT
BEGIN:VEVENT
DTSTAMP:20260420T063423
DTSTART;TZID=Europe/Berlin:20260408T083000
DTEND;TZID=Europe/Berlin:20260408T133000
UID:26F84402-20260408T083000@VHSGÖTTINGEN OSTERODE GGMBH
SUMMARY:Perspektive Berufsrückkehr - Kompetenzen für den Beruf (für Frauen) (26F84402) 
LOCATION:VHS-Raum 303, Bahnhofsallee 7, 37081 Göttingen
END:VEVENT
BEGIN:VEVENT
DTSTAMP:20260420T063423
DTSTART;TZID=Europe/Berlin:20260409T083000
DTEND;TZID=Europe/Berlin:20260409T133000
UID:26F84402-20260409T083000@VHSGÖTTINGEN OSTERODE GGMBH
SUMMARY:Perspektive Berufsrückkehr - Kompetenzen für den Beruf (für Frauen) (26F84402) 
LOCATION:VHS-Raum 303, Bahnhofsallee 7, 37081 Göttingen
END:VEVENT
BEGIN:VEVENT
DTSTAMP:20260420T063423
DTSTART;TZID=Europe/Berlin:20260410T083000
DTEND;TZID=Europe/Berlin:20260410T133000
UID:26F84402-20260410T083000@VHSGÖTTINGEN OSTERODE GGMBH
SUMMARY:Perspektive Berufsrückkehr - Kompetenzen für den Beruf (für Frauen) (26F84402) 
LOCATION:VHS-Raum 303, Bahnhofsallee 7, 37081 Göttingen
END:VEVENT
BEGIN:VEVENT
DTSTAMP:20260420T063423
DTSTART;TZID=Europe/Berlin:20260413T083000
DTEND;TZID=Europe/Berlin:20260413T133000
UID:26F84402-20260413T083000@VHSGÖTTINGEN OSTERODE GGMBH
SUMMARY:Perspektive Berufsrückkehr - Kompetenzen für den Beruf (für Frauen) (26F84402) 
LOCATION:VHS-Raum 303, Bahnhofsallee 7, 37081 Göttingen
END:VEVENT
BEGIN:VEVENT
DTSTAMP:20260420T063423
DTSTART;TZID=Europe/Berlin:20260414T083000
DTEND;TZID=Europe/Berlin:20260414T133000
UID:26F84402-20260414T083000@VHSGÖTTINGEN OSTERODE GGMBH
SUMMARY:Perspektive Berufsrückkehr - Kompetenzen für den Beruf (für Frauen) (26F84402) 
LOCATION:VHS-Raum 303, Bahnhofsallee 7, 37081 Göttingen
END:VEVENT
BEGIN:VEVENT
DTSTAMP:20260420T063423
DTSTART;TZID=Europe/Berlin:20260415T083000
DTEND;TZID=Europe/Berlin:20260415T133000
UID:26F84402-20260415T083000@VHSGÖTTINGEN OSTERODE GGMBH
SUMMARY:Perspektive Berufsrückkehr - Kompetenzen für den Beruf (für Frauen) (26F84402) 
LOCATION:VHS-Raum 303, Bahnhofsallee 7, 37081 Göttingen
END:VEVENT
BEGIN:VEVENT
DTSTAMP:20260420T063423
DTSTART;TZID=Europe/Berlin:20260416T083000
DTEND;TZID=Europe/Berlin:20260416T133000
UID:26F84402-20260416T083000@VHSGÖTTINGEN OSTERODE GGMBH
SUMMARY:Perspektive Berufsrückkehr - Kompetenzen für den Beruf (für Frauen) (26F84402) 
LOCATION:VHS-Raum 303, Bahnhofsallee 7, 37081 Göttingen
END:VEVENT
BEGIN:VEVENT
DTSTAMP:20260420T063423
DTSTART;TZID=Europe/Berlin:20260417T083000
DTEND;TZID=Europe/Berlin:20260417T133000
UID:26F84402-20260417T083000@VHSGÖTTINGEN OSTERODE GGMBH
SUMMARY:Perspektive Berufsrückkehr - Kompetenzen für den Beruf (für Frauen) (26F84402) 
LOCATION:VHS-Raum 303, Bahnhofsallee 7, 37081 Göttingen
END:VEVENT
BEGIN:VEVENT
DTSTAMP:20260420T063423
DTSTART;TZID=Europe/Berlin:20260420T083000
DTEND;TZID=Europe/Berlin:20260420T133000
UID:26F84402-20260420T083000@VHSGÖTTINGEN OSTERODE GGMBH
SUMMARY:Perspektive Berufsrückkehr - Kompetenzen für den Beruf (für Frauen) (26F84402) 
LOCATION:VHS-Raum 303, Bahnhofsallee 7, 37081 Göttingen
END:VEVENT
BEGIN:VEVENT
DTSTAMP:20260420T063423
DTSTART;TZID=Europe/Berlin:20260421T083000
DTEND;TZID=Europe/Berlin:20260421T133000
UID:26F84402-20260421T083000@VHSGÖTTINGEN OSTERODE GGMBH
SUMMARY:Perspektive Berufsrückkehr - Kompetenzen für den Beruf (für Frauen) (26F84402) 
LOCATION:VHS-Raum 303, Bahnhofsallee 7, 37081 Göttingen
END:VEVENT
BEGIN:VEVENT
DTSTAMP:20260420T063423
DTSTART;TZID=Europe/Berlin:20260422T083000
DTEND;TZID=Europe/Berlin:20260422T133000
UID:26F84402-20260422T083000@VHSGÖTTINGEN OSTERODE GGMBH
SUMMARY:Perspektive Berufsrückkehr - Kompetenzen für den Beruf (für Frauen) (26F84402) 
LOCATION:VHS-Raum 303, Bahnhofsallee 7, 37081 Göttingen
END:VEVENT
BEGIN:VEVENT
DTSTAMP:20260420T063423
DTSTART;TZID=Europe/Berlin:20260423T083000
DTEND;TZID=Europe/Berlin:20260423T133000
UID:26F84402-20260423T083000@VHSGÖTTINGEN OSTERODE GGMBH
SUMMARY:Perspektive Berufsrückkehr - Kompetenzen für den Beruf (für Frauen) (26F84402) 
LOCATION:VHS-Raum 303, Bahnhofsallee 7, 37081 Göttingen
END:VEVENT
BEGIN:VEVENT
DTSTAMP:20260420T063423
DTSTART;TZID=Europe/Berlin:20260424T083000
DTEND;TZID=Europe/Berlin:20260424T133000
UID:26F84402-20260424T083000@VHSGÖTTINGEN OSTERODE GGMBH
SUMMARY:Perspektive Berufsrückkehr - Kompetenzen für den Beruf (für Frauen) (26F84402) 
LOCATION:VHS-Raum 303, Bahnhofsallee 7, 37081 Göttingen
END:VEVENT
BEGIN:VEVENT
DTSTAMP:20260420T063423
DTSTART;TZID=Europe/Berlin:20260427T083000
DTEND;TZID=Europe/Berlin:20260427T133000
UID:26F84402-20260427T083000@VHSGÖTTINGEN OSTERODE GGMBH
SUMMARY:Perspektive Berufsrückkehr - Kompetenzen für den Beruf (für Frauen) (26F84402) 
LOCATION:VHS-Raum 303, Bahnhofsallee 7, 37081 Göttingen
END:VEVENT
BEGIN:VEVENT
DTSTAMP:20260420T063423
DTSTART;TZID=Europe/Berlin:20260428T083000
DTEND;TZID=Europe/Berlin:20260428T133000
UID:26F84402-20260428T083000@VHSGÖTTINGEN OSTERODE GGMBH
SUMMARY:Perspektive Berufsrückkehr - Kompetenzen für den Beruf (für Frauen) (26F84402) 
LOCATION:VHS-Raum 303, Bahnhofsallee 7, 37081 Göttingen
END:VEVENT
BEGIN:VEVENT
DTSTAMP:20260420T063423
DTSTART;TZID=Europe/Berlin:20260429T083000
DTEND;TZID=Europe/Berlin:20260429T133000
UID:26F84402-20260429T083000@VHSGÖTTINGEN OSTERODE GGMBH
SUMMARY:Perspektive Berufsrückkehr - Kompetenzen für den Beruf (für Frauen) (26F84402) 
LOCATION:VHS-Raum 303, Bahnhofsallee 7, 37081 Göttingen
END:VEVENT
BEGIN:VEVENT
DTSTAMP:20260420T063423
DTSTART;TZID=Europe/Berlin:20260430T083000
DTEND;TZID=Europe/Berlin:20260430T133000
UID:26F84402-20260430T083000@VHSGÖTTINGEN OSTERODE GGMBH
SUMMARY:Perspektive Berufsrückkehr - Kompetenzen für den Beruf (für Frauen) (26F84402) 
LOCATION:VHS-Raum 303, Bahnhofsallee 7, 37081 Göttingen
END:VEVENT
BEGIN:VEVENT
DTSTAMP:20260420T063423
DTSTART;TZID=Europe/Berlin:20260504T083000
DTEND;TZID=Europe/Berlin:20260504T133000
UID:26F84402-20260504T083000@VHSGÖTTINGEN OSTERODE GGMBH
SUMMARY:Perspektive Berufsrückkehr - Kompetenzen für den Beruf (für Frauen) (26F84402) 
LOCATION:VHS-Raum 303, Bahnhofsallee 7, 37081 Göttingen
END:VEVENT
BEGIN:VEVENT
DTSTAMP:20260420T063423
DTSTART;TZID=Europe/Berlin:20260505T083000
DTEND;TZID=Europe/Berlin:20260505T133000
UID:26F84402-20260505T083000@VHSGÖTTINGEN OSTERODE GGMBH
SUMMARY:Perspektive Berufsrückkehr - Kompetenzen für den Beruf (für Frauen) (26F84402) 
LOCATION:VHS-Raum 303, Bahnhofsallee 7, 37081 Göttingen
END:VEVENT
BEGIN:VEVENT
DTSTAMP:20260420T063423
DTSTART;TZID=Europe/Berlin:20260506T083000
DTEND;TZID=Europe/Berlin:20260506T133000
UID:26F84402-20260506T083000@VHSGÖTTINGEN OSTERODE GGMBH
SUMMARY:Perspektive Berufsrückkehr - Kompetenzen für den Beruf (für Frauen) (26F84402) 
LOCATION:VHS-Raum 303, Bahnhofsallee 7, 37081 Göttingen
END:VEVENT
BEGIN:VEVENT
DTSTAMP:20260420T063423
DTSTART;TZID=Europe/Berlin:20260507T083000
DTEND;TZID=Europe/Berlin:20260507T133000
UID:26F84402-20260507T083000@VHSGÖTTINGEN OSTERODE GGMBH
SUMMARY:Perspektive Berufsrückkehr - Kompetenzen für den Beruf (für Frauen) (26F84402) 
LOCATION:VHS-Raum 303, Bahnhofsallee 7, 37081 Göttingen
END:VEVENT
BEGIN:VEVENT
DTSTAMP:20260420T063423
DTSTART;TZID=Europe/Berlin:20260508T083000
DTEND;TZID=Europe/Berlin:20260508T133000
UID:26F84402-20260508T083000@VHSGÖTTINGEN OSTERODE GGMBH
SUMMARY:Perspektive Berufsrückkehr - Kompetenzen für den Beruf (für Frauen) (26F84402) 
LOCATION:VHS-Raum 303, Bahnhofsallee 7, 37081 Göttingen
END:VEVENT
BEGIN:VEVENT
DTSTAMP:20260420T063423
DTSTART;TZID=Europe/Berlin:20260511T083000
DTEND;TZID=Europe/Berlin:20260511T133000
UID:26F84402-20260511T083000@VHSGÖTTINGEN OSTERODE GGMBH
SUMMARY:Perspektive Berufsrückkehr - Kompetenzen für den Beruf (für Frauen) (26F84402) 
LOCATION:VHS-Raum 303, Bahnhofsallee 7, 37081 Göttingen
END:VEVENT
BEGIN:VEVENT
DTSTAMP:20260420T063423
DTSTART;TZID=Europe/Berlin:20260512T083000
DTEND;TZID=Europe/Berlin:20260512T133000
UID:26F84402-20260512T083000@VHSGÖTTINGEN OSTERODE GGMBH
SUMMARY:Perspektive Berufsrückkehr - Kompetenzen für den Beruf (für Frauen) (26F84402) 
LOCATION:VHS-Raum 303, Bahnhofsallee 7, 37081 Göttingen
END:VEVENT
BEGIN:VEVENT
DTSTAMP:20260420T063423
DTSTART;TZID=Europe/Berlin:20260513T083000
DTEND;TZID=Europe/Berlin:20260513T133000
UID:26F84402-20260513T083000@VHSGÖTTINGEN OSTERODE GGMBH
SUMMARY:Perspektive Berufsrückkehr - Kompetenzen für den Beruf (für Frauen) (26F84402) 
LOCATION:VHS-Raum 303, Bahnhofsallee 7, 37081 Göttingen
END:VEVENT
END:VCALENDAR