BEGIN:VCALENDAR
VERSION:2.0
PRODID:https://www.kufer.de/kuferweb / DE
METHOD:PUBLISH
CALSCALE:GREGORIAN
X-WR-TIMEZONE:Europe/Berlin
BEGIN:VTIMEZONE
TZID:Europe/Berlin
X-LIC-LOCATION:Europe/Berlin
BEGIN:DAYLIGHT
TZOFFSETFROM:+0100
TZOFFSETTO:+0200
TZNAME:CEST
DTSTART:19700329T020000
RRULE:FREQ=YEARLY;INTERVAL=1;BYDAY=-1SU;BYMONTH=3
END:DAYLIGHT
BEGIN:STANDARD
TZOFFSETFROM:+0200
TZOFFSETTO:+0100
TZNAME:CET
DTSTART:19701025T030000
RRULE:FREQ=YEARLY;INTERVAL=1;BYDAY=-1SU;BYMONTH=10
END:STANDARD
END:VTIMEZONE
BEGIN:VEVENT
DTSTAMP:20260425T123715
DTSTART;TZID=Europe/Berlin:20260518T083000
DTEND;TZID=Europe/Berlin:20260518T133000
UID:26F84403-20260518T083000@VHSGÖTTINGEN OSTERODE GGMBH
SUMMARY:Perspektive Berufsrückkehr - Digitale Kompetenz / Aufbaukurs (für Frauen) (26F84403) 
LOCATION:VHS-Raum 303, Bahnhofsallee 7, 37081 Göttingen
END:VEVENT
BEGIN:VEVENT
DTSTAMP:20260425T123715
DTSTART;TZID=Europe/Berlin:20260519T083000
DTEND;TZID=Europe/Berlin:20260519T133000
UID:26F84403-20260519T083000@VHSGÖTTINGEN OSTERODE GGMBH
SUMMARY:Perspektive Berufsrückkehr - Digitale Kompetenz / Aufbaukurs (für Frauen) (26F84403) 
LOCATION:VHS-Raum 303, Bahnhofsallee 7, 37081 Göttingen
END:VEVENT
BEGIN:VEVENT
DTSTAMP:20260425T123715
DTSTART;TZID=Europe/Berlin:20260520T083000
DTEND;TZID=Europe/Berlin:20260520T133000
UID:26F84403-20260520T083000@VHSGÖTTINGEN OSTERODE GGMBH
SUMMARY:Perspektive Berufsrückkehr - Digitale Kompetenz / Aufbaukurs (für Frauen) (26F84403) 
LOCATION:VHS-Raum 303, Bahnhofsallee 7, 37081 Göttingen
END:VEVENT
BEGIN:VEVENT
DTSTAMP:20260425T123715
DTSTART;TZID=Europe/Berlin:20260521T083000
DTEND;TZID=Europe/Berlin:20260521T133000
UID:26F84403-20260521T083000@VHSGÖTTINGEN OSTERODE GGMBH
SUMMARY:Perspektive Berufsrückkehr - Digitale Kompetenz / Aufbaukurs (für Frauen) (26F84403) 
LOCATION:VHS-Raum 303, Bahnhofsallee 7, 37081 Göttingen
END:VEVENT
BEGIN:VEVENT
DTSTAMP:20260425T123715
DTSTART;TZID=Europe/Berlin:20260522T083000
DTEND;TZID=Europe/Berlin:20260522T133000
UID:26F84403-20260522T083000@VHSGÖTTINGEN OSTERODE GGMBH
SUMMARY:Perspektive Berufsrückkehr - Digitale Kompetenz / Aufbaukurs (für Frauen) (26F84403) 
LOCATION:VHS-Raum 303, Bahnhofsallee 7, 37081 Göttingen
END:VEVENT
BEGIN:VEVENT
DTSTAMP:20260425T123715
DTSTART;TZID=Europe/Berlin:20260527T083000
DTEND;TZID=Europe/Berlin:20260527T133000
UID:26F84403-20260527T083000@VHSGÖTTINGEN OSTERODE GGMBH
SUMMARY:Perspektive Berufsrückkehr - Digitale Kompetenz / Aufbaukurs (für Frauen) (26F84403) 
LOCATION:VHS-Raum 303, Bahnhofsallee 7, 37081 Göttingen
END:VEVENT
BEGIN:VEVENT
DTSTAMP:20260425T123715
DTSTART;TZID=Europe/Berlin:20260528T083000
DTEND;TZID=Europe/Berlin:20260528T133000
UID:26F84403-20260528T083000@VHSGÖTTINGEN OSTERODE GGMBH
SUMMARY:Perspektive Berufsrückkehr - Digitale Kompetenz / Aufbaukurs (für Frauen) (26F84403) 
LOCATION:VHS-Raum 303, Bahnhofsallee 7, 37081 Göttingen
END:VEVENT
BEGIN:VEVENT
DTSTAMP:20260425T123715
DTSTART;TZID=Europe/Berlin:20260529T083000
DTEND;TZID=Europe/Berlin:20260529T133000
UID:26F84403-20260529T083000@VHSGÖTTINGEN OSTERODE GGMBH
SUMMARY:Perspektive Berufsrückkehr - Digitale Kompetenz / Aufbaukurs (für Frauen) (26F84403) 
LOCATION:VHS-Raum 303, Bahnhofsallee 7, 37081 Göttingen
END:VEVENT
BEGIN:VEVENT
DTSTAMP:20260425T123715
DTSTART;TZID=Europe/Berlin:20260601T083000
DTEND;TZID=Europe/Berlin:20260601T133000
UID:26F84403-20260601T083000@VHSGÖTTINGEN OSTERODE GGMBH
SUMMARY:Perspektive Berufsrückkehr - Digitale Kompetenz / Aufbaukurs (für Frauen) (26F84403) 
LOCATION:VHS-Raum 303, Bahnhofsallee 7, 37081 Göttingen
END:VEVENT
BEGIN:VEVENT
DTSTAMP:20260425T123715
DTSTART;TZID=Europe/Berlin:20260602T083000
DTEND;TZID=Europe/Berlin:20260602T133000
UID:26F84403-20260602T083000@VHSGÖTTINGEN OSTERODE GGMBH
SUMMARY:Perspektive Berufsrückkehr - Digitale Kompetenz / Aufbaukurs (für Frauen) (26F84403) 
LOCATION:VHS-Raum 303, Bahnhofsallee 7, 37081 Göttingen
END:VEVENT
BEGIN:VEVENT
DTSTAMP:20260425T123715
DTSTART;TZID=Europe/Berlin:20260603T083000
DTEND;TZID=Europe/Berlin:20260603T133000
UID:26F84403-20260603T083000@VHSGÖTTINGEN OSTERODE GGMBH
DESCRIPTION:Probeprüfung
SUMMARY:Perspektive Berufsrückkehr - Digitale Kompetenz / Aufbaukurs (für Frauen) (26F84403) 
LOCATION:VHS-Raum 303, Bahnhofsallee 7, 37081 Göttingen
END:VEVENT
BEGIN:VEVENT
DTSTAMP:20260425T123715
DTSTART;TZID=Europe/Berlin:20260604T083000
DTEND;TZID=Europe/Berlin:20260604T133000
UID:26F84403-20260604T083000@VHSGÖTTINGEN OSTERODE GGMBH
DESCRIPTION:Prüfung
SUMMARY:Perspektive Berufsrückkehr - Digitale Kompetenz / Aufbaukurs (für Frauen) (26F84403) 
LOCATION:VHS-Raum 303, Bahnhofsallee 7, 37081 Göttingen
END:VEVENT
BEGIN:VEVENT
DTSTAMP:20260425T123715
DTSTART;TZID=Europe/Berlin:20260605T083000
DTEND;TZID=Europe/Berlin:20260605T133000
UID:26F84403-20260605T083000@VHSGÖTTINGEN OSTERODE GGMBH
SUMMARY:Perspektive Berufsrückkehr - Digitale Kompetenz / Aufbaukurs (für Frauen) (26F84403) 
LOCATION:VHS-Raum 303, Bahnhofsallee 7, 37081 Göttingen
END:VEVENT
BEGIN:VEVENT
DTSTAMP:20260425T123715
DTSTART;TZID=Europe/Berlin:20260608T083000
DTEND;TZID=Europe/Berlin:20260608T133000
UID:26F84403-20260608T083000@VHSGÖTTINGEN OSTERODE GGMBH
SUMMARY:Perspektive Berufsrückkehr - Digitale Kompetenz / Aufbaukurs (für Frauen) (26F84403) 
LOCATION:VHS-Raum 303, Bahnhofsallee 7, 37081 Göttingen
END:VEVENT
BEGIN:VEVENT
DTSTAMP:20260425T123715
DTSTART;TZID=Europe/Berlin:20260609T083000
DTEND;TZID=Europe/Berlin:20260609T133000
UID:26F84403-20260609T083000@VHSGÖTTINGEN OSTERODE GGMBH
SUMMARY:Perspektive Berufsrückkehr - Digitale Kompetenz / Aufbaukurs (für Frauen) (26F84403) 
LOCATION:VHS-Raum 303, Bahnhofsallee 7, 37081 Göttingen
END:VEVENT
BEGIN:VEVENT
DTSTAMP:20260425T123715
DTSTART;TZID=Europe/Berlin:20260610T083000
DTEND;TZID=Europe/Berlin:20260610T133000
UID:26F84403-20260610T083000@VHSGÖTTINGEN OSTERODE GGMBH
SUMMARY:Perspektive Berufsrückkehr - Digitale Kompetenz / Aufbaukurs (für Frauen) (26F84403) 
LOCATION:VHS-Raum 303, Bahnhofsallee 7, 37081 Göttingen
END:VEVENT
BEGIN:VEVENT
DTSTAMP:20260425T123715
DTSTART;TZID=Europe/Berlin:20260611T083000
DTEND;TZID=Europe/Berlin:20260611T133000
UID:26F84403-20260611T083000@VHSGÖTTINGEN OSTERODE GGMBH
SUMMARY:Perspektive Berufsrückkehr - Digitale Kompetenz / Aufbaukurs (für Frauen) (26F84403) 
LOCATION:VHS-Raum 303, Bahnhofsallee 7, 37081 Göttingen
END:VEVENT
BEGIN:VEVENT
DTSTAMP:20260425T123715
DTSTART;TZID=Europe/Berlin:20260612T083000
DTEND;TZID=Europe/Berlin:20260612T133000
UID:26F84403-20260612T083000@VHSGÖTTINGEN OSTERODE GGMBH
SUMMARY:Perspektive Berufsrückkehr - Digitale Kompetenz / Aufbaukurs (für Frauen) (26F84403) 
LOCATION:VHS-Raum 303, Bahnhofsallee 7, 37081 Göttingen
END:VEVENT
BEGIN:VEVENT
DTSTAMP:20260425T123715
DTSTART;TZID=Europe/Berlin:20260615T083000
DTEND;TZID=Europe/Berlin:20260615T133000
UID:26F84403-20260615T083000@VHSGÖTTINGEN OSTERODE GGMBH
SUMMARY:Perspektive Berufsrückkehr - Digitale Kompetenz / Aufbaukurs (für Frauen) (26F84403) 
LOCATION:VHS-Raum 303, Bahnhofsallee 7, 37081 Göttingen
END:VEVENT
BEGIN:VEVENT
DTSTAMP:20260425T123715
DTSTART;TZID=Europe/Berlin:20260616T083000
DTEND;TZID=Europe/Berlin:20260616T133000
UID:26F84403-20260616T083000@VHSGÖTTINGEN OSTERODE GGMBH
SUMMARY:Perspektive Berufsrückkehr - Digitale Kompetenz / Aufbaukurs (für Frauen) (26F84403) 
LOCATION:VHS-Raum 303, Bahnhofsallee 7, 37081 Göttingen
END:VEVENT
BEGIN:VEVENT
DTSTAMP:20260425T123715
DTSTART;TZID=Europe/Berlin:20260617T083000
DTEND;TZID=Europe/Berlin:20260617T133000
UID:26F84403-20260617T083000@VHSGÖTTINGEN OSTERODE GGMBH
SUMMARY:Perspektive Berufsrückkehr - Digitale Kompetenz / Aufbaukurs (für Frauen) (26F84403) 
LOCATION:VHS-Raum 303, Bahnhofsallee 7, 37081 Göttingen
END:VEVENT
BEGIN:VEVENT
DTSTAMP:20260425T123715
DTSTART;TZID=Europe/Berlin:20260618T083000
DTEND;TZID=Europe/Berlin:20260618T133000
UID:26F84403-20260618T083000@VHSGÖTTINGEN OSTERODE GGMBH
SUMMARY:Perspektive Berufsrückkehr - Digitale Kompetenz / Aufbaukurs (für Frauen) (26F84403) 
LOCATION:VHS-Raum 303, Bahnhofsallee 7, 37081 Göttingen
END:VEVENT
BEGIN:VEVENT
DTSTAMP:20260425T123715
DTSTART;TZID=Europe/Berlin:20260619T083000
DTEND;TZID=Europe/Berlin:20260619T133000
UID:26F84403-20260619T083000@VHSGÖTTINGEN OSTERODE GGMBH
SUMMARY:Perspektive Berufsrückkehr - Digitale Kompetenz / Aufbaukurs (für Frauen) (26F84403) 
LOCATION:VHS-Raum 303, Bahnhofsallee 7, 37081 Göttingen
END:VEVENT
BEGIN:VEVENT
DTSTAMP:20260425T123715
DTSTART;TZID=Europe/Berlin:20260622T083000
DTEND;TZID=Europe/Berlin:20260622T133000
UID:26F84403-20260622T083000@VHSGÖTTINGEN OSTERODE GGMBH
SUMMARY:Perspektive Berufsrückkehr - Digitale Kompetenz / Aufbaukurs (für Frauen) (26F84403) 
LOCATION:VHS-Raum 303, Bahnhofsallee 7, 37081 Göttingen
END:VEVENT
BEGIN:VEVENT
DTSTAMP:20260425T123715
DTSTART;TZID=Europe/Berlin:20260623T083000
DTEND;TZID=Europe/Berlin:20260623T133000
UID:26F84403-20260623T083000@VHSGÖTTINGEN OSTERODE GGMBH
SUMMARY:Perspektive Berufsrückkehr - Digitale Kompetenz / Aufbaukurs (für Frauen) (26F84403) 
LOCATION:VHS-Raum 303, Bahnhofsallee 7, 37081 Göttingen
END:VEVENT
BEGIN:VEVENT
DTSTAMP:20260425T123715
DTSTART;TZID=Europe/Berlin:20260624T083000
DTEND;TZID=Europe/Berlin:20260624T133000
UID:26F84403-20260624T083000@VHSGÖTTINGEN OSTERODE GGMBH
DESCRIPTION:Probeprüfung
SUMMARY:Perspektive Berufsrückkehr - Digitale Kompetenz / Aufbaukurs (für Frauen) (26F84403) 
LOCATION:VHS-Raum 303, Bahnhofsallee 7, 37081 Göttingen
END:VEVENT
BEGIN:VEVENT
DTSTAMP:20260425T123715
DTSTART;TZID=Europe/Berlin:20260625T083000
DTEND;TZID=Europe/Berlin:20260625T133000
UID:26F84403-20260625T083000@VHSGÖTTINGEN OSTERODE GGMBH
DESCRIPTION:Prüfung
SUMMARY:Perspektive Berufsrückkehr - Digitale Kompetenz / Aufbaukurs (für Frauen) (26F84403) 
LOCATION:VHS-Raum 303, Bahnhofsallee 7, 37081 Göttingen
END:VEVENT
BEGIN:VEVENT
DTSTAMP:20260425T123715
DTSTART;TZID=Europe/Berlin:20260626T083000
DTEND;TZID=Europe/Berlin:20260626T133000
UID:26F84403-20260626T083000@VHSGÖTTINGEN OSTERODE GGMBH
SUMMARY:Perspektive Berufsrückkehr - Digitale Kompetenz / Aufbaukurs (für Frauen) (26F84403) 
LOCATION:VHS-Raum 303, Bahnhofsallee 7, 37081 Göttingen
END:VEVENT
BEGIN:VEVENT
DTSTAMP:20260425T123715
DTSTART;TZID=Europe/Berlin:20260629T083000
DTEND;TZID=Europe/Berlin:20260629T133000
UID:26F84403-20260629T083000@VHSGÖTTINGEN OSTERODE GGMBH
SUMMARY:Perspektive Berufsrückkehr - Digitale Kompetenz / Aufbaukurs (für Frauen) (26F84403) 
LOCATION:VHS-Raum 303, Bahnhofsallee 7, 37081 Göttingen
END:VEVENT
BEGIN:VEVENT
DTSTAMP:20260425T123715
DTSTART;TZID=Europe/Berlin:20260630T083000
DTEND;TZID=Europe/Berlin:20260630T133000
UID:26F84403-20260630T083000@VHSGÖTTINGEN OSTERODE GGMBH
SUMMARY:Perspektive Berufsrückkehr - Digitale Kompetenz / Aufbaukurs (für Frauen) (26F84403) 
LOCATION:VHS-Raum 303, Bahnhofsallee 7, 37081 Göttingen
END:VEVENT
END:VCALENDAR