BEGIN:VCALENDAR
VERSION:2.0
PRODID:https://www.kufer.de/kuferweb / DE
METHOD:PUBLISH
CALSCALE:GREGORIAN
X-WR-TIMEZONE:Europe/Berlin
BEGIN:VTIMEZONE
TZID:Europe/Berlin
X-LIC-LOCATION:Europe/Berlin
BEGIN:DAYLIGHT
TZOFFSETFROM:+0100
TZOFFSETTO:+0200
TZNAME:CEST
DTSTART:19700329T020000
RRULE:FREQ=YEARLY;INTERVAL=1;BYDAY=-1SU;BYMONTH=3
END:DAYLIGHT
BEGIN:STANDARD
TZOFFSETFROM:+0200
TZOFFSETTO:+0100
TZNAME:CET
DTSTART:19701025T030000
RRULE:FREQ=YEARLY;INTERVAL=1;BYDAY=-1SU;BYMONTH=10
END:STANDARD
END:VTIMEZONE
BEGIN:VEVENT
DTSTAMP:20260424T031426
DTSTART;TZID=Europe/Berlin:20260813T190000
DTEND;TZID=Europe/Berlin:20260813T200000
UID:26H03080-20260813T190000@VHSGÖTTINGEN OSTERODE GGMBH
SUMMARY:Zumba® Fitness (26H03080) 
LOCATION:Grotefend-Gymnasium; Mitscherlichstr. 1, Ballettsaal, Mitscherlichstraße 1, 34346 Hann. Münden
END:VEVENT
BEGIN:VEVENT
DTSTAMP:20260424T031426
DTSTART;TZID=Europe/Berlin:20260820T190000
DTEND;TZID=Europe/Berlin:20260820T200000
UID:26H03080-20260820T190000@VHSGÖTTINGEN OSTERODE GGMBH
SUMMARY:Zumba® Fitness (26H03080) 
LOCATION:Grotefend-Gymnasium; Mitscherlichstr. 1, Ballettsaal, Mitscherlichstraße 1, 34346 Hann. Münden
END:VEVENT
BEGIN:VEVENT
DTSTAMP:20260424T031426
DTSTART;TZID=Europe/Berlin:20260827T190000
DTEND;TZID=Europe/Berlin:20260827T200000
UID:26H03080-20260827T190000@VHSGÖTTINGEN OSTERODE GGMBH
SUMMARY:Zumba® Fitness (26H03080) 
LOCATION:Grotefend-Gymnasium; Mitscherlichstr. 1, Ballettsaal, Mitscherlichstraße 1, 34346 Hann. Münden
END:VEVENT
BEGIN:VEVENT
DTSTAMP:20260424T031426
DTSTART;TZID=Europe/Berlin:20260917T190000
DTEND;TZID=Europe/Berlin:20260917T200000
UID:26H03080-20260917T190000@VHSGÖTTINGEN OSTERODE GGMBH
SUMMARY:Zumba® Fitness (26H03080) 
LOCATION:Grotefend-Gymnasium; Mitscherlichstr. 1, Ballettsaal, Mitscherlichstraße 1, 34346 Hann. Münden
END:VEVENT
BEGIN:VEVENT
DTSTAMP:20260424T031426
DTSTART;TZID=Europe/Berlin:20260924T190000
DTEND;TZID=Europe/Berlin:20260924T200000
UID:26H03080-20260924T190000@VHSGÖTTINGEN OSTERODE GGMBH
SUMMARY:Zumba® Fitness (26H03080) 
LOCATION:Grotefend-Gymnasium; Mitscherlichstr. 1, Ballettsaal, Mitscherlichstraße 1, 34346 Hann. Münden
END:VEVENT
BEGIN:VEVENT
DTSTAMP:20260424T031426
DTSTART;TZID=Europe/Berlin:20261001T190000
DTEND;TZID=Europe/Berlin:20261001T200000
UID:26H03080-20261001T190000@VHSGÖTTINGEN OSTERODE GGMBH
SUMMARY:Zumba® Fitness (26H03080) 
LOCATION:Grotefend-Gymnasium; Mitscherlichstr. 1, Ballettsaal, Mitscherlichstraße 1, 34346 Hann. Münden
END:VEVENT
BEGIN:VEVENT
DTSTAMP:20260424T031426
DTSTART;TZID=Europe/Berlin:20261008T190000
DTEND;TZID=Europe/Berlin:20261008T200000
UID:26H03080-20261008T190000@VHSGÖTTINGEN OSTERODE GGMBH
SUMMARY:Zumba® Fitness (26H03080) 
LOCATION:Grotefend-Gymnasium; Mitscherlichstr. 1, Ballettsaal, Mitscherlichstraße 1, 34346 Hann. Münden
END:VEVENT
BEGIN:VEVENT
DTSTAMP:20260424T031426
DTSTART;TZID=Europe/Berlin:20261029T190000
DTEND;TZID=Europe/Berlin:20261029T200000
UID:26H03080-20261029T190000@VHSGÖTTINGEN OSTERODE GGMBH
SUMMARY:Zumba® Fitness (26H03080) 
LOCATION:Grotefend-Gymnasium; Mitscherlichstr. 1, Ballettsaal, Mitscherlichstraße 1, 34346 Hann. Münden
END:VEVENT
BEGIN:VEVENT
DTSTAMP:20260424T031426
DTSTART;TZID=Europe/Berlin:20261105T190000
DTEND;TZID=Europe/Berlin:20261105T200000
UID:26H03080-20261105T190000@VHSGÖTTINGEN OSTERODE GGMBH
SUMMARY:Zumba® Fitness (26H03080) 
LOCATION:Grotefend-Gymnasium; Mitscherlichstr. 1, Ballettsaal, Mitscherlichstraße 1, 34346 Hann. Münden
END:VEVENT
END:VCALENDAR