BEGIN:VCALENDAR
VERSION:2.0
PRODID:https://www.kufer.de/kuferweb / DE
METHOD:PUBLISH
CALSCALE:GREGORIAN
X-WR-TIMEZONE:Europe/Berlin
BEGIN:VTIMEZONE
TZID:Europe/Berlin
X-LIC-LOCATION:Europe/Berlin
BEGIN:DAYLIGHT
TZOFFSETFROM:+0100
TZOFFSETTO:+0200
TZNAME:CEST
DTSTART:19700329T020000
RRULE:FREQ=YEARLY;INTERVAL=1;BYDAY=-1SU;BYMONTH=3
END:DAYLIGHT
BEGIN:STANDARD
TZOFFSETFROM:+0200
TZOFFSETTO:+0100
TZNAME:CET
DTSTART:19701025T030000
RRULE:FREQ=YEARLY;INTERVAL=1;BYDAY=-1SU;BYMONTH=10
END:STANDARD
END:VTIMEZONE
BEGIN:VEVENT
DTSTAMP:20260424T104934
DTSTART;TZID=Europe/Berlin:20260910T181500
DTEND;TZID=Europe/Berlin:20260910T191500
UID:26H03121-20260910T181500@VHSGÖTTINGEN OSTERODE GGMBH
SUMMARY:Pilates (26H03121) 
LOCATION:Ros (Familienzentrum); Gymnastikraum, Anne-Frank-Weg 2, 37124 Rosdorf
END:VEVENT
BEGIN:VEVENT
DTSTAMP:20260424T104934
DTSTART;TZID=Europe/Berlin:20260917T181500
DTEND;TZID=Europe/Berlin:20260917T191500
UID:26H03121-20260917T181500@VHSGÖTTINGEN OSTERODE GGMBH
SUMMARY:Pilates (26H03121) 
LOCATION:Ros (Familienzentrum); Gymnastikraum, Anne-Frank-Weg 2, 37124 Rosdorf
END:VEVENT
BEGIN:VEVENT
DTSTAMP:20260424T104934
DTSTART;TZID=Europe/Berlin:20260924T181500
DTEND;TZID=Europe/Berlin:20260924T191500
UID:26H03121-20260924T181500@VHSGÖTTINGEN OSTERODE GGMBH
SUMMARY:Pilates (26H03121) 
LOCATION:Ros (Familienzentrum); Gymnastikraum, Anne-Frank-Weg 2, 37124 Rosdorf
END:VEVENT
BEGIN:VEVENT
DTSTAMP:20260424T104934
DTSTART;TZID=Europe/Berlin:20261001T181500
DTEND;TZID=Europe/Berlin:20261001T191500
UID:26H03121-20261001T181500@VHSGÖTTINGEN OSTERODE GGMBH
SUMMARY:Pilates (26H03121) 
LOCATION:Ros (Familienzentrum); Gymnastikraum, Anne-Frank-Weg 2, 37124 Rosdorf
END:VEVENT
BEGIN:VEVENT
DTSTAMP:20260424T104934
DTSTART;TZID=Europe/Berlin:20261008T181500
DTEND;TZID=Europe/Berlin:20261008T191500
UID:26H03121-20261008T181500@VHSGÖTTINGEN OSTERODE GGMBH
SUMMARY:Pilates (26H03121) 
LOCATION:Ros (Familienzentrum); Gymnastikraum, Anne-Frank-Weg 2, 37124 Rosdorf
END:VEVENT
BEGIN:VEVENT
DTSTAMP:20260424T104934
DTSTART;TZID=Europe/Berlin:20261029T181500
DTEND;TZID=Europe/Berlin:20261029T191500
UID:26H03121-20261029T181500@VHSGÖTTINGEN OSTERODE GGMBH
SUMMARY:Pilates (26H03121) 
LOCATION:Ros (Familienzentrum); Gymnastikraum, Anne-Frank-Weg 2, 37124 Rosdorf
END:VEVENT
BEGIN:VEVENT
DTSTAMP:20260424T104934
DTSTART;TZID=Europe/Berlin:20261105T181500
DTEND;TZID=Europe/Berlin:20261105T191500
UID:26H03121-20261105T181500@VHSGÖTTINGEN OSTERODE GGMBH
SUMMARY:Pilates (26H03121) 
LOCATION:Ros (Familienzentrum); Gymnastikraum, Anne-Frank-Weg 2, 37124 Rosdorf
END:VEVENT
BEGIN:VEVENT
DTSTAMP:20260424T104934
DTSTART;TZID=Europe/Berlin:20261112T181500
DTEND;TZID=Europe/Berlin:20261112T191500
UID:26H03121-20261112T181500@VHSGÖTTINGEN OSTERODE GGMBH
SUMMARY:Pilates (26H03121) 
LOCATION:Ros (Familienzentrum); Gymnastikraum, Anne-Frank-Weg 2, 37124 Rosdorf
END:VEVENT
BEGIN:VEVENT
DTSTAMP:20260424T104934
DTSTART;TZID=Europe/Berlin:20261119T181500
DTEND;TZID=Europe/Berlin:20261119T191500
UID:26H03121-20261119T181500@VHSGÖTTINGEN OSTERODE GGMBH
SUMMARY:Pilates (26H03121) 
LOCATION:Ros (Familienzentrum); Gymnastikraum, Anne-Frank-Weg 2, 37124 Rosdorf
END:VEVENT
BEGIN:VEVENT
DTSTAMP:20260424T104934
DTSTART;TZID=Europe/Berlin:20261126T181500
DTEND;TZID=Europe/Berlin:20261126T191500
UID:26H03121-20261126T181500@VHSGÖTTINGEN OSTERODE GGMBH
SUMMARY:Pilates (26H03121) 
LOCATION:Ros (Familienzentrum); Gymnastikraum, Anne-Frank-Weg 2, 37124 Rosdorf
END:VEVENT
BEGIN:VEVENT
DTSTAMP:20260424T104934
DTSTART;TZID=Europe/Berlin:20261203T181500
DTEND;TZID=Europe/Berlin:20261203T191500
UID:26H03121-20261203T181500@VHSGÖTTINGEN OSTERODE GGMBH
SUMMARY:Pilates (26H03121) 
LOCATION:Ros (Familienzentrum); Gymnastikraum, Anne-Frank-Weg 2, 37124 Rosdorf
END:VEVENT
BEGIN:VEVENT
DTSTAMP:20260424T104934
DTSTART;TZID=Europe/Berlin:20261210T181500
DTEND;TZID=Europe/Berlin:20261210T191500
UID:26H03121-20261210T181500@VHSGÖTTINGEN OSTERODE GGMBH
SUMMARY:Pilates (26H03121) 
LOCATION:Ros (Familienzentrum); Gymnastikraum, Anne-Frank-Weg 2, 37124 Rosdorf
END:VEVENT
END:VCALENDAR