BEGIN:VCALENDAR
VERSION:2.0
PRODID:https://www.kufer.de/kuferweb / DE
METHOD:PUBLISH
CALSCALE:GREGORIAN
X-WR-TIMEZONE:Europe/Berlin
BEGIN:VTIMEZONE
TZID:Europe/Berlin
X-LIC-LOCATION:Europe/Berlin
BEGIN:DAYLIGHT
TZOFFSETFROM:+0100
TZOFFSETTO:+0200
TZNAME:CEST
DTSTART:19700329T020000
RRULE:FREQ=YEARLY;INTERVAL=1;BYDAY=-1SU;BYMONTH=3
END:DAYLIGHT
BEGIN:STANDARD
TZOFFSETFROM:+0200
TZOFFSETTO:+0100
TZNAME:CET
DTSTART:19701025T030000
RRULE:FREQ=YEARLY;INTERVAL=1;BYDAY=-1SU;BYMONTH=10
END:STANDARD
END:VTIMEZONE
BEGIN:VEVENT
DTSTAMP:20260424T105000
DTSTART;TZID=Europe/Berlin:20261026T163000
DTEND;TZID=Europe/Berlin:20261026T180000
UID:26H04206-20261026T163000@VHSGÖTTINGEN OSTERODE GGMBH
SUMMARY:Medical Yoga - Gesundheit fördern mit Bewegung und Entspannung aus dem Hatha Yoga (Präventionsangebot § 20 Abs.1 SGB V) (26H04206) 
LOCATION:VHS-Gymnastikraum 307, Bahnhofsallee 7, 37081 Göttingen
END:VEVENT
BEGIN:VEVENT
DTSTAMP:20260424T105000
DTSTART;TZID=Europe/Berlin:20261102T163000
DTEND;TZID=Europe/Berlin:20261102T180000
UID:26H04206-20261102T163000@VHSGÖTTINGEN OSTERODE GGMBH
SUMMARY:Medical Yoga - Gesundheit fördern mit Bewegung und Entspannung aus dem Hatha Yoga (Präventionsangebot § 20 Abs.1 SGB V) (26H04206) 
LOCATION:VHS-Gymnastikraum 307, Bahnhofsallee 7, 37081 Göttingen
END:VEVENT
BEGIN:VEVENT
DTSTAMP:20260424T105000
DTSTART;TZID=Europe/Berlin:20261109T163000
DTEND;TZID=Europe/Berlin:20261109T180000
UID:26H04206-20261109T163000@VHSGÖTTINGEN OSTERODE GGMBH
SUMMARY:Medical Yoga - Gesundheit fördern mit Bewegung und Entspannung aus dem Hatha Yoga (Präventionsangebot § 20 Abs.1 SGB V) (26H04206) 
LOCATION:VHS-Gymnastikraum 307, Bahnhofsallee 7, 37081 Göttingen
END:VEVENT
BEGIN:VEVENT
DTSTAMP:20260424T105000
DTSTART;TZID=Europe/Berlin:20261116T163000
DTEND;TZID=Europe/Berlin:20261116T180000
UID:26H04206-20261116T163000@VHSGÖTTINGEN OSTERODE GGMBH
SUMMARY:Medical Yoga - Gesundheit fördern mit Bewegung und Entspannung aus dem Hatha Yoga (Präventionsangebot § 20 Abs.1 SGB V) (26H04206) 
LOCATION:VHS-Gymnastikraum 307, Bahnhofsallee 7, 37081 Göttingen
END:VEVENT
BEGIN:VEVENT
DTSTAMP:20260424T105000
DTSTART;TZID=Europe/Berlin:20261123T163000
DTEND;TZID=Europe/Berlin:20261123T180000
UID:26H04206-20261123T163000@VHSGÖTTINGEN OSTERODE GGMBH
SUMMARY:Medical Yoga - Gesundheit fördern mit Bewegung und Entspannung aus dem Hatha Yoga (Präventionsangebot § 20 Abs.1 SGB V) (26H04206) 
LOCATION:VHS-Gymnastikraum 307, Bahnhofsallee 7, 37081 Göttingen
END:VEVENT
BEGIN:VEVENT
DTSTAMP:20260424T105000
DTSTART;TZID=Europe/Berlin:20261130T163000
DTEND;TZID=Europe/Berlin:20261130T180000
UID:26H04206-20261130T163000@VHSGÖTTINGEN OSTERODE GGMBH
SUMMARY:Medical Yoga - Gesundheit fördern mit Bewegung und Entspannung aus dem Hatha Yoga (Präventionsangebot § 20 Abs.1 SGB V) (26H04206) 
LOCATION:VHS-Gymnastikraum 307, Bahnhofsallee 7, 37081 Göttingen
END:VEVENT
BEGIN:VEVENT
DTSTAMP:20260424T105000
DTSTART;TZID=Europe/Berlin:20261207T163000
DTEND;TZID=Europe/Berlin:20261207T180000
UID:26H04206-20261207T163000@VHSGÖTTINGEN OSTERODE GGMBH
SUMMARY:Medical Yoga - Gesundheit fördern mit Bewegung und Entspannung aus dem Hatha Yoga (Präventionsangebot § 20 Abs.1 SGB V) (26H04206) 
LOCATION:VHS-Gymnastikraum 307, Bahnhofsallee 7, 37081 Göttingen
END:VEVENT
BEGIN:VEVENT
DTSTAMP:20260424T105000
DTSTART;TZID=Europe/Berlin:20261214T163000
DTEND;TZID=Europe/Berlin:20261214T180000
UID:26H04206-20261214T163000@VHSGÖTTINGEN OSTERODE GGMBH
SUMMARY:Medical Yoga - Gesundheit fördern mit Bewegung und Entspannung aus dem Hatha Yoga (Präventionsangebot § 20 Abs.1 SGB V) (26H04206) 
LOCATION:VHS-Gymnastikraum 307, Bahnhofsallee 7, 37081 Göttingen
END:VEVENT
END:VCALENDAR