BEGIN:VCALENDAR
VERSION:2.0
PRODID:https://www.kufer.de/kuferweb / DE
METHOD:PUBLISH
CALSCALE:GREGORIAN
X-WR-TIMEZONE:Europe/Berlin
BEGIN:VTIMEZONE
TZID:Europe/Berlin
X-LIC-LOCATION:Europe/Berlin
BEGIN:DAYLIGHT
TZOFFSETFROM:+0100
TZOFFSETTO:+0200
TZNAME:CEST
DTSTART:19700329T020000
RRULE:FREQ=YEARLY;INTERVAL=1;BYDAY=-1SU;BYMONTH=3
END:DAYLIGHT
BEGIN:STANDARD
TZOFFSETFROM:+0200
TZOFFSETTO:+0100
TZNAME:CET
DTSTART:19701025T030000
RRULE:FREQ=YEARLY;INTERVAL=1;BYDAY=-1SU;BYMONTH=10
END:STANDARD
END:VTIMEZONE
BEGIN:VEVENT
DTSTAMP:20260420T063421
DTSTART;TZID=Europe/Berlin:20261207T083000
DTEND;TZID=Europe/Berlin:20261207T140000
UID:26H04803-20261207T083000@VHSGÖTTINGEN OSTERODE GGMBH
SUMMARY:Stressreduzierung im Berufsalltag (Bildungsurlaub in Teilzeit) (26H04803) 
LOCATION:VHS-Gymnastikraum 307, Bahnhofsallee 7, 37081 Göttingen
END:VEVENT
BEGIN:VEVENT
DTSTAMP:20260420T063421
DTSTART;TZID=Europe/Berlin:20261208T083000
DTEND;TZID=Europe/Berlin:20261208T140000
UID:26H04803-20261208T083000@VHSGÖTTINGEN OSTERODE GGMBH
SUMMARY:Stressreduzierung im Berufsalltag (Bildungsurlaub in Teilzeit) (26H04803) 
LOCATION:VHS-Gymnastikraum 307, Bahnhofsallee 7, 37081 Göttingen
END:VEVENT
BEGIN:VEVENT
DTSTAMP:20260420T063421
DTSTART;TZID=Europe/Berlin:20261209T083000
DTEND;TZID=Europe/Berlin:20261209T140000
UID:26H04803-20261209T083000@VHSGÖTTINGEN OSTERODE GGMBH
SUMMARY:Stressreduzierung im Berufsalltag (Bildungsurlaub in Teilzeit) (26H04803) 
LOCATION:VHS-Gymnastikraum 307, Bahnhofsallee 7, 37081 Göttingen
END:VEVENT
BEGIN:VEVENT
DTSTAMP:20260420T063421
DTSTART;TZID=Europe/Berlin:20261210T083000
DTEND;TZID=Europe/Berlin:20261210T140000
UID:26H04803-20261210T083000@VHSGÖTTINGEN OSTERODE GGMBH
SUMMARY:Stressreduzierung im Berufsalltag (Bildungsurlaub in Teilzeit) (26H04803) 
LOCATION:VHS-Gymnastikraum 307, Bahnhofsallee 7, 37081 Göttingen
END:VEVENT
BEGIN:VEVENT
DTSTAMP:20260420T063421
DTSTART;TZID=Europe/Berlin:20261211T083000
DTEND;TZID=Europe/Berlin:20261211T140000
UID:26H04803-20261211T083000@VHSGÖTTINGEN OSTERODE GGMBH
SUMMARY:Stressreduzierung im Berufsalltag (Bildungsurlaub in Teilzeit) (26H04803) 
LOCATION:VHS-Gymnastikraum 307, Bahnhofsallee 7, 37081 Göttingen
END:VEVENT
END:VCALENDAR