BEGIN:VCALENDAR
VERSION:2.0
PRODID:https://www.kufer.de/kuferweb / DE
METHOD:PUBLISH
CALSCALE:GREGORIAN
X-WR-TIMEZONE:Europe/Berlin
BEGIN:VTIMEZONE
TZID:Europe/Berlin
X-LIC-LOCATION:Europe/Berlin
BEGIN:DAYLIGHT
TZOFFSETFROM:+0100
TZOFFSETTO:+0200
TZNAME:CEST
DTSTART:19700329T020000
RRULE:FREQ=YEARLY;INTERVAL=1;BYDAY=-1SU;BYMONTH=3
END:DAYLIGHT
BEGIN:STANDARD
TZOFFSETFROM:+0200
TZOFFSETTO:+0100
TZNAME:CET
DTSTART:19701025T030000
RRULE:FREQ=YEARLY;INTERVAL=1;BYDAY=-1SU;BYMONTH=10
END:STANDARD
END:VTIMEZONE
BEGIN:VEVENT
DTSTAMP:20260424T172339
DTSTART;TZID=Europe/Berlin:20260910T180000
DTEND;TZID=Europe/Berlin:20260910T210000
UID:26H07020-20260910T180000@VHSGÖTTINGEN OSTERODE GGMBH
SUMMARY:Vegetarische Küche - leicht, lecker und proteinreich (26H07020) 
LOCATION:Ros (Familienzentrum); Küche, Anne-Frank-Weg 2, 37124 Rosdorf
END:VEVENT
END:VCALENDAR