BEGIN:VCALENDAR
VERSION:2.0
PRODID:https://www.kufer.de/kuferweb / DE
METHOD:PUBLISH
CALSCALE:GREGORIAN
X-WR-TIMEZONE:Europe/Berlin
BEGIN:VTIMEZONE
TZID:Europe/Berlin
X-LIC-LOCATION:Europe/Berlin
BEGIN:DAYLIGHT
TZOFFSETFROM:+0100
TZOFFSETTO:+0200
TZNAME:CEST
DTSTART:19700329T020000
RRULE:FREQ=YEARLY;INTERVAL=1;BYDAY=-1SU;BYMONTH=3
END:DAYLIGHT
BEGIN:STANDARD
TZOFFSETFROM:+0200
TZOFFSETTO:+0100
TZNAME:CET
DTSTART:19701025T030000
RRULE:FREQ=YEARLY;INTERVAL=1;BYDAY=-1SU;BYMONTH=10
END:STANDARD
END:VTIMEZONE
BEGIN:VEVENT
DTSTAMP:20260423T204043
DTSTART;TZID=Europe/Berlin:20260908T174500
DTEND;TZID=Europe/Berlin:20260908T193000
UID:26H30100-20260908T174500@VHSGÖTTINGEN OSTERODE GGMBH
SUMMARY:Aquarellmalerei - Grundkurs (26H30100) 
LOCATION:VHS-Raum 201, Bahnhofsallee 7, 37081 Göttingen
END:VEVENT
BEGIN:VEVENT
DTSTAMP:20260423T204043
DTSTART;TZID=Europe/Berlin:20260915T164500
DTEND;TZID=Europe/Berlin:20260915T174500
UID:26H30100-20260915T164500@VHSGÖTTINGEN OSTERODE GGMBH
SUMMARY:Aquarellmalerei - Grundkurs (26H30100) 
LOCATION:VHS-Raum 107, Bahnhofsallee 7, 37081 Göttingen
END:VEVENT
BEGIN:VEVENT
DTSTAMP:20260423T204043
DTSTART;TZID=Europe/Berlin:20260915T174500
DTEND;TZID=Europe/Berlin:20260915T193000
UID:26H30100-20260915T174500@VHSGÖTTINGEN OSTERODE GGMBH
SUMMARY:Aquarellmalerei - Grundkurs (26H30100) 
LOCATION:VHS-Raum 107, Bahnhofsallee 7, 37081 Göttingen
END:VEVENT
BEGIN:VEVENT
DTSTAMP:20260423T204043
DTSTART;TZID=Europe/Berlin:20260922T164500
DTEND;TZID=Europe/Berlin:20260922T174500
UID:26H30100-20260922T164500@VHSGÖTTINGEN OSTERODE GGMBH
SUMMARY:Aquarellmalerei - Grundkurs (26H30100) 
LOCATION:VHS-Raum 201, Bahnhofsallee 7, 37081 Göttingen
END:VEVENT
BEGIN:VEVENT
DTSTAMP:20260423T204043
DTSTART;TZID=Europe/Berlin:20260922T174500
DTEND;TZID=Europe/Berlin:20260922T193000
UID:26H30100-20260922T174500@VHSGÖTTINGEN OSTERODE GGMBH
SUMMARY:Aquarellmalerei - Grundkurs (26H30100) 
LOCATION:VHS-Raum 201, Bahnhofsallee 7, 37081 Göttingen
END:VEVENT
BEGIN:VEVENT
DTSTAMP:20260423T204043
DTSTART;TZID=Europe/Berlin:20260929T164500
DTEND;TZID=Europe/Berlin:20260929T174500
UID:26H30100-20260929T164500@VHSGÖTTINGEN OSTERODE GGMBH
SUMMARY:Aquarellmalerei - Grundkurs (26H30100) 
LOCATION:VHS-Raum 107, Bahnhofsallee 7, 37081 Göttingen
END:VEVENT
BEGIN:VEVENT
DTSTAMP:20260423T204043
DTSTART;TZID=Europe/Berlin:20260929T174500
DTEND;TZID=Europe/Berlin:20260929T193000
UID:26H30100-20260929T174500@VHSGÖTTINGEN OSTERODE GGMBH
SUMMARY:Aquarellmalerei - Grundkurs (26H30100) 
LOCATION:VHS-Raum 107, Bahnhofsallee 7, 37081 Göttingen
END:VEVENT
BEGIN:VEVENT
DTSTAMP:20260423T204043
DTSTART;TZID=Europe/Berlin:20261006T164500
DTEND;TZID=Europe/Berlin:20261006T174500
UID:26H30100-20261006T164500@VHSGÖTTINGEN OSTERODE GGMBH
SUMMARY:Aquarellmalerei - Grundkurs (26H30100) 
LOCATION:VHS-Raum 107, Bahnhofsallee 7, 37081 Göttingen
END:VEVENT
BEGIN:VEVENT
DTSTAMP:20260423T204043
DTSTART;TZID=Europe/Berlin:20261006T174500
DTEND;TZID=Europe/Berlin:20261006T193000
UID:26H30100-20261006T174500@VHSGÖTTINGEN OSTERODE GGMBH
SUMMARY:Aquarellmalerei - Grundkurs (26H30100) 
LOCATION:VHS-Raum 107, Bahnhofsallee 7, 37081 Göttingen
END:VEVENT
BEGIN:VEVENT
DTSTAMP:20260423T204043
DTSTART;TZID=Europe/Berlin:20261027T164500
DTEND;TZID=Europe/Berlin:20261027T174500
UID:26H30100-20261027T164500@VHSGÖTTINGEN OSTERODE GGMBH
SUMMARY:Aquarellmalerei - Grundkurs (26H30100) 
LOCATION:VHS-Raum 107, Bahnhofsallee 7, 37081 Göttingen
END:VEVENT
BEGIN:VEVENT
DTSTAMP:20260423T204043
DTSTART;TZID=Europe/Berlin:20261027T174500
DTEND;TZID=Europe/Berlin:20261027T193000
UID:26H30100-20261027T174500@VHSGÖTTINGEN OSTERODE GGMBH
SUMMARY:Aquarellmalerei - Grundkurs (26H30100) 
LOCATION:VHS-Raum 107, Bahnhofsallee 7, 37081 Göttingen
END:VEVENT
BEGIN:VEVENT
DTSTAMP:20260423T204043
DTSTART;TZID=Europe/Berlin:20261103T164500
DTEND;TZID=Europe/Berlin:20261103T174500
UID:26H30100-20261103T164500@VHSGÖTTINGEN OSTERODE GGMBH
SUMMARY:Aquarellmalerei - Grundkurs (26H30100) 
LOCATION:VHS-Raum 107, Bahnhofsallee 7, 37081 Göttingen
END:VEVENT
BEGIN:VEVENT
DTSTAMP:20260423T204043
DTSTART;TZID=Europe/Berlin:20261103T174500
DTEND;TZID=Europe/Berlin:20261103T193000
UID:26H30100-20261103T174500@VHSGÖTTINGEN OSTERODE GGMBH
SUMMARY:Aquarellmalerei - Grundkurs (26H30100) 
LOCATION:VHS-Raum 107, Bahnhofsallee 7, 37081 Göttingen
END:VEVENT
BEGIN:VEVENT
DTSTAMP:20260423T204043
DTSTART;TZID=Europe/Berlin:20261110T164500
DTEND;TZID=Europe/Berlin:20261110T174500
UID:26H30100-20261110T164500@VHSGÖTTINGEN OSTERODE GGMBH
SUMMARY:Aquarellmalerei - Grundkurs (26H30100) 
LOCATION:VHS-Raum 107, Bahnhofsallee 7, 37081 Göttingen
END:VEVENT
BEGIN:VEVENT
DTSTAMP:20260423T204043
DTSTART;TZID=Europe/Berlin:20261110T174500
DTEND;TZID=Europe/Berlin:20261110T193000
UID:26H30100-20261110T174500@VHSGÖTTINGEN OSTERODE GGMBH
SUMMARY:Aquarellmalerei - Grundkurs (26H30100) 
LOCATION:VHS-Raum 107, Bahnhofsallee 7, 37081 Göttingen
END:VEVENT
END:VCALENDAR