BEGIN:VCALENDAR
VERSION:2.0
PRODID:https://www.kufer.de/kuferweb / DE
METHOD:PUBLISH
CALSCALE:GREGORIAN
X-WR-TIMEZONE:Europe/Berlin
BEGIN:VTIMEZONE
TZID:Europe/Berlin
X-LIC-LOCATION:Europe/Berlin
BEGIN:DAYLIGHT
TZOFFSETFROM:+0100
TZOFFSETTO:+0200
TZNAME:CEST
DTSTART:19700329T020000
RRULE:FREQ=YEARLY;INTERVAL=1;BYDAY=-1SU;BYMONTH=3
END:DAYLIGHT
BEGIN:STANDARD
TZOFFSETFROM:+0200
TZOFFSETTO:+0100
TZNAME:CET
DTSTART:19701025T030000
RRULE:FREQ=YEARLY;INTERVAL=1;BYDAY=-1SU;BYMONTH=10
END:STANDARD
END:VTIMEZONE
BEGIN:VEVENT
DTSTAMP:20260425T004337
DTSTART;TZID=Europe/Berlin:20260929T170000
DTEND;TZID=Europe/Berlin:20260929T193000
UID:26H38200-20260929T170000@VHSGÖTTINGEN OSTERODE GGMBH
SUMMARY:Wolllust - Stricken für Anfänger*innen (26H38200) 
LOCATION:VHS-Raum 301, Bahnhofsallee 7, 37081 Göttingen
END:VEVENT
BEGIN:VEVENT
DTSTAMP:20260425T004337
DTSTART;TZID=Europe/Berlin:20261006T170000
DTEND;TZID=Europe/Berlin:20261006T193000
UID:26H38200-20261006T170000@VHSGÖTTINGEN OSTERODE GGMBH
SUMMARY:Wolllust - Stricken für Anfänger*innen (26H38200) 
LOCATION:VHS-Raum 301, Bahnhofsallee 7, 37081 Göttingen
END:VEVENT
BEGIN:VEVENT
DTSTAMP:20260425T004337
DTSTART;TZID=Europe/Berlin:20261027T170000
DTEND;TZID=Europe/Berlin:20261027T193000
UID:26H38200-20261027T170000@VHSGÖTTINGEN OSTERODE GGMBH
SUMMARY:Wolllust - Stricken für Anfänger*innen (26H38200) 
LOCATION:VHS-Raum 301, Bahnhofsallee 7, 37081 Göttingen
END:VEVENT
BEGIN:VEVENT
DTSTAMP:20260425T004337
DTSTART;TZID=Europe/Berlin:20261103T170000
DTEND;TZID=Europe/Berlin:20261103T193000
UID:26H38200-20261103T170000@VHSGÖTTINGEN OSTERODE GGMBH
SUMMARY:Wolllust - Stricken für Anfänger*innen (26H38200) 
LOCATION:VHS-Raum 301, Bahnhofsallee 7, 37081 Göttingen
END:VEVENT
END:VCALENDAR