BEGIN:VCALENDAR
VERSION:2.0
PRODID:https://www.kufer.de/kuferweb / DE
METHOD:PUBLISH
CALSCALE:GREGORIAN
X-WR-TIMEZONE:Europe/Berlin
BEGIN:VTIMEZONE
TZID:Europe/Berlin
X-LIC-LOCATION:Europe/Berlin
BEGIN:DAYLIGHT
TZOFFSETFROM:+0100
TZOFFSETTO:+0200
TZNAME:CEST
DTSTART:19700329T020000
RRULE:FREQ=YEARLY;INTERVAL=1;BYDAY=-1SU;BYMONTH=3
END:DAYLIGHT
BEGIN:STANDARD
TZOFFSETFROM:+0200
TZOFFSETTO:+0100
TZNAME:CET
DTSTART:19701025T030000
RRULE:FREQ=YEARLY;INTERVAL=1;BYDAY=-1SU;BYMONTH=10
END:STANDARD
END:VTIMEZONE
BEGIN:VEVENT
DTSTAMP:20260424T105017
DTSTART;TZID=Europe/Berlin:20270114T181500
DTEND;TZID=Europe/Berlin:20270114T191500
UID:27F03121-20270114T181500@VHSGÖTTINGEN OSTERODE GGMBH
SUMMARY:Pilates (27F03121) 
LOCATION:Ros (Familienzentrum); Gymnastikraum, Anne-Frank-Weg 2, 37124 Rosdorf
END:VEVENT
BEGIN:VEVENT
DTSTAMP:20260424T105017
DTSTART;TZID=Europe/Berlin:20270121T181500
DTEND;TZID=Europe/Berlin:20270121T191500
UID:27F03121-20270121T181500@VHSGÖTTINGEN OSTERODE GGMBH
SUMMARY:Pilates (27F03121) 
LOCATION:Ros (Familienzentrum); Gymnastikraum, Anne-Frank-Weg 2, 37124 Rosdorf
END:VEVENT
BEGIN:VEVENT
DTSTAMP:20260424T105017
DTSTART;TZID=Europe/Berlin:20270128T181500
DTEND;TZID=Europe/Berlin:20270128T191500
UID:27F03121-20270128T181500@VHSGÖTTINGEN OSTERODE GGMBH
SUMMARY:Pilates (27F03121) 
LOCATION:Ros (Familienzentrum); Gymnastikraum, Anne-Frank-Weg 2, 37124 Rosdorf
END:VEVENT
BEGIN:VEVENT
DTSTAMP:20260424T105017
DTSTART;TZID=Europe/Berlin:20270204T181500
DTEND;TZID=Europe/Berlin:20270204T191500
UID:27F03121-20270204T181500@VHSGÖTTINGEN OSTERODE GGMBH
SUMMARY:Pilates (27F03121) 
LOCATION:Ros (Familienzentrum); Gymnastikraum, Anne-Frank-Weg 2, 37124 Rosdorf
END:VEVENT
BEGIN:VEVENT
DTSTAMP:20260424T105017
DTSTART;TZID=Europe/Berlin:20270211T181500
DTEND;TZID=Europe/Berlin:20270211T191500
UID:27F03121-20270211T181500@VHSGÖTTINGEN OSTERODE GGMBH
SUMMARY:Pilates (27F03121) 
LOCATION:Ros (Familienzentrum); Gymnastikraum, Anne-Frank-Weg 2, 37124 Rosdorf
END:VEVENT
BEGIN:VEVENT
DTSTAMP:20260424T105017
DTSTART;TZID=Europe/Berlin:20270218T181500
DTEND;TZID=Europe/Berlin:20270218T191500
UID:27F03121-20270218T181500@VHSGÖTTINGEN OSTERODE GGMBH
SUMMARY:Pilates (27F03121) 
LOCATION:Ros (Familienzentrum); Gymnastikraum, Anne-Frank-Weg 2, 37124 Rosdorf
END:VEVENT
BEGIN:VEVENT
DTSTAMP:20260424T105017
DTSTART;TZID=Europe/Berlin:20270225T181500
DTEND;TZID=Europe/Berlin:20270225T191500
UID:27F03121-20270225T181500@VHSGÖTTINGEN OSTERODE GGMBH
SUMMARY:Pilates (27F03121) 
LOCATION:Ros (Familienzentrum); Gymnastikraum, Anne-Frank-Weg 2, 37124 Rosdorf
END:VEVENT
BEGIN:VEVENT
DTSTAMP:20260424T105017
DTSTART;TZID=Europe/Berlin:20270304T181500
DTEND;TZID=Europe/Berlin:20270304T191500
UID:27F03121-20270304T181500@VHSGÖTTINGEN OSTERODE GGMBH
SUMMARY:Pilates (27F03121) 
LOCATION:Ros (Familienzentrum); Gymnastikraum, Anne-Frank-Weg 2, 37124 Rosdorf
END:VEVENT
BEGIN:VEVENT
DTSTAMP:20260424T105017
DTSTART;TZID=Europe/Berlin:20270311T181500
DTEND;TZID=Europe/Berlin:20270311T191500
UID:27F03121-20270311T181500@VHSGÖTTINGEN OSTERODE GGMBH
SUMMARY:Pilates (27F03121) 
LOCATION:Ros (Familienzentrum); Gymnastikraum, Anne-Frank-Weg 2, 37124 Rosdorf
END:VEVENT
BEGIN:VEVENT
DTSTAMP:20260424T105017
DTSTART;TZID=Europe/Berlin:20270318T181500
DTEND;TZID=Europe/Berlin:20270318T191500
UID:27F03121-20270318T181500@VHSGÖTTINGEN OSTERODE GGMBH
SUMMARY:Pilates (27F03121) 
LOCATION:Ros (Familienzentrum); Gymnastikraum, Anne-Frank-Weg 2, 37124 Rosdorf
END:VEVENT
END:VCALENDAR