BEGIN:VCALENDAR
VERSION:2.0
PRODID:https://www.kufer.de/kuferweb / DE
METHOD:PUBLISH
CALSCALE:GREGORIAN
X-WR-TIMEZONE:Europe/Berlin
BEGIN:VTIMEZONE
TZID:Europe/Berlin
X-LIC-LOCATION:Europe/Berlin
BEGIN:DAYLIGHT
TZOFFSETFROM:+0100
TZOFFSETTO:+0200
TZNAME:CEST
DTSTART:19700329T020000
RRULE:FREQ=YEARLY;INTERVAL=1;BYDAY=-1SU;BYMONTH=3
END:DAYLIGHT
BEGIN:STANDARD
TZOFFSETFROM:+0200
TZOFFSETTO:+0100
TZNAME:CET
DTSTART:19701025T030000
RRULE:FREQ=YEARLY;INTERVAL=1;BYDAY=-1SU;BYMONTH=10
END:STANDARD
END:VTIMEZONE
BEGIN:VEVENT
DTSTAMP:20260424T031428
DTSTART;TZID=Europe/Berlin:20270111T163000
DTEND;TZID=Europe/Berlin:20270111T180000
UID:27F04205-20270111T163000@VHSGÖTTINGEN OSTERODE GGMBH
SUMMARY:Medical Yoga - Gesundheit fördern mit Bewegung und Entspannung aus dem Hatha Yoga (Präventionsangebot § 20 Abs.1 SGB V) (27F04205) 
LOCATION:VHS-Gymnastikraum 307, Bahnhofsallee 7, 37081 Göttingen
END:VEVENT
BEGIN:VEVENT
DTSTAMP:20260424T031428
DTSTART;TZID=Europe/Berlin:20270118T163000
DTEND;TZID=Europe/Berlin:20270118T180000
UID:27F04205-20270118T163000@VHSGÖTTINGEN OSTERODE GGMBH
SUMMARY:Medical Yoga - Gesundheit fördern mit Bewegung und Entspannung aus dem Hatha Yoga (Präventionsangebot § 20 Abs.1 SGB V) (27F04205) 
LOCATION:VHS-Gymnastikraum 307, Bahnhofsallee 7, 37081 Göttingen
END:VEVENT
BEGIN:VEVENT
DTSTAMP:20260424T031428
DTSTART;TZID=Europe/Berlin:20270125T163000
DTEND;TZID=Europe/Berlin:20270125T180000
UID:27F04205-20270125T163000@VHSGÖTTINGEN OSTERODE GGMBH
SUMMARY:Medical Yoga - Gesundheit fördern mit Bewegung und Entspannung aus dem Hatha Yoga (Präventionsangebot § 20 Abs.1 SGB V) (27F04205) 
LOCATION:VHS-Gymnastikraum 307, Bahnhofsallee 7, 37081 Göttingen
END:VEVENT
BEGIN:VEVENT
DTSTAMP:20260424T031428
DTSTART;TZID=Europe/Berlin:20270201T163000
DTEND;TZID=Europe/Berlin:20270201T180000
UID:27F04205-20270201T163000@VHSGÖTTINGEN OSTERODE GGMBH
SUMMARY:Medical Yoga - Gesundheit fördern mit Bewegung und Entspannung aus dem Hatha Yoga (Präventionsangebot § 20 Abs.1 SGB V) (27F04205) 
LOCATION:VHS-Gymnastikraum 307, Bahnhofsallee 7, 37081 Göttingen
END:VEVENT
BEGIN:VEVENT
DTSTAMP:20260424T031428
DTSTART;TZID=Europe/Berlin:20270208T163000
DTEND;TZID=Europe/Berlin:20270208T180000
UID:27F04205-20270208T163000@VHSGÖTTINGEN OSTERODE GGMBH
SUMMARY:Medical Yoga - Gesundheit fördern mit Bewegung und Entspannung aus dem Hatha Yoga (Präventionsangebot § 20 Abs.1 SGB V) (27F04205) 
LOCATION:VHS-Gymnastikraum 307, Bahnhofsallee 7, 37081 Göttingen
END:VEVENT
BEGIN:VEVENT
DTSTAMP:20260424T031428
DTSTART;TZID=Europe/Berlin:20270215T163000
DTEND;TZID=Europe/Berlin:20270215T180000
UID:27F04205-20270215T163000@VHSGÖTTINGEN OSTERODE GGMBH
SUMMARY:Medical Yoga - Gesundheit fördern mit Bewegung und Entspannung aus dem Hatha Yoga (Präventionsangebot § 20 Abs.1 SGB V) (27F04205) 
LOCATION:VHS-Gymnastikraum 307, Bahnhofsallee 7, 37081 Göttingen
END:VEVENT
BEGIN:VEVENT
DTSTAMP:20260424T031428
DTSTART;TZID=Europe/Berlin:20270222T163000
DTEND;TZID=Europe/Berlin:20270222T180000
UID:27F04205-20270222T163000@VHSGÖTTINGEN OSTERODE GGMBH
SUMMARY:Medical Yoga - Gesundheit fördern mit Bewegung und Entspannung aus dem Hatha Yoga (Präventionsangebot § 20 Abs.1 SGB V) (27F04205) 
LOCATION:VHS-Gymnastikraum 307, Bahnhofsallee 7, 37081 Göttingen
END:VEVENT
BEGIN:VEVENT
DTSTAMP:20260424T031428
DTSTART;TZID=Europe/Berlin:20270301T163000
DTEND;TZID=Europe/Berlin:20270301T180000
UID:27F04205-20270301T163000@VHSGÖTTINGEN OSTERODE GGMBH
SUMMARY:Medical Yoga - Gesundheit fördern mit Bewegung und Entspannung aus dem Hatha Yoga (Präventionsangebot § 20 Abs.1 SGB V) (27F04205) 
LOCATION:VHS-Gymnastikraum 307, Bahnhofsallee 7, 37081 Göttingen
END:VEVENT
END:VCALENDAR