BEGIN:VCALENDAR
VERSION:2.0
PRODID:https://www.kufer.de/kuferweb / DE
METHOD:PUBLISH
CALSCALE:GREGORIAN
X-WR-TIMEZONE:Europe/Berlin
BEGIN:VTIMEZONE
TZID:Europe/Berlin
X-LIC-LOCATION:Europe/Berlin
BEGIN:DAYLIGHT
TZOFFSETFROM:+0100
TZOFFSETTO:+0200
TZNAME:CEST
DTSTART:19700329T020000
RRULE:FREQ=YEARLY;INTERVAL=1;BYDAY=-1SU;BYMONTH=3
END:DAYLIGHT
BEGIN:STANDARD
TZOFFSETFROM:+0200
TZOFFSETTO:+0100
TZNAME:CET
DTSTART:19701025T030000
RRULE:FREQ=YEARLY;INTERVAL=1;BYDAY=-1SU;BYMONTH=10
END:STANDARD
END:VTIMEZONE
BEGIN:VEVENT
DTSTAMP:20260425T025636
DTSTART;TZID=Europe/Berlin:20270322T090000
DTEND;TZID=Europe/Berlin:20270322T131500
UID:27F04801-20270322T090000@VHSGÖTTINGEN OSTERODE GGMBH
SUMMARY:Gesunde Ernährung und Stressbewältigung im (Berufs-) Alltag: Ayurveda und Yoga - Bildungsurlaub in Teilzeit (27F04801) 
LOCATION:Ros (Familienzentrum) Multifunktionsraum, Anne-Frank-Weg 2, 37124 Rosdorf
END:VEVENT
BEGIN:VEVENT
DTSTAMP:20260425T025636
DTSTART;TZID=Europe/Berlin:20270323T090000
DTEND;TZID=Europe/Berlin:20270323T131500
UID:27F04801-20270323T090000@VHSGÖTTINGEN OSTERODE GGMBH
SUMMARY:Gesunde Ernährung und Stressbewältigung im (Berufs-) Alltag: Ayurveda und Yoga - Bildungsurlaub in Teilzeit (27F04801) 
LOCATION:Ros (Familienzentrum) Multifunktionsraum, Anne-Frank-Weg 2, 37124 Rosdorf
END:VEVENT
BEGIN:VEVENT
DTSTAMP:20260425T025636
DTSTART;TZID=Europe/Berlin:20270324T090000
DTEND;TZID=Europe/Berlin:20270324T131500
UID:27F04801-20270324T090000@VHSGÖTTINGEN OSTERODE GGMBH
SUMMARY:Gesunde Ernährung und Stressbewältigung im (Berufs-) Alltag: Ayurveda und Yoga - Bildungsurlaub in Teilzeit (27F04801) 
LOCATION:Ros (Familienzentrum) Multifunktionsraum, Anne-Frank-Weg 2, 37124 Rosdorf
END:VEVENT
BEGIN:VEVENT
DTSTAMP:20260425T025636
DTSTART;TZID=Europe/Berlin:20270325T090000
DTEND;TZID=Europe/Berlin:20270325T131500
UID:27F04801-20270325T090000@VHSGÖTTINGEN OSTERODE GGMBH
SUMMARY:Gesunde Ernährung und Stressbewältigung im (Berufs-) Alltag: Ayurveda und Yoga - Bildungsurlaub in Teilzeit (27F04801) 
LOCATION:Ros (Familienzentrum) Multifunktionsraum, Anne-Frank-Weg 2, 37124 Rosdorf
END:VEVENT
END:VCALENDAR