BEGIN:VCALENDAR
VERSION:2.0
PRODID:https://www.kufer.de/kuferweb / DE
METHOD:PUBLISH
CALSCALE:GREGORIAN
X-WR-TIMEZONE:Europe/Berlin
BEGIN:VTIMEZONE
TZID:Europe/Berlin
X-LIC-LOCATION:Europe/Berlin
BEGIN:DAYLIGHT
TZOFFSETFROM:+0100
TZOFFSETTO:+0200
TZNAME:CEST
DTSTART:19700329T020000
RRULE:FREQ=YEARLY;INTERVAL=1;BYDAY=-1SU;BYMONTH=3
END:DAYLIGHT
BEGIN:STANDARD
TZOFFSETFROM:+0200
TZOFFSETTO:+0100
TZNAME:CET
DTSTART:19701025T030000
RRULE:FREQ=YEARLY;INTERVAL=1;BYDAY=-1SU;BYMONTH=10
END:STANDARD
END:VTIMEZONE
BEGIN:VEVENT
DTSTAMP:20260420T214238
DTSTART;TZID=Europe/Berlin:20270308T093000
DTEND;TZID=Europe/Berlin:20270308T170000
UID:27F04815-20270308T093000@VHSGÖTTINGEN OSTERODE GGMBH
SUMMARY:Aus vollem Herzen leben - und arbeiten (Bildungsurlaub) (27F04815) 
LOCATION:Haus Consens Seminarhaus, Hohe Linde 14, 37075 Göttingen-Herberhausen
END:VEVENT
BEGIN:VEVENT
DTSTAMP:20260420T214238
DTSTART;TZID=Europe/Berlin:20270309T093000
DTEND;TZID=Europe/Berlin:20270309T170000
UID:27F04815-20270309T093000@VHSGÖTTINGEN OSTERODE GGMBH
SUMMARY:Aus vollem Herzen leben - und arbeiten (Bildungsurlaub) (27F04815) 
LOCATION:Haus Consens Seminarhaus, Hohe Linde 14, 37075 Göttingen-Herberhausen
END:VEVENT
BEGIN:VEVENT
DTSTAMP:20260420T214238
DTSTART;TZID=Europe/Berlin:20270310T093000
DTEND;TZID=Europe/Berlin:20270310T170000
UID:27F04815-20270310T093000@VHSGÖTTINGEN OSTERODE GGMBH
SUMMARY:Aus vollem Herzen leben - und arbeiten (Bildungsurlaub) (27F04815) 
LOCATION:Haus Consens Seminarhaus, Hohe Linde 14, 37075 Göttingen-Herberhausen
END:VEVENT
BEGIN:VEVENT
DTSTAMP:20260420T214238
DTSTART;TZID=Europe/Berlin:20270311T093000
DTEND;TZID=Europe/Berlin:20270311T170000
UID:27F04815-20270311T093000@VHSGÖTTINGEN OSTERODE GGMBH
SUMMARY:Aus vollem Herzen leben - und arbeiten (Bildungsurlaub) (27F04815) 
LOCATION:Haus Consens Seminarhaus, Hohe Linde 14, 37075 Göttingen-Herberhausen
END:VEVENT
BEGIN:VEVENT
DTSTAMP:20260420T214238
DTSTART;TZID=Europe/Berlin:20270312T093000
DTEND;TZID=Europe/Berlin:20270312T170000
UID:27F04815-20270312T093000@VHSGÖTTINGEN OSTERODE GGMBH
SUMMARY:Aus vollem Herzen leben - und arbeiten (Bildungsurlaub) (27F04815) 
LOCATION:Haus Consens Seminarhaus, Hohe Linde 14, 37075 Göttingen-Herberhausen
END:VEVENT
END:VCALENDAR