BEGIN:VCALENDAR
VERSION:2.0
PRODID:https://www.kufer.de/kuferweb / DE
METHOD:PUBLISH
CALSCALE:GREGORIAN
X-WR-TIMEZONE:Europe/Berlin
BEGIN:VTIMEZONE
TZID:Europe/Berlin
X-LIC-LOCATION:Europe/Berlin
BEGIN:DAYLIGHT
TZOFFSETFROM:+0100
TZOFFSETTO:+0200
TZNAME:CEST
DTSTART:19700329T020000
RRULE:FREQ=YEARLY;INTERVAL=1;BYDAY=-1SU;BYMONTH=3
END:DAYLIGHT
BEGIN:STANDARD
TZOFFSETFROM:+0200
TZOFFSETTO:+0100
TZNAME:CET
DTSTART:19701025T030000
RRULE:FREQ=YEARLY;INTERVAL=1;BYDAY=-1SU;BYMONTH=10
END:STANDARD
END:VTIMEZONE
BEGIN:VEVENT
DTSTAMP:20260424T233509
DTSTART;TZID=Europe/Berlin:20270621T083000
DTEND;TZID=Europe/Berlin:20270621T160000
UID:27F87425-20270621T083000@VHSGÖTTINGEN OSTERODE GGMBH
SUMMARY:Excel - Grundkurs (Bildungsurlaub) (27F87425) 
LOCATION:VHS-Computerraum 101, Bahnhofsallee 7, 37081 Göttingen
END:VEVENT
BEGIN:VEVENT
DTSTAMP:20260424T233509
DTSTART;TZID=Europe/Berlin:20270622T083000
DTEND;TZID=Europe/Berlin:20270622T160000
UID:27F87425-20270622T083000@VHSGÖTTINGEN OSTERODE GGMBH
SUMMARY:Excel - Grundkurs (Bildungsurlaub) (27F87425) 
LOCATION:VHS-Computerraum 101, Bahnhofsallee 7, 37081 Göttingen
END:VEVENT
BEGIN:VEVENT
DTSTAMP:20260424T233509
DTSTART;TZID=Europe/Berlin:20270623T083000
DTEND;TZID=Europe/Berlin:20270623T160000
UID:27F87425-20270623T083000@VHSGÖTTINGEN OSTERODE GGMBH
SUMMARY:Excel - Grundkurs (Bildungsurlaub) (27F87425) 
LOCATION:VHS-Computerraum 101, Bahnhofsallee 7, 37081 Göttingen
END:VEVENT
BEGIN:VEVENT
DTSTAMP:20260424T233509
DTSTART;TZID=Europe/Berlin:20270624T083000
DTEND;TZID=Europe/Berlin:20270624T160000
UID:27F87425-20270624T083000@VHSGÖTTINGEN OSTERODE GGMBH
SUMMARY:Excel - Grundkurs (Bildungsurlaub) (27F87425) 
LOCATION:VHS-Computerraum 101, Bahnhofsallee 7, 37081 Göttingen
END:VEVENT
BEGIN:VEVENT
DTSTAMP:20260424T233509
DTSTART;TZID=Europe/Berlin:20270625T083000
DTEND;TZID=Europe/Berlin:20270625T160000
UID:27F87425-20270625T083000@VHSGÖTTINGEN OSTERODE GGMBH
SUMMARY:Excel - Grundkurs (Bildungsurlaub) (27F87425) 
LOCATION:VHS-Computerraum 101, Bahnhofsallee 7, 37081 Göttingen
END:VEVENT
END:VCALENDAR